BEGIN:VCALENDAR
VERSION:2.0
PRODID:-//Mindfulness LAB — Sylwia RoMa — HOLI Body&amp;Mind - ECPv6.15.14//NONSGML v1.0//EN
CALSCALE:GREGORIAN
METHOD:PUBLISH
X-WR-CALNAME:Mindfulness LAB — Sylwia RoMa — HOLI Body&amp;Mind
X-ORIGINAL-URL:https://centrumholi.pl
X-WR-CALDESC:Wydarzenia dla Mindfulness LAB — Sylwia RoMa — HOLI Body&amp;Mind
REFRESH-INTERVAL;VALUE=DURATION:PT1H
X-Robots-Tag:noindex
X-PUBLISHED-TTL:PT1H
BEGIN:VTIMEZONE
TZID:Europe/Warsaw
BEGIN:DAYLIGHT
TZOFFSETFROM:+0100
TZOFFSETTO:+0200
TZNAME:CEST
DTSTART:20160327T010000
END:DAYLIGHT
BEGIN:STANDARD
TZOFFSETFROM:+0200
TZOFFSETTO:+0100
TZNAME:CET
DTSTART:20161030T010000
END:STANDARD
BEGIN:DAYLIGHT
TZOFFSETFROM:+0100
TZOFFSETTO:+0200
TZNAME:CEST
DTSTART:20170326T010000
END:DAYLIGHT
BEGIN:STANDARD
TZOFFSETFROM:+0200
TZOFFSETTO:+0100
TZNAME:CET
DTSTART:20171029T010000
END:STANDARD
BEGIN:DAYLIGHT
TZOFFSETFROM:+0100
TZOFFSETTO:+0200
TZNAME:CEST
DTSTART:20180325T010000
END:DAYLIGHT
BEGIN:STANDARD
TZOFFSETFROM:+0200
TZOFFSETTO:+0100
TZNAME:CET
DTSTART:20181028T010000
END:STANDARD
END:VTIMEZONE
BEGIN:VEVENT
DTSTART;TZID=Europe/Warsaw:20170520T100000
DTEND;TZID=Europe/Warsaw:20170520T160000
DTSTAMP:20260420T043626
CREATED:20170330T125318Z
LAST-MODIFIED:20170330T125318Z
UID:897-1495274400-1495296000@centrumholi.pl
SUMMARY:Umysł wolny od blokad i ograniczeń
DESCRIPTION:Dzisiejszy świat pędzi\, a człowiek razem z nim. Nie zawsze czujemy się z tym komfortowo. Pojawia się obezwładniający\, emocjonalny chaos\, wszechogarniający strach\, który zatrzymuje w miejscu.\n\n\nTen rodzaj przeżycia jest wynikiem stresu\, z którym często sami sobie nie radzimy. Negatywne emocje i uczucia stają się w efekcie truciznami dla ludzkiego ciała.\n\n\nNiejednokrotnie bolesna przeszłość staje się więzieniem\, które jak to więzienie trzyma w miejscu\, blokując nasz potencjał\, tym samym ludzki rozwój i wzrost.\n\n\n \n\n\nIstnieje sposób\, rozwiązanie\, by uwolnić się z tego „błędnego koła”. \n\n\nMetody przedstawione na warsztacie pozwolą skutecznie\, choć stopniowo powrócić do równowagi emocjonalnej i mieć większy wpływ\, na to\, w jaki sposób przeżywamy własne emocje.\n\n\nPozwoli to również lepiej zrozumieć samego siebie.\n\n\nNauczysz się prostej techniki radzenia sobie z codziennym stresem. Ponadto poznasz metody pozwalające świadomie transformować ograniczające przekonania z przeszłości.\n\n\nDoświadczysz możliwości przebywania w przestrzeni serca i bycia w uważności chwili. Bycia tu i teraz.\n\n\nDodatkowo otrzymasz technikę oddechową\, dzieki\, której rozluźnisz ciało poprzez uspokojenie własnego umysłu. Wszystkie metody i techniki znajdują potwierdzenie naukowe. Wykorzystywane są\n\n\none do poprawy komfortu ludzkiego życia. Ćwiczenia mają za zadanie utrzymanie dobrej kondycji psychofizycznej. Zapraszamy Cię na to jedyne w swoim rodzaju wydarzenie.\n\n\n \n\n\nŻyczymy Ci dużo dobrego i do zobaczenia już 20.05.2017 r.\n\n\n \n\n\nProgram warsztatu:\n\n\n– przestrzeń serca\n\n\n– mózg\, serce\, komunikacja\n\n\n– zgodnosc półkul mózgowych\n\n\n– synchronizacja półkul a zmiana przekonań\n\n\n– technika zmiany przekonań\n\n\n– emocje i stany wewnetrzne\n\n\n– akceptacja jako początek transformacji\n\n\n– technika uwalniania od każdego bolesnego lub niechcianego uczucia i emocji\n\n\n– technika oddechowa -medytacja\n\n\n \n\n\nKorzyści:\n\n\n– obniżenie symptomów stresu\n\n\n– umiejętność radzenia sobie w sytuacjach stresujących\n\n\n– poprawa relacji z innymi\n\n\n– podejmowanie lepszych decyzji\n\n\n– większy entuzjazm i energia życiowa\n\n\n– zwiększona zdolność do relaksacji\n\n\n– podwyższenie własnej samooceny\n\n\n\nPROWADZĄCY:\n\n\nJoanna Wieczorek – trener & coach\,\n\n\nPiotr Tomaszewski- trener & coach\n\n\nO nas:\n\n\n\n\n\n\nJesteśmy Partnerami w życiu osobistym i zawodowym – co nieczęsto się zdarza 🙂\n\n\nChcemy pokazywać\, jak można skutecznie łączyć kobiecą mądrość i męską aktywność.\n\n\nTakie połączenie umożliwia także lepsze i skuteczniejsze docieranie do osób\, z którymi spotykamy się zawodowo. Dlaczego? Ponieważ każdy potrzebuje pewnej równowagi elementu męskiego i żeńskiego\, a co za tym idzie – innej metody pracy ze sobą.Jesteśmy spełnionymi ludźmi. Wszystko\, co robimy dziś jest przyjemnością i chęcią wspierania innych na drodze ich rozwoju. Droga\, jaką przechodzi większość z nas to podświadoma realizacja potencjału naszych rodziców. I na tym większość ludzi kończy. Realizują\, lub próbują realizować wzorce z dzieciństwa. Ale najważniejsze jest to\, co jest POZA TYM… – jakość życia\, której większość z nas nie zna. Dlaczego? Bo ich wzorzec odziedziczony po bliskich tego nie zawierał. Wielu ludzi czuje\, że mimo upływu lat nie realizuje swojego PEŁNEGO potencjału możliwości – tak\, jakby coś W NAS Z CZASEM UMIERAŁO… To\, co chcemy dać tym\, z którymi pracujemy\, to możliwość obudzenia odwagi\, by odkrywać życie bogatsze i ciekawsze niż dotychczas. Chcemy inspirować i wzniecać ogień motywacji\, który drzemie w każdym z nas! Dlaczego? Ponieważ lubimy ludzi i widzimy ich jako partnerów wspólnego rozwoju. Każdy\, kogo spotykamy jest wartościowy sam w sobie i to staramy się w ludziach obudzić – POCZUCIE ICH WŁASNEJ WARTOŚCI. Pomagamy innym uświadomić sobie\, że są wartościowi tacy\, jacy są\, a na ZMIANĘ nigdy nie jest za późno!\n\n\nAbsolwenci szkoły trenerów Cognitus -Katarzyna Świątkowska. Ukończony kurs kompetencji w zakresie Minfulness – Trening Uważności. Uczestnicy licznych konferecji z udziałem \,Kamili Rowińskiej\, prof. Rafała Ohme\,dr Łukasza Marciniaka\, dr Małgorzaty Sidor-Rządkowskiej\, Justyny Krawczyk(JBSK)\, Bartosza Berendt(Izba Coachingu) Adama Walerjańczyka\, Piotra Ławacza . Szkolenie z Motywacji Błyskawicznej u- Agnieszka Maruda Sperczak – jedynej trenerki tej metody w Polsce.\n\n\n\n \nORGANIZACJA:\nZapisy: klub@centrumholi.pl\n\n\nInwestycja:\n\n\nWpłata do 06.05.2017 – 130 zł\n\n\nWpłata do 12.05.2017 – 150 zł\n\n\nPo 12.05.2017 i w dniu warsztatów – 170 zł\n\n\n \n\n\nRabaty:\n\n\nZ Osobą towarzyszącą – 220 zł (110 zł/Osoba)\n\n\nWpłata jednorazowa za dwa warsztaty kwiecień/maj – 220zł/Osoba.\n\n\n \n\n\nWpłaty proszę przesyłać na konto:\n\n\nNr.konta: \n\n\n51 1020 3408 0000 4102 0206 7163\n\n\nJoanna Wieczorek\n\n\nW tytule przelewu prosimy podać: AiP\, data warsztatu\, imię i nazwisko Uczestnika.\n\n\n 
URL:https://centrumholi.pl/event/umysl-wolny-od-blokad-i-ograniczen/
CATEGORIES:Coaching,Rozwój Osobisty
ATTACH;FMTTYPE=:
END:VEVENT
END:VCALENDAR