BEGIN:VCALENDAR
VERSION:2.0
PRODID:-//Mindfulness LAB — Sylwia RoMa — HOLI Body&amp;Mind - ECPv6.15.14//NONSGML v1.0//EN
CALSCALE:GREGORIAN
METHOD:PUBLISH
X-ORIGINAL-URL:https://centrumholi.pl
X-WR-CALDESC:Wydarzenia dla Mindfulness LAB — Sylwia RoMa — HOLI Body&amp;Mind
REFRESH-INTERVAL;VALUE=DURATION:PT1H
X-Robots-Tag:noindex
X-PUBLISHED-TTL:PT1H
BEGIN:VTIMEZONE
TZID:Europe/Warsaw
BEGIN:DAYLIGHT
TZOFFSETFROM:+0100
TZOFFSETTO:+0200
TZNAME:CEST
DTSTART:20140330T010000
END:DAYLIGHT
BEGIN:STANDARD
TZOFFSETFROM:+0200
TZOFFSETTO:+0100
TZNAME:CET
DTSTART:20141026T010000
END:STANDARD
BEGIN:DAYLIGHT
TZOFFSETFROM:+0100
TZOFFSETTO:+0200
TZNAME:CEST
DTSTART:20150329T010000
END:DAYLIGHT
BEGIN:STANDARD
TZOFFSETFROM:+0200
TZOFFSETTO:+0100
TZNAME:CET
DTSTART:20151025T010000
END:STANDARD
BEGIN:DAYLIGHT
TZOFFSETFROM:+0100
TZOFFSETTO:+0200
TZNAME:CEST
DTSTART:20160327T010000
END:DAYLIGHT
BEGIN:STANDARD
TZOFFSETFROM:+0200
TZOFFSETTO:+0100
TZNAME:CET
DTSTART:20161030T010000
END:STANDARD
BEGIN:DAYLIGHT
TZOFFSETFROM:+0100
TZOFFSETTO:+0200
TZNAME:CEST
DTSTART:20170326T010000
END:DAYLIGHT
BEGIN:STANDARD
TZOFFSETFROM:+0200
TZOFFSETTO:+0100
TZNAME:CET
DTSTART:20171029T010000
END:STANDARD
BEGIN:DAYLIGHT
TZOFFSETFROM:+0100
TZOFFSETTO:+0200
TZNAME:CEST
DTSTART:20180325T010000
END:DAYLIGHT
BEGIN:STANDARD
TZOFFSETFROM:+0200
TZOFFSETTO:+0100
TZNAME:CET
DTSTART:20181028T010000
END:STANDARD
END:VTIMEZONE
BEGIN:VEVENT
DTSTART;TZID=Europe/Warsaw:20170513T090000
DTEND;TZID=Europe/Warsaw:20170515T170000
DTSTAMP:20260420T073608
CREATED:20170418T213223Z
LAST-MODIFIED:20170418T213223Z
UID:913-1494666000-1494867600@centrumholi.pl
SUMMARY:Art and Science of Mindfulness - PhD Marilyn Atkinson
DESCRIPTION:Art & Science of Mindfulness\n13-15.04.17 Łódź\nprowadzony przez PhD Marilyn Atkinson \n\nW dzisiejszym świecie gdzie technologia i informacja pozwala nam na zrobienie jeszcze więcej w jeszcze krótszym czasie\, gdzie stres towarzyszy nam wszystkim i nierzadko wywołuje depresje lub inne choroby skutecznie uniemożliwiające nam efektywną pracę i spokój wewnętrzny\, praktyki mindfulness zaczynają odgrywać coraz większą rolę w sprawnym funkcjonowaniu wielu organizacji. Firmy takie jak Apple\, Procter & Gamble\,  Deutsche Bank\, Starbucks\, Google i wiele innych zapraszają do współpracy coachów mindfulness dbając nie tylko o dobre samopoczucie pracowników ale aby przede wszystkim zwiększyć efektywność działania firmy i osób w niej pracujących. \nJuż dziś wiemy\, że praktyka mindfulness w biznesie znacznie wpływa na funkcjonowanie firm w wielu obszarach równocześnie. Poprzez pełne skupienie\, uważność  i obecność praktyki mindfulness podwyższają osobistą efektywność w pracy\, wspierają efektywną komunikacje w zespołach\, zwiększają zdolność podejmowania trafnych decyzji bez zbędnego stresu\, podnoszą samoświadomość i umiejętność zarządzania własnymi emocjami\, pozwalają pracownikom zachować wewnętrzny spokój i umożliwiają skupienie się na rzeczach ważnych zachowując pełną kontrolę i nie ulegając czynnikom zewnętrznym\, które bywają mniej lub bardziej korzystne. \nProgram Mindfulness  przygotowany został przez PhD Marilyn Atkinson na podstawie ponad 25 lat pracy coachingowej oraz terapeutycznej w korporacjach. \nW trakcie 3 dniowego spotkania z Marilyn Atkinson poznasz szereg najbardziej sprawdzonych i wyselekcjonowanych przez nią praktyk Mindfulness\, które według Marilyn przynoszą najszybsze i najlepsze rezultaty w świecie pędzącego biznesu. \n\n\n\n\n\n\nCo daje 3 dniowy program Mindfulness\nW trakcie tego programu dowiesz się wszystkiego o technikach i praktyce Mindfulness i nauczysz się skutecznie stosować mindfulness na sobie jak i wprowadzać go do pracy z klientem biznesowym indywidualnym i w zespołach. \n\n\n\nKONCENTRACJA I UWAŻNOŚĆ\nPoznaj techniki umożliwiające pełną koncentracje i uważność. Zwiększ efektywność swoją i swoich klientów. \n\n\n\n\nMEDYTACJA MINDFULNESS DLA BIZNESU\nDowiedz się jak wprowadzić i wykorzystać praktykę mindfulness do pracy w firmach\, z zespołami i przedsiębiorcami . \n\n\n\n\nSAMOŚWIADOMOŚĆ I KREATYWNOŚĆ\nZwiększ swoją samoświadomość i zewnętrzną i wewnętrzną uważność. Odkryj jak stawiać czoła codziennym wyzwaniom wykorzystując techniki mindfulness. \n\n\n\n\nŁATWOŚĆ W PODEJMOWANIU DECYZJI\nOdkryj jak wykorzystać praktykę mindfulness do codziennego podejmowania trudnych i stresujących decyzji. \n\n\n\n\nZESTROJENIE WIZJI\, WARTOŚCI I SKUTECZNEGO DZIAŁANIA\nPoznaj sposoby dzięki którym działanie Twoje i Twoich klientów stanie się zgodne z wizją i wartościami własnymi i firmy. \n\n\n\n\nUWAŻNE PRZYWÓDZTWO\nOdkryj jak techniki mindfulness w naturalny sposób wspierają umiejętności przywódcze i jak je skutecznie wykorzystać w pracy własnej i z klientem. \n\n\n\n\n\n\n\n„Program Mindfulness zmienił moje życie. Wcześniej żyłem się pod ciągłą presją i stres kierował  moim życiem zawodowym i prywatnym. Dziś to ja zarządzam moimi emocjami i potrafie ze spokojem podejść nawet do najcięższych sytuacji. Wreszcie czujeę się panem swojego losu\, a nie więźniem pracy i zarabiania pieniędzy.” \nSteven – Business Owner\, Ontario\, Canada \n\n\n\n\n\n\nJeśli jesteś pracownikiem lub przedsiębiorcą:\nArt and Science of Mindfulness da Ci wszystkie narzędzia i techniki mindfulness\, które będziesz mógł od razu zastosować na sobie lub wśród współpracowników.\nCodzienna nawet 5 minutowa praktyka pozwoli Ci osiągnąć większą jasność w codziennym działaniu\, wewnętrzny spokój  i uwolni Cię od destrukcyjnego i bezproduktywnego stresu. Staniesz się bardziej świadomy swoich emocji i dialogu wewnętrznego i będzie w stanie przejąć kontrolę nad tym co czujesz i co myślsz. Uwalniając się od natłoku myśli i mając kontrolę nad swoimi emocjami zaczniesz podejmować bardziej trafne i przemyślane decyzje. Twoja efektywność będzie wzrastać z tygodnia na tydzień wraz z codzienną praktyką. Staniesz się spokojnieszy\, Twoje decyzje bardziej taktyczne\, a Twoje życie nabierze jaśniejszych barw. \n\n\n\n\nJeśli jesteś coachem\, trenerem\, psychologiem\nProgram Mindfulness został stworzony przez twórcę Erickson College International\, uczennicę Miltona Ericksona i współpracownicę Fritz Perls\, Marilyn Atkinson\, na podstawie ponad 25 letniego doświadczenia w pracy z pracownikami\, managerami\, dyrektorami wielu firm i korporacji. Marilyn zebrała wszystkie skuteczne techniki\, które sama od lat stosuje i stworzyła program Mindfulness aby uczyć coachów jak w najlepszy dla klientów sposób wprowadzać i stosować mindfulness w biznesie.  W ciągu 3 dni poznasz praktykę mindfulness i nauczysz się jak pracować z klientami biznesowymi wprowadzając te techniki w sposób umiejętny i przystosowany do tego typu klienta. Program ma postać interaktywnych warsztatów dzięki czemu nie tylko poznasz najważniejsze techniki ale również przećwiczysz wszystkie elementy na sobie i w pracy z grupą.\nPod zakończeniu szkolenia otrzymasz certyfikach jego ukończenia. \n\n\n\n\n\n\n\n\n \n\nParę słów od autorki\n“ Nasze życie nabrało ogromnego tempa w porównaniu do tego jak żyliśmy jeszcze 15 lat temu. Technologia i systemy w organizacjach dostosowały się do zmieniającej się rzeczywistości\, a nawet często same się przyczyniły do rosnącej szybkości i wymogów. My\, ludzie natomiast jesteśmy dokładnie tacy sami jak byliśmy kiedyś. Nie wyrosły nam dodatkowe ulepszające części. Dlatego też potrzebujemy nowych\, dobrych narzędzi\, które pomogą nam się uporać z codziennymi zmaganiami nowej rzeczywistości i umożliwią nam odczuwanie radości nawet jeśli mało mamy czasu dla siebie i bliskich. Mindfulness jest moim sposobem na pomoc tym\, którzy ciężko pracują i poddawani są ogromnym ilością stresu. Chciałabym\, żeby poprzez praktykę mindfulness ludzie zobaczyli \, że można osiągać zdumiewające efekty w pracy kiedy stajemy się uważni i gdy stres nie blokuje nam kreatywnego myślenia. Włączając techniki zawarte w Mindfulness każdy może działać efektywnie\, czując spokój\, mając pełną kontrolę nad swoim życiem i ograniczyć wpływ czynników zewnętrznych\, które często działają na nas destrukcyjnie.” \n\nORGANIZACJA:\n\nInwestycja w siebie: 2500 zł\nmożliwość wpłaty w ratach (pierwsza wpłata 900 zł)\nskorzystaj z oferty i zapisz się na cykl szkoleń w cenie 2800 zł:\n\n\n\n\n1) The Art & Science of Mindfulness\n\n\n3 dni szkoleniowe\, 13.05-15.05 Łódź\n\n\n\nDr. Marilyn Atkinson właścicielka oraz prezes Erickson College International\, firmy która dziś aktywnie działa w 27 krajach świata i która posiada już 40 000 absolwentów. Marilyn Atkinson i Erickson College International wyznacza wysokie standardy edukacji i certyfikacji coachów od 36 lat. Uczennica Miltona Ericksona. Prawdziwa ikona coachingu i autorka kilkunastu już publikacji przetłumaczonych na wiele języków świata. Jej misja „Coaching – One Conversation At The Time” znana jest na całym świecie. Marilyn podróżuje prowadząc swoje szkolenia przez ponad 300 dni w roku. Ma wręcz niewyczerpywalne zasoby energii\, zobaczyć ją w akcji to niesamowite przeżycie i prawdziwa przyjemność.\n\n\n\n\n\n\n\n2) Nauka i neuropsychologia: Coaching z mózgiem w tle\n\n\n1 dzień szkoleniowy\, 4 moduły on-line – 16 godzin\n24 punkty CCE\n\n\nDariusz Niedzieski\, członek amerykańskiego Neuroleadership Institute\, wykładowca akademicki\, trener biznesu\, konsultant\, coach Coach PCC. Fascynuje go stosowanie odkryć wiedzy o mózgu w nauczaniu i biznesie. Przeprowadził ponad 1200 godzin sesji coachingowych. Posiada ponad 30-letnie doświadczenie biznesowe z zakresu zarządzania\, zarówno firmami z obszaru SMB\, jak i dużymi korporacjami międzynarodowymi. Wydawca książek z zakresu coachingu. Właściciel i założyciel Co&Me Firma doradcza.\n\n\n\n\n\n\n\n3) Sprzedaż: Nie sprzedawaj – daj się kupić!\n16.09.2017 Łódź\, 1 dzień szkoleniowy\, 4 moduły on-line\nKatarzyna Highton\, MSc Human Resource Management and Training\, Leicester University\, Coach ICF\, międzynarodowy trener TASC dla Erickson College International oraz właścicielka Top Potential. Prywatnie mama dwóch super dzieciaków dla których postanowiła zmienić swoje życie zawodowe i prywatne o 180 stopni.To właśnie z myślą o nich powstała Top Potential- firma\, która pozwoliła dzieciakom mieć mamę w domu\, a Katarzynie spełniać się zawodowo. Dziś Top Potential generuje dziesiątki zainteresowanych klientów dziennie i zdobywa ponad 300 000 odsłon na You Tube. Program „Nie sprzedawaj-daj się kupić!” pokazuje coachom jak i oni sami mogą osiągnąć podobne rezultaty bez narażania się na trudy sprzedaży bezpośredniej. \n\n\n\n\n\n\n\n\n  \nLink do pełnej oferty i zapisy:\nhttp://top-potential.pl/mindful-biznes-new
URL:https://centrumholi.pl/event/art-and-science-of-mindfulness-phd-marilyn-atkinson/
CATEGORIES:Coaching,Mindfulness
ATTACH;FMTTYPE=:
END:VEVENT
BEGIN:VEVENT
DTSTART;TZID=Europe/Warsaw:20160618T090000
DTEND;TZID=Europe/Warsaw:20160619T170000
DTSTAMP:20260420T073608
CREATED:20160424T205438Z
LAST-MODIFIED:20211207T161319Z
UID:484-1466240400-1466355600@centrumholi.pl
SUMMARY:ŚCIEŻKA ODDECHU. BREATHFLOW & BREATHWORK Warsztat pracy z oddechem z Michałem Godlewskim
DESCRIPTION:ŚCIEŻKA ODDECHU. BREATHFLOW & BREATHWORK to kompleksowy\, dwudniowy warsztat pracy z oddechem\, który poprowadzi dla Was Michał Godlewski. \nOddechu możemy używać jako terapii w osobistych problemach\, stanach wyczerpania\, depresji\, ale też znacznie więcej – ze swojej natury praca nad oddechem prowadzi do doświadczeń o charakterze transpersonalnym\, duchowym i szamańskim\, które przynależą do spektrum doświadczeń życiowych człowieka – są to te same doświadczenia\, których poszukujemy w zatraceniu się w tańcu\, rozpłynięciu w krajobrazie\, resecie w alkoholu i wyzwolonej wówczas dzikości\, czy sportach ekstremalnych. \nSensem pracy z oddechem jest neutralizowanie ograniczeń i niepotrzebnego cierpienia\, poszerzanie współczucia i osiąganie swojego pełnego\, ludzkiego potencjału i radości z życia. Wypełnienie swojego przeznaczenia w sposób świadomy. \nPraca z oddechem jest bezpośrednim sposobem oddziaływania na ciało\, emocje\, przekonania. Pełny oddech to droga do wyzwolenia od nawykowej percepcji i życiowego utknięcia w powtarzaniu nieefektywnych zachowań. \nKażdy świadomy oddech służy Twemu wyzwoleniu. Każdy nieuświadomiony zatrzymuje Cię w więzieniu.\nParamahansa Yogananda\nPonieważ oddech pracuje w każdej komórce pozwala zreorganizować biologiczne podstawy istnienia. \nŚCIEŻKA ODDECHU. BREATHFLOW & BREATHWORK jest kompleksowym warsztatem wprowadzającym do pracy z oddechem. Zawiera w sobie techniki oddechowe\, które uwalniają napięcie emocjonalne i stres. Wzmacnia uważność i poszerza świadomość. Uczy zastosowania oddechu w codziennych sytuacjach\, jak również jako procesu wewnętrznej transformacji i uwolnienia. \nNa tym warsztacie nauczysz się prowadzić podstawowe sesje oddechowe dla siebie i innych w oparciu proste zasady. \nDwudniowa formuła zawiera wykłady\, ćwiczenia i sesje oddechowe. To uniwersalne umiejętności życiowe\, które znacząco podnoszą jakość życia. Dzień po dniu i krok po kroku będziemy poznawać techniki pracy z oddechem\, jak również stworzymy przestrzeń na osobiste doświadczenie korzyści metody. \nKorzyści z rozwoju inteligencji oddechowej są natychmiastowe\, zaliczyć do nich można: \n– redukcję stresu poprzez głęboką relaksację\,\n– lepsze zdrowie i dobre samopoczucie\,\n– więcej młodzieńczej witalności i energii\,\n– stabilizację emocjonalną\,\n– efektywniejsze rozwiązywanie problemów\,\n– zwiększa zdolność postrzegania i dokonywania pozytywnych zmian\,\n– jasność umysłu\,\n– poprawniejsze i łatwiejsze stosunki międzyludzkie\,\n– spokój wewnętrzny\, zdolność do współczucia\, poczucie trwałego szczęścia\,\n– rozszerzenie świadomości\,\n– poczucie\, że jest się wypełnionym energią\,\n– głębokie poczucie celu i sensu życia \nPROGRAM: \nDZIEŃ 1 \nInteligencja Oddechowa na Co dzień 10.00 – 13.30\nTa wprowadzająca sesja warsztatowa pozwala zapoznać się uczestnikom treningu z metodą\, prowadzącym i między sobą. Pracujemy nad otworzeniem aparatu oddechowego\, zapoznajemy się z technikami wspierającymi funkcjonowanie w sytuacjach codziennych\, w szczególności:\n– regenerację i rewitalizację\n– kontrolę emocjonalną i odporność na stres\n– sprawność relacyjną\n– rozwój wnikliwości i empatii\n– oraz bardziej zaawansowaną pracę z oddechem. \n1. Wprowadzenie \n2. ABC oddechu – oddech pełny i prawidłowy\, oddech stabilizujący\, oddech uważności \n3. Język oddechu – oddech jako narzędzie diagnostyczne samopoczucia\, dostrojenie poprzez oddech\, komunikacja w oddechu. \nBreathFlow – sesje łagodnego przepływu oddechu 15.00 – 18.30\nPodczas tej sesji nauczysz się\, jak prowadzić sesje łagodnego przepływu oddechu dla siebie i innych. Naturą tych sesji jest integracja rozłączonych aspektów\, rewitalizacja i połączenie ze swoją „mojością” – tym\, co najbardziej Twoje. \n1. Symboliczne i duchowe znaczenie pracy z oddechem \n2. Teoria i praktyka sesji BreathFlow \nDZIEŃ 2 \nIntegracja uczuć w Oddechu 10.00 – 13.30\nSesja dopołudniowa drugiego dnia\, to wprowadzenie do coachingu oddechowego i koncepcji uważności. Uczymy się\, jak za pomocą oddechu radzić sobie z uczuciami\, i jak poszerzeć naszą zdolność ich przeżywania\, a także integrować procesy emocjonalne. Każdy z uczestników będzie miał możliwość doświadczyć Sesji Oddechu jako klient i jako coach. \n1. Wykład wprowadzający – procesowy\, emocjonalny i fenomenologiczny wymiar Oddechu \n2. Sesja Oddechu – rozładowanie i integracja emocjonalna. \n3. Podsumowanie \nTransformacja życia w oddechu 15.00 – 18.30\nTen moduł poświęcony jest zastosowaniu oddechu do osiągnięcia zmiany osobistej i sukcesu w wybranym obszarze życia: Zdrowie\, Relacje\, Ciało\, Dobrostan. Wprowadzamy również myślenie o transpersonalnym wymiarze pracy z oddechem. Każdy z uczestników ma praktyczne doświadczenie swojej sesji oddechowej. \n1. Psychologiczne i duchowe aspekty w pracy z oddechem \n2. Cykl transformacji w pracy z oddechem \n3. BreathWork – sesje oddechowe \nWarsztat prowadzi: mg Breathworker: Michał Godlewski\nZałożyciel Instytutu Oddechu i promotor kultury świadomego oddechu w Polsce. Twórca rocznego systemu rozwoju osobistego Free YourSelf\, Akademii Dobrych Relacji „Otwarte Okna” Wykładał w Wyższej Szkole Europejskiej im.J.Tischnera i sprawował funkcję opiekuna merytorycznego w programie kształcenia trenerów biznesu Akademia Mistrzów Treningu. Co roku organizuje noworoczny „Power Year” – warsztat o charakterze charytatywnym\, który wspiera Dom Małego Dziecka im. J. Brzechwy w Krakowie. Inicjator wypraw rozwojowych do Toskanii. \nWięcej informacji na www.uwolnijoddech.pl \nChcesz się zapisać? Napisz do nas: klub@centrumholi.pl \n 
URL:https://centrumholi.pl/event/sciezka-oddechu-breathflow-breathwork-warsztat-pracy-z-oddechem-z-michalem-godlewskim/
CATEGORIES:Coaching,Mindfulness,Rozwój Osobisty
ATTACH;FMTTYPE=:
END:VEVENT
BEGIN:VEVENT
DTSTART;TZID=Europe/Warsaw:20151203T180000
DTEND;TZID=Europe/Warsaw:20151203T210000
DTSTAMP:20260420T073608
CREATED:20160212T135754Z
LAST-MODIFIED:20160212T135754Z
UID:4764-1449165600-1449176400@centrumholi.pl
SUMMARY:DKC KIELCE: MIĘDZY MINDFULNESS A COACHINGIEM
DESCRIPTION:Celem warsztatu jest zapoznanie uczestników z możliwościami wykorzystana mindfulness w pracy z klientem coachingowym. \nW praktyce coachingowej uważność jest jedną z kluczowych kompetencji profesjonalnego coacha. Uważność pozwala na zbudowanie autentycznej i partnerskiej relacji. Daje możliwość bycia obecnym podczas sesji coachingowej w sposób pełny i dający głęboki wgląd w proces klienta. Pozwala na słuchanie „wielkim uchem”\, a także na zadawanie pytań sięgających do sedna. Wreszcie\, dając możliwość wglądu również w siebie – rodzi samoświadomość i pozwala na wydobycie odwagi – do odzwierciedlania\, do dociekania\, do eksperymentowania w kontakcie z klientem. \nUważność pozwala na wyjście poza szablon. Na bycie przy kliencie w dokładnie taki sposób\, jaki jest mu potrzebny w tej jedynej autentycznej chwili. Na porzucenie wszelkich swoich „muszę teraz…”\, „wypadałoby żeby…” na rzecz po prostu bycia obecnym\, po prostu zauważania. \nJeśli chcesz poznać koncepcję mindfulness\, albo ją znasz i chcesz dowiedzieć się w jaki sposób można ją przełożyć na swoją pracę z klientem – to właśnie będzie tematem tego spotkania. \nPodczas warsztatu dowiesz się kim jest uważny coach i w jaki sposób rozwijać uważność w swojej praktyce. Poznasz praktykę uważności\, którą będziesz mógł wykorzystać podczas sesji coachingowej. Spotkasz się też z własną uważnością podczas ćwiczeń medytacyjnych. \nWarsztaty inspirowane są koncepcją uważności (Mindfulness) J. Kabat-Zinna. \n  \nOrganizacja: \n1) WARSZTATY 3 H  REALIZOWANE SĄ W RAMACH SPOTKAŃ DYSKUSYJNYCH KLUBÓW COACHINGU IZBY COACHINGU  \nterminy spotkań: \n\n3.12.2015r. Kielce\n11.02.2016r. Katowice\n12.02.2016r. Wrocław\n\nProwadzi: Sylwia Rogala-Marciniak \nCertyfikowany trener biznesu\, Erickson International Coach. Absolwentka Akademii Ekonomicznej w Krakowie\, Szkoły Trenerów SKiTZ Matrik oraz akredytowanego przy ICF programu „Art and Science of Coaching” Erickson College International . Jako Opiekun Merytoryczny Podyplomowego Studium Coachingu i Mentoringu Organizacyjnego oraz Life-Coachingu na UŁ jest odpowiedzialna za zawartość merytoryczną i jakość programu oraz dobór kadry trenerskiej. Jako Superwizor i Mentor Coach CoachingSteps™ prowadzi również programy szkoleniowe\, sesje superwizowane i sesje mentor coachingu oraz pracuje nad nowymi produktami na potrzeby coachów\, liderów i organizacji. Jest Dyrektorem Łódzkiego Oddziału Izby Coachingu. Tworzy i rozwija pracownię uważności Centrum HOLI (www.centrumholi.pl) . Swoje umiejętności zawodowe doskonaliła uczestnicząc m.in. w programach CoachWise Coaching Essentials™\, Transforming Communication™\, Family Coaching  -Erickson College International. Aktualnie rozwija się na kursie trenerskim MBSR (Maindfulness Based Stress Reduction) organizowanym przez Institute for Mindfulness-Based Approaches. Publikuje w czasopismach specjalistycznych\, jest także współautorem publikacji „Coaching. Zbiór narzędzi wspierania rozwoju” (Wolters Kluwer 2012).
URL:https://centrumholi.pl/event/dkc-kielce-miedzy-mindfulness-a-coachingiem/
LOCATION:2_14
CATEGORIES:Coaching,Mindfulness
END:VEVENT
END:VCALENDAR