BEGIN:VCALENDAR
VERSION:2.0
PRODID:-//Mindfulness LAB — Sylwia RoMa — HOLI Body&amp;Mind - ECPv6.15.14//NONSGML v1.0//EN
CALSCALE:GREGORIAN
METHOD:PUBLISH
X-ORIGINAL-URL:https://centrumholi.pl
X-WR-CALDESC:Wydarzenia dla Mindfulness LAB — Sylwia RoMa — HOLI Body&amp;Mind
REFRESH-INTERVAL;VALUE=DURATION:PT1H
X-Robots-Tag:noindex
X-PUBLISHED-TTL:PT1H
BEGIN:VTIMEZONE
TZID:Europe/Warsaw
BEGIN:DAYLIGHT
TZOFFSETFROM:+0100
TZOFFSETTO:+0200
TZNAME:CEST
DTSTART:20150329T010000
END:DAYLIGHT
BEGIN:STANDARD
TZOFFSETFROM:+0200
TZOFFSETTO:+0100
TZNAME:CET
DTSTART:20151025T010000
END:STANDARD
BEGIN:DAYLIGHT
TZOFFSETFROM:+0100
TZOFFSETTO:+0200
TZNAME:CEST
DTSTART:20160327T010000
END:DAYLIGHT
BEGIN:STANDARD
TZOFFSETFROM:+0200
TZOFFSETTO:+0100
TZNAME:CET
DTSTART:20161030T010000
END:STANDARD
BEGIN:DAYLIGHT
TZOFFSETFROM:+0100
TZOFFSETTO:+0200
TZNAME:CEST
DTSTART:20170326T010000
END:DAYLIGHT
BEGIN:STANDARD
TZOFFSETFROM:+0200
TZOFFSETTO:+0100
TZNAME:CET
DTSTART:20171029T010000
END:STANDARD
BEGIN:DAYLIGHT
TZOFFSETFROM:+0100
TZOFFSETTO:+0200
TZNAME:CEST
DTSTART:20180325T010000
END:DAYLIGHT
BEGIN:STANDARD
TZOFFSETFROM:+0200
TZOFFSETTO:+0100
TZNAME:CET
DTSTART:20181028T010000
END:STANDARD
END:VTIMEZONE
BEGIN:VEVENT
DTSTART;TZID=Europe/Warsaw:20170128T123000
DTEND;TZID=Europe/Warsaw:20170128T143000
DTSTAMP:20260419T215153
CREATED:20161201T101439Z
LAST-MODIFIED:20161201T101439Z
UID:752-1485606600-1485613800@centrumholi.pl
SUMMARY:BeMindful Club :: ROZWIJANIE UWAŻNOŚCI U DZIECI ::
DESCRIPTION:Zapraszamy serdecznie na darmowe spotkanie klubu BeMindful o tematyce „Rozwijanie uważności u dzieci”. \nTym razem porozmawiamy o tym\, w jaki sposób dorośli mogą stawać się nauczycielami uważności dla dzieci. Bo dzieci Mistrzami Uważności już są\, a przynajmniej były jeszcze niedawno 😉 \nNaszym celem jest propagowanie idei mindfulness – nie w formie tymczasowej mody\, trendu na runku\, ale jako styl życia i świadomy wybór przytomnej obecności każdego dnia. \nJako pierwsza w Łodzi organizacja zajmująca się profesjonalnie tematyką mindfulness pragniemy propagować tą metodę \, podkreślając jej naukowe korzenie i wskazując wachlarz możliwości praktycznego zastosowania. \nMindfulness to nie tylko redukcja stresu. Uważność może mieć zastosowanie w każdym aspekcie życia: pracy\, komunikacji\, relacjach\, rodzicielstwie\, edukacji\, jedzeniu\, zdrowieniu. \nPodczas klubowych spotkań w naszym centrum będziemy pokazywać różne zastosowania uwazności i jednocześnie doświadczać praktyki na sobie. \nTworząc nasze programy edukacyjne na stałe współpracujemy z Uniwersytetem Łódzkim i Pracownią Rozwoju Kompetencji UŁ. \nJesteśmy także na liście certyfikowanych nauczycieli mindfulness w Polsce\, co się z tym wiąże gwarantujemy standardy i jakość tej metody. \nZapraszamy serdecznie! \nSpotkania są darmowe. Warunkiem rejestracji jest potwierdzenie swojej obecności na dzień przed wydarzeniem. \nZapisy: klub@centrumholi.pl \nTematy kolejnych spotkań: \n\nMedytacja w biegu – jak rozpocząć praktykę medytacyjną
URL:https://centrumholi.pl/event/bemindful-club-rozwijanie-uwaznosci-u-dzieci/
CATEGORIES:Mindfulness
ATTACH;FMTTYPE=:
END:VEVENT
BEGIN:VEVENT
DTSTART;TZID=Europe/Warsaw:20160514T093000
DTEND;TZID=Europe/Warsaw:20160514T193000
DTSTAMP:20260419T215153
CREATED:20160506T132205Z
LAST-MODIFIED:20211207T161319Z
UID:538-1463218200-1463254200@centrumholi.pl
SUMMARY:HOLI Day - dzień warsztatowy w HOLI
DESCRIPTION:Zapraszamy na dzień pełen różności: \n9:30 – 10:45 Poranna Joga „Praca z emocjami w praktyce” \n11:30 – 12:30 Uważność dla dzieci: wprowadzenie do programu wakacyjnego CUD \n13:30 – 16:00 Wprowadzenie do treningu uważności (MBSR) \n17:00 – 19:30  Warsztaty SUMI-E \n________________________________________________________________ \nOPISY POSZCZEGÓLNYCH WYDARZEŃ:\n  \n9:30 – 10:45 Poranna Joga „Praca z emocjami w praktyce”\nporanek to doskonały czas na jogę; joga pobudza nasze organy wewnętrzne\, dotlenia mięśnie\, a oddech filtruje każdą komórkę ciała i odżywia mózg; po porannej sekwencji asan – to będzie dobry dzień! \nTematem zajęć będzie skierowanie uwagi od zewnątrz do wewnątrz i praca z emocjami poprzez praktykę. To doskonała okazja by przeglądnąć się swoim emocjom\, poznać je i zrozumieć potrafią zarządzać naszym ciałem i życiem. \n…a po jodze zapraszamy na pyszna kawę i domowe ciasto! taaak\, to będzie dobry dzień J \nNa tych zajęciach:\n\nregularna praktyka ukierunkowana na zrównoważony rozwój i uelastycznianie ciała\nelementy medytacji i pranayamy\npraktyka zgodna z systemem hatha-jogi; sekwencje asan stojących\, siadów\, skłonów\, skrętów\, wygięć\, pozycji odwróconych i relaksu.\n\nDla kogo:\n\ndla wszystkich zainteresowanych zrównoważonym rozwojem ciała; grupa początkująca/ogólna – zawsze możesz dołączyć do zajęć.\n\n________________________________________________________________ \n  \n11:30 – 12:30   Uważność dla dzieci: wprowadzenie do programu wakacyjnego CUD\nZaczynamy realizację naszego wymarzonego projektu Centrum Uważnego Dziecka CUD. Już w te wakacje będziemy zapraszać dzieci i rodziców na warsztaty i zajęcia rozwijające uważność\, skupienie\, uczące pracy z oddechem\, uważności sensorycznej\, pracy z ciałem. \nJeśli chcesz dowiedzieć się więcej\, poznać koncepcję uważności (mindfulness) w odniesieniu do rozwoju dziecka – zapraszamy na spotkanie. \nPodczas zajęć:\n\ndowiesz się czym jest mindfulness i dlaczego uważność jest tak ważnym elementem rozwoju w dzisiejszych czasach\ndowiesz się w jaki sposób można rozwijać uważność u dzieci\npoznasz ćwiczenie rozwijające uważność\, wrażliwość i poprawiające koncentrację do praktyki w domu\nposłuchasz o uważnym rodzicielstwie\, nauczysz się czegoś nowego\, wymienisz poglądami.\n\n________________________________________________________________ \n  \n13:30 – 16:00   Wprowadzenie do treningu uważności (MBSR)\nMindfulness pozwala zwolnić\, lecz to nie znaczy że w życiu robi się nudno. Wręcz przeciwnie. Dopiero wtedy jesteśmy w stanie dostrzec wielobarwność każdej chwili\, być w pełnym znaczeniu frazy „tu i teraz”. Co ciekawe\, kiedy przestajemy za czymś gonić\, kiedy „odpuszczamy” – to rozwiązanie samo przychodzi. \nUważność to możliwość bycia opanowanym\, spokojnym i stabilnym wewnętrznie – zarówno w pracy\, w roli zawodowej jak i w życiu prywatnym\, w roli partnera czy rodzica. \nStan uważności w umyśle można porównać do istnienia jeziora – nawet jeśli pogoda jest zmienna\, pada deszcz\, czy wieje wiatr – to jedynie dotyka tafli wody. Pod spodem panuje cisza i niczym nieporuszone życie toczy się swoim tempem\, w spokoju.. w naszym życiu też spotykają nas różne „warunki atmosferyczne” a bycie uważnym pozwala zachować ten stan wewnętrznego spokoju. Jezioro się nie napina\, nie krzyczy\, po prostu jest. \nPodczas warsztatów będziesz mieć okazję spotkać się ze swoją uważnością\, a także „automatycznym pilotem” nadającym kierunek Twoim myślom i zachowaniom. Dowiesz się jakie są wartości z posiadania „umysłu początkującego” i w jaki sposób rozwijać ten stan w sobie. Poznasz ćwiczenia uważności\, a także wprowadzenie do medytacji mindfulness. Spotkasz się ze swoim ciałem i umysłem w przestrzeni ciszy i spokoju. \nWarsztaty są także wprowadzeniem do 8 tygodniowego kursu redukcji stresu. \n________________________________________________________________ \n  \n17:00 – 19:30   Warsztaty SUMI-E\nJeśli lubisz kreatywne formy spędzania czasu to warto sprawdzić malowanie japońskie SUMI-E. To jednocześnie prosta w formie i głęboka w przekazie forma sztuki\, która mogą praktykować wszyscy: początkujący\, dzieci\, osoby nie potrafiące malować – ponieważ pędzel jest to nauczycielem koncentracji i uważności\, a nie samej sztuki malarskiej. \nBędziemy używać tylko dwóch kolorów (czarnego i czerwonego) i przekonamy się jak niewiele trzeba namalować\, aby było to piękne i poruszające. Użyjemy oryginalnego tuszu pachnącego sosną i chińskiego pędzla zrobionego z naturalnego włosia łasiczki\, owcy lub wiewiórki. \nNa początku studiujemy różne rodzaje linii i pociągnięć pędzla\, ucząc się nadawać im emocje i charakter. Następnie zaczynamy ich używać\, aby wyrażać najprostsze kształty i zawrzeć w nich uczucie. A poznawszy podstawy\, malujemy całe elementy natury czyli bambusy\, orchidee\, róże\, kwiaty wiśni\, trawy\, motyle\, drzewa\, góry… a wszystko to tylko kilkoma pociągnięciami pędzla\, które mają zachwycić prostotą\, elegancją i lekkością. \nPodczas malowania będziemy rozwijać uważność postawy\, oddechu i nastawienia wewnętrznego\, od których będą zależały efekty naszego tworzenia. \n________________________________________________________________ \n  \nORGANIZACJA\nCENY POSZCZEGÓLNYCH WYDARZEŃ:\n9:30 – 10:45 Poranna Joga   20 zł lub karnety \n11:30 – 12:30   Uważność dla dzieci: wprowadzenie do programu wakacyjnego CUD   10 zł \n13:30 – 16:00   Wprowadzenie do treningu uważności (MBSR)   40 zł \n17:00 – 19:30   Warsztaty SUMI-E   60 zł lub karnety \nCały Dzień   99 zł \n  \nZAPISY :\n– przyjmujemy zapisy i rejestrację TYLKO PRZEZ PODANE LINKI \n– ostatecznym potwierdzeniem jest wpłata na podany po rejestracji nr konta (przedpłata) \nLinki do rejestracji: \n9:30 – 10:45 Poranna Joga https://holidayjoga.evenea.pl/ \n11:30 – 12:30 Uważność dla dzieci  https://holidayuwaznoscdladzieci.evenea.pl/ \n13:30 – 16:00 Wprowadzenie do treningu uważności (MBSR)  https://holidaymbsr.evenea.pl/ \n17:00 – 19:30 Warsztaty SUMI-E  https://holidaysumi-e.evenea.pl/ \nCały dzień HOLI Day lub własny wybór https://holiday.evenea.pl/  \n  \nJeśli masz pytania jesteśmy dostępni: \nklub@centrumholi.pl \ntel: 575 44 23 26
URL:https://centrumholi.pl/event/holi-day-dzien-warsztatowy-w-holi/
CATEGORIES:Coaching,Joga,Mindfulness,Rozwój Osobisty
ATTACH;FMTTYPE=:
END:VEVENT
END:VCALENDAR