BEGIN:VCALENDAR
VERSION:2.0
PRODID:-//Mindfulness LAB — Sylwia RoMa — HOLI Body&amp;Mind - ECPv6.15.14//NONSGML v1.0//EN
CALSCALE:GREGORIAN
METHOD:PUBLISH
X-ORIGINAL-URL:https://centrumholi.pl
X-WR-CALDESC:Wydarzenia dla Mindfulness LAB — Sylwia RoMa — HOLI Body&amp;Mind
REFRESH-INTERVAL;VALUE=DURATION:PT1H
X-Robots-Tag:noindex
X-PUBLISHED-TTL:PT1H
BEGIN:VTIMEZONE
TZID:Europe/Warsaw
BEGIN:DAYLIGHT
TZOFFSETFROM:+0100
TZOFFSETTO:+0200
TZNAME:CEST
DTSTART:20190331T010000
END:DAYLIGHT
BEGIN:STANDARD
TZOFFSETFROM:+0200
TZOFFSETTO:+0100
TZNAME:CET
DTSTART:20191027T010000
END:STANDARD
BEGIN:DAYLIGHT
TZOFFSETFROM:+0100
TZOFFSETTO:+0200
TZNAME:CEST
DTSTART:20200329T010000
END:DAYLIGHT
BEGIN:STANDARD
TZOFFSETFROM:+0200
TZOFFSETTO:+0100
TZNAME:CET
DTSTART:20201025T010000
END:STANDARD
BEGIN:DAYLIGHT
TZOFFSETFROM:+0100
TZOFFSETTO:+0200
TZNAME:CEST
DTSTART:20210328T010000
END:DAYLIGHT
BEGIN:STANDARD
TZOFFSETFROM:+0200
TZOFFSETTO:+0100
TZNAME:CET
DTSTART:20211031T010000
END:STANDARD
END:VTIMEZONE
BEGIN:VEVENT
DTSTART;TZID=Europe/Warsaw:20201024T090000
DTEND;TZID=Europe/Warsaw:20201025T170000
DTSTAMP:20260419T174011
CREATED:20200915T153155Z
LAST-MODIFIED:20200915T153155Z
UID:2458-1603530000-1603645200@centrumholi.pl
SUMMARY:Kundalini Weekend - Wprowadzenie do Kobiecej Tantry
DESCRIPTION:Jeśli jesteś gotowa pożegnać swoje lęki\, poczucie winy i wstyd związany z Twoją kobiecością i seksualnością i otworzyć się na promienną\, pełną miłości i harmonii energię życiową zapraszamy Cię na dynamiczny warsztat poświęcony przebudzeniu pierwotnej energii Kundalini.\n\nPodczas warsztatów poprowadzimy Cię przez serię ćwiczeń i aktywnych medytacji\, które pomogą Ci wznieść wibracje na wyższe częstotliwości i przygotować się na przebudzenia twojej energii Kundalini.\n\nKundalini jest najbardziej potężną energią kosmiczną\, przebudzona powoduje oświecenie człowieka i przemiany na wszystkich poziomach i we wszystkich aspektach życia człowieka:\n\nW ciele – wzrost poziomu energii życiowej\, ożywienie\, świadomość ciała i poczucie jego zintegrowania\, głębokie rozluźnienie\, regeneracja i odnowa fizyczna\, badanie granic i nowych możliwości.\n\nW emocjach – doświadczenie wewnętrznego ciepła i miłości\, odpuszczenie\, uwolnienie z negatywnych uczuć. Skontaktowanie się ze swoją maską\, która oddziela nas od poczucia bycia w centrum\n\nW umyśle – pełna obecność i uważność\, uczucie jasności\, świeżości\, sił twórczych\, kreatywności\nW motywacji – oczyszczenie i przywołanie prawdy swojego serca i pozytywnej intencji\, uświadomienie sobie negatywnych intencji osłabiających naszą życiową skuteczność\n\nNa poziomie duchowym – aktywacja i wzmocnienie mocy duchowych i przyspieszenie ogólnego przebudzenia duchowego.\n\nW życiu – poprawa relacji na wszystkich poziomach zarówno z bliskim jak i dalszym otoczeniem.\nRozpoznanie wzorców i schematów blokowania swojej mocy w tych relacjach.\nPoszerzenie świadomości w tym zakresie i wzmocnienie siły swojej kreacji. Wzmocnienie przepływu w realizacji celów i zamierzeń w różnych obszarach życiowych.\n\nW Programie:\n\nćwiczenia Core Energetics\, poświęcone Twojej miednicy i seksualności\nelementy TRE (rozładowanie\, doładowanie i integracja energii w ciele)\nbudzenie Kundalini poprzez energię wszystkich żywiołów (praca z żywiołami)\nmedytacja Kundalini budząca i integrująca energię w całym ciele\ndynamiczne medytacje Osho\nPraca terapeutyczna ze zranieniem związanym z oddzieleniem ośrodka serca (IV chakra) od ośrodka seksualności (II chakra)\ntaniec intuicyjny i taniec żywiołów\nelementy jogi czakralnej.\n\n\nKorzyści płynące z przebudzenia energii Kundalini:\n\n\nPoczucie spokoju i błogości w ciele i umyśle\nPobudzenie zmysłów\, lepsza percepcja i bardziej pozytywne postrzeganie świata\nBycie bardziej współczującą\, empatyczną i połączoną z otoczeniem\nWzrost witalności fizycznej\, pobudzenie naturalnych procesów odmładzania\nWiększe poczucie własnej atrakcyjności\nPoczucie odżywienia\, dokarmienia ciała\, odczucie rozświetlenia ciała i umysłu\nZwiększone odczuwanie jedności i połączenia ze swoimi bliskimi\, w relacjach partnerskich i z innymi żyjącymi istotami.\nWzrost odczuwania przyjemności seksualnych.\nRozbudzenie kreacji seksualnych\nCzęstsze doświadczanie boskiego światła\nDoświadczanie przepływu\, subtelnych\, przyjemnych wibracji w ciele\nPoprawa pewności siebie – szacunek i akceptacja do samego siebie\nZacieśnienie relacji z samą sobą\, traktowanie się ze zrozumieniem i łagodnością.\n\n\nBędzie to czas dla ciała\, zmysłowości\, odkrywania i eksperymentowania zarówno z Twoją kobiecą dziką naturą\, jak i wewnętrzną łagodnością\, z Twoją seksualnością i miłością do samej siebie.\nBędzie to miejsce na pozwolenie sobie na bycie ze swoją prawdą w Tu i Teraz; strachem i odwagą\, wrażliwością i siłą\, spokojem i wewnętrznym chaosem\, radością i smutkiem\, podnieceniem i wycofaniem\, bezbronnością i determinacją\, światłem i cieniem i przede wszystkim przestrzeń\, w której zostaniesz otoczona energią akceptującej uważności i miłości przez inne kobiety\, które tak jak Ty zdecydowały się na podróż w głąb siebie.\n\nOrganizacja Wyjazdu\nWarsztaty odbędą się w Krakowie\, ul. Siewna 30B\n\nw sobotę pracujemy w godzinach 10:00-18:00.\nW niedzielę w godz. 9:00 – 17:00.\nW czasie zajęć zaplanowana jest 2 h przerwana obiad i regenerację.\n\nWymiana energetyczna\n500 zł\nRezerwacją miejsca jest wpłata zadatku wysokości 200 zł.\nZapisz się: klub@centrumholi.pl\nPotwierdź rezerwację robiąc przelew:\n57 1050 1445 1000 0092 5342 8867\nHoli Life&Business Mindful Solutions\ntytuł: weekend kundalini\n\n\nProwadzący:\nJoanna Sajko\nOd ponad 15 lat pracuję jako psycholog (UŁ)\, coach (ACC ICF)\, trener (certyfikacja I stopnia PTP) koncentrując się coraz bardziej na pracy z energią w ciele. Swoją przygodę w tym zakresie zaczęłam ok 10 lat temu od ustawień systemowych metodą Berta Hellingera (w roku 2017 ukończyłam szkołę jego Nowych Ustawień) w między czasie zapoznawałam się z ćwiczeniami bioenergetycznymi i ćwiczeniami TRE\, kończąc w roku 2017 r. kurs (certfikowany provider) TRE Joanny Olchowik. Po drodze poznawałam co raz więcej metod i technik angażujących energię ciała\, w tym energię seksualną; warsztaty świadomego oddechu\, taniec ekstatyczny i intuicyjny\, różne formy medytacji w tym medytacja dynamiczna Osho\, masaż żywiołów i masaż tantryczny\, praca z medycyną roślinną. Obecnie co raz chętniej pracuję z seksualną energią kobiet i mężczyzn\, od ponad 3 lat intensywnie poznając i eksplorując tantryczne metody pracy z drugim człowiekiem a przede wszystkim w relacji ze sobą. Uwielbiam pracować z grupami współtworząc z moim życiowym partnerem autorską metodę CoreElements opierającą się na pracy z żywiołami natury\, zarówno ich menifestacją w świecie zewnętrznym\, jak i w naszym ciele.\nObecnie jestem absolwentką 4 letniej szkoły pierwszego w Polsce rocznika Core Energetics Polska. Założycielkami Szkoły są Ala Konopko-Ulanecki i Ela Szczygielska-Carl.
URL:https://centrumholi.pl/event/kundalini-weekend-wprowadzenie-do-kobiecej-tantry/
CATEGORIES:Event,Joga,Mindfulness,Rozwój Osobisty
ATTACH;FMTTYPE=image/png:https://centrumholi.pl/wp-content/uploads/2020/09/1.png
END:VEVENT
END:VCALENDAR