BEGIN:VCALENDAR
VERSION:2.0
PRODID:-//Mindfulness LAB — Sylwia RoMa — HOLI Body&amp;Mind - ECPv6.15.14//NONSGML v1.0//EN
CALSCALE:GREGORIAN
METHOD:PUBLISH
X-ORIGINAL-URL:https://centrumholi.pl
X-WR-CALDESC:Wydarzenia dla Mindfulness LAB — Sylwia RoMa — HOLI Body&amp;Mind
REFRESH-INTERVAL;VALUE=DURATION:PT1H
X-Robots-Tag:noindex
X-PUBLISHED-TTL:PT1H
BEGIN:VTIMEZONE
TZID:Europe/Warsaw
BEGIN:DAYLIGHT
TZOFFSETFROM:+0100
TZOFFSETTO:+0200
TZNAME:CEST
DTSTART:20190331T010000
END:DAYLIGHT
BEGIN:STANDARD
TZOFFSETFROM:+0200
TZOFFSETTO:+0100
TZNAME:CET
DTSTART:20191027T010000
END:STANDARD
BEGIN:DAYLIGHT
TZOFFSETFROM:+0100
TZOFFSETTO:+0200
TZNAME:CEST
DTSTART:20200329T010000
END:DAYLIGHT
BEGIN:STANDARD
TZOFFSETFROM:+0200
TZOFFSETTO:+0100
TZNAME:CET
DTSTART:20201025T010000
END:STANDARD
BEGIN:DAYLIGHT
TZOFFSETFROM:+0100
TZOFFSETTO:+0200
TZNAME:CEST
DTSTART:20210328T010000
END:DAYLIGHT
BEGIN:STANDARD
TZOFFSETFROM:+0200
TZOFFSETTO:+0100
TZNAME:CET
DTSTART:20211031T010000
END:STANDARD
END:VTIMEZONE
BEGIN:VEVENT
DTSTART;TZID=Europe/Warsaw:20200816T150000
DTEND;TZID=Europe/Warsaw:20200822T120000
DTSTAMP:20260419T190439
CREATED:20200527T135046Z
LAST-MODIFIED:20200527T135046Z
UID:2316-1597590000-1598097600@centrumholi.pl
SUMMARY:Womens Camp - letni obóz na kobiet pełen pozytywnych wibracji
DESCRIPTION:JOGA // MEDYTACJA I PRACA Z ODDECHEM // WARSZTATY MINDFULNESS // CORE ENERGETICS // CORE ELEMENTS // POŁĄCZENIE Z NATURĄ // TANIEC INTUICYJNY // PRACA Z ŻYWIOŁAMI // ROZWIJANIE INTUICJI // CEREMONIA KAKAO\nZapraszamy wszystkie kobiety\, poszukujące i pragnące rozwijać się w głęboki i autentyczny sposób. \nKobiecość to coś więcej niż obowiązki dla codziennego. Każda z nas je ma i dlatego wiemy\, jak bardzo potrzebujemy odskoczni\, przerwy i resetu\, aby nabrać energii i wrócić do siły. \nTej właśnie naturalnej kobiecej mocy będziemy poszukiwać\, odkrywać i dawać sobie nawzajem. \nZ tego wyjazdu wyjedziesz naładowana\, odświeżona\, w poczuciu pełni\, a także z nowymi fantastycznymi przyjaźniami. Jesteś na tak? \n  \nCo będziemy robić na tym wyjątkowym wyjeździe?\nW około nas las\, a my na szczycie góry w magicznej osadzie zwanej Miłośliwką…. Do naszej dyspozycji piękny leśny ogród\, dwie chaty i wieka jogiczna stodoła. \nPo pierwsze postawimy na ciało. Będziemy je budzić i ożywiać. Nauczymy się gruntowania\, uważnego ruchu\, oswobodzimy w tańcu intuicyjnym\, spotkamy z żywiołami i wzmocnimy w różnych formach jogi…. Poczujesz\, co to jest zewnętrzna siła. \nPo drugie zajmiemy się naszą psyche. Codzienne zajęcia z uważności\, medytacje mindfulness\, warsztaty psycho-edukacyjne związane z emocjami\, aromaterapią… poczujesz co to jest wewnętrzny spokój. \nPo trzecie sięgniemy głębiej. Podzielimy się tym\, co bezpieczne i magiczne. Poznasz nasze karty\, będziemy pracować w obszarze intuicji i duchowości. \nMało…?\nPo czwarte poznasz wspaniałe kobiety\, jakie zawsze przyciągają nasze obozy. \nPo piąte zjesz niesamowite pyszności\, jakie zawsze gotują nasi gospodarze. \nPo szóste spędzisz czas w naturze\, która zawsze dzieli się harmonią. \nWyjedziesz odmieniona ! \n  \nJeśli więc czujesz\, że brakuje Ci pełni w życiu\, poszukaj tego elementu wewnątrz siebie. Spotkaj się z innymi kobietami i poczuj MOC jaka z tego płynie w codziennych kręgach\, przy porannej kawie na miłośliwkowym tarasie\, w długich leniwych popołudniach na hamaku  i wieczorach przy ognisku… \nTo wyjazd\, który łączy relacje z warsztatami psychologicznymi i pracą z ciałem. \nNaszym celem jest zbudowanie siły… wewnętrznej szamanki. \n  \nW naszym planie:\n\nCodzienna praca z ciałem.\nBioenergetyka. Kontakt z Ziemią.\nRóżne formy jogi: czakralna\, terapeutyczna\, powięziowa\, regeneracyjna\, vinyasa\, flow.\nRedukcja stresu – warsztaty mindfulness w oparciu o programy MBSR/MBCL.\nCORE Energetics\, Core Elements\, TRE\nOdnowa biologiczna – aromaterapia\, automasaże\, ajurweda.\nKręgi kobiet – dawanie i otrzymywanie mocy.\nInner Shamanic – praca z kartami\, praca z czakrami\, moc kamieni.\nTaniec intuicyjny.\nSesja zdjęciowa „Kobiecość w pełni”\nBody&Mind Reset.\nTony codziennych inspiracji.\n\n  \nRamowy plan dnia (ostateczny jego harmonogram ustalimy wspólnie podczas pierwszego kręgu). \n\nPoranna praca z ciałem / joga / medytacja / spotkanie w naturze.\nDługie\, leniwe i pyszne śniadanie.\nWarsztaty psycho-edukacyjne z mindfulness\, psychologii\, zdrowia\, naturalnej dietetyki itp.\nPyszne obiadokolacje pełne darów natury i serca gospodarzy.\nCodzienne kręgi kobiety\, rozmowy\, wymiana energii.\nInner Shamanic – wieczorne medytacje\, tańce\, praca z kartami i żywiołami itp.\n\nHarmonogram wyjazdu:\n16.08.(niedziela)\nRozpoczynamy o godz. 15 – spotkanie w Kręgu\, wprowadzenie do tematyki obozu\, zakwaterowanie.\nCzas wolny\, relaks\, książka\, spacer…\n17:00 pyszna pełna kolorów obiadokolacja\n20:00 Joga – czakra podstawy. \n17.08. -21.08. (pon-pt)\n7:30 poranna medytacja w lesie: Uziemianie / Mindfulness / Oddech z żywiołami / Intencja na dzień\n8:00 Joga: Czakralna / Flow / Vinyasa / Powięziowa\n9:30 pyszne pełne różnorodności i aromatów śniadanie\nczas wolny\, spacer\, trekking po okolicznych górach\, relaks w ogrodzie z książką\, czas dla siebie…\n15:00 Warsztaty: Mindfulness /  Core Energetics / Core Elements / TRE\n17:00 pyszna kolorowa hedonistyczna obiadokolacja\n20:00 Wieczorne zajęcia: Joga czakralna/ Mindful Movement / Taniec Intuicyjny / Taniec z żywiołami / Medytacje o zachodzie słońca / Tantra / a na zakończenie ceremonia Cacao 🙂 \n\n22.08. (sob)\n\n\n7:30 poranna medytacja w lesie: Uziemianie / Mindfulness / Oddech z żywiołami / Intencja na dzień \n\n\n8:00 Joga: Czakralna / Flow / Vinyasa / Powięziowa\n\n\n9:30 pożegnalny Krąg\n\n\n10:00 pyszne pełne różnorodności i aromatów śniadanie… \n\n\nczas wolny\, spacer\, trekking po okolicznych górach\, relaks w ogrodzie z książką\, czas dla siebie…\n\n\n12:00 zupa na pożegnanie 🙂\n\n  \nWymiana energetyczna\n1950 zł cena obejmuje noclegi\, pełne wyżywienie\, wszystkie warsztaty i materiały niezbędne co ich realizacji. \nZniżki: \n1850 zł/os. – przy zapisie 2 osób / 1750 zł przy zapisie 3 i więcej osób \nRezerwacją miejsca jest wpłata zadatku wysokości 500 zł \nZapisz się: klub@centrumholi.pl \n  \nProwadzący:\nSylwia Rogala-Marciniak \nJestem certyfikowanym nauczycielem mindfulness\, dyplomowanym nauczycielem jogi w systemie hatha-yogi metodą BKS Iyengara o stopniu Introductory II. Poza matą\, spotkasz się ze mną na treningach redukcji stresu\, uważności. \nPosiadam także certyfikat Erickson International Coach oraz trenera biznesu Matrik\, opartego na NVQ International Trainers Certification in Training\, Learning and Development – MATRIK & Pearson Edexcel International. Prowadzę treningi dla firm\, koordynuję kształcenie podyplomowe i wykładam na Uniwersytecie Łódzkim i w Wyższej Szkole Europejskiej w Krakowie. Zafascynowana kulturą dalekiego wschodu\, często podróżuję w tamte kierunki świata. Jogę i medytację praktykuję od 16 lat\, odnajdując w niej wciąż coś nowego na kolejnych etapach swojego życia. W praktyce najważniejsza jest dla mnie uważność i akceptacja siebie. W moim nauczaniu pragnę przekazać holistyczne rozumienie połączenia ciała\, emocji\, duszy i umysłu. \n  \nJoanna Sajko \nOd ponad 15 lat pracuję jako psycholog (UŁ)\, coach (ACC ICF)\, trener (certyfikacja I stopnia PTP) koncentrując się coraz bardziej na pracy z energią w ciele. Swoją przygodę w tym zakresie zaczęłam ok 10 lat temu od ustawień systemowych metodą Berta Hellingera (w roku 2017 ukończyłam szkołę jego Nowych Ustawień) w między czasie zapoznawałam się z ćwiczeniami bioenergetycznymi i ćwiczeniami TRE\, kończąc w roku 2017 r. kurs (certfikowany provider) TRE Joanny Olchowik. Po drodze poznawałam co raz więcej metod i technik angażujących energię ciała\, w tym energię seksualną; warsztaty świadomego oddechu\, taniec ekstatyczny i intuicyjny\, różne formy medytacji w tym medytacja dynamiczna Osho\, masaż żywiołów i masaż tantryczny\, praca z medycyną roślinną. Obecnie co raz chętniej pracuję z seksualną energią kobiet i mężczyzn\, od ponad 3 lat intensywnie poznając i eksplorując tantryczne metody pracy z drugim człowiekiem a przede wszystkim w relacji ze sobą. Uwielbiam pracować z grupami współtworząc z moim życiowym partnerem autorską metodę CoreElements opierającą się na pracy z żywiołami natury\, zarówno ich menifestacją w świecie zewnętrznym\, jak i w naszym ciele. \nObecnie jestem absolwentką 4 letniej szkoły pierwszego w Polsce rocznika  Core Energetics Polska. Założycielkami Szkoły są Ala Konopko-Ulanecki i Ela Szczygielska-Carl. \n  \nZapraszamy 🙂
URL:https://centrumholi.pl/event/womens-camp/
LOCATION:Import placeholder for 183
CATEGORIES:Joga,Mindfulness,Rozwój Osobisty
ATTACH;FMTTYPE=image/png:https://centrumholi.pl/wp-content/uploads/2020/05/BodyMind-2-1.png
END:VEVENT
END:VCALENDAR