BEGIN:VCALENDAR
VERSION:2.0
PRODID:-//Mindfulness LAB — Sylwia RoMa — HOLI Body&amp;Mind - ECPv6.15.14//NONSGML v1.0//EN
CALSCALE:GREGORIAN
METHOD:PUBLISH
X-ORIGINAL-URL:https://centrumholi.pl
X-WR-CALDESC:Wydarzenia dla Mindfulness LAB — Sylwia RoMa — HOLI Body&amp;Mind
REFRESH-INTERVAL;VALUE=DURATION:PT1H
X-Robots-Tag:noindex
X-PUBLISHED-TTL:PT1H
BEGIN:VTIMEZONE
TZID:Europe/Warsaw
BEGIN:DAYLIGHT
TZOFFSETFROM:+0100
TZOFFSETTO:+0200
TZNAME:CEST
DTSTART:20150329T010000
END:DAYLIGHT
BEGIN:STANDARD
TZOFFSETFROM:+0200
TZOFFSETTO:+0100
TZNAME:CET
DTSTART:20151025T010000
END:STANDARD
BEGIN:DAYLIGHT
TZOFFSETFROM:+0100
TZOFFSETTO:+0200
TZNAME:CEST
DTSTART:20160327T010000
END:DAYLIGHT
BEGIN:STANDARD
TZOFFSETFROM:+0200
TZOFFSETTO:+0100
TZNAME:CET
DTSTART:20161030T010000
END:STANDARD
BEGIN:DAYLIGHT
TZOFFSETFROM:+0100
TZOFFSETTO:+0200
TZNAME:CEST
DTSTART:20170326T010000
END:DAYLIGHT
BEGIN:STANDARD
TZOFFSETFROM:+0200
TZOFFSETTO:+0100
TZNAME:CET
DTSTART:20171029T010000
END:STANDARD
END:VTIMEZONE
BEGIN:VEVENT
DTSTART;TZID=Europe/Warsaw:20161119T173000
DTEND;TZID=Europe/Warsaw:20161119T193000
DTSTAMP:20260425T143414
CREATED:20160914T164621Z
LAST-MODIFIED:20160914T164621Z
UID:648-1479576600-1479583800@centrumholi.pl
SUMMARY:Malowanie medytacyjne SUMI-E
DESCRIPTION:„SUMI-E” – japońskie malowanie medytacyjne\nWarsztaty SUMI-E to ciekawa kombinacja połączenia sztuki\, medytacji i terapii. Twoja psychika w sposób naturalny wybierze ten aspekt\, który będzie jej potrzebny do dalszego rozwoju. Będziemy używać tylko dwóch kolorów (czarnego i czerwonego) i przekonamy się jak niewiele trzeba namalować\, aby było to piękne i poruszające. Użyjemy oryginalnego tuszu pachnącego sosną i chińskiego pędzla zrobionego z naturalnego włosia łasiczki\, owcy lub wiewiórki. \nNa początku studiujemy różne rodzaje linii i pociągnięć pędzla\, ucząc się nadawać im emocje i charakter. Następnie zaczynamy ich używać\, aby wyrażać najprostsze kształty i zawrzeć w nich uczucie. A poznawszy podstawy\, malujemy całe elementy natury czyli bambusy\, orchidee\, róże\, kwiaty wiśni\, trawy\, motyle\, drzewa\, góry… a wszystko to tylko kilkoma pociągnięciami pędzla\, które mają zachwycić prostotą\, elegancją i lekkością. \nPodczas malowania będziemy rozwijać uważność postawy\, oddechu i nastawienia wewnętrznego\, od których będą zależały efekty naszego tworzenia. \nOprócz ćwiczeń i techniki\, na każdych warsztatach wykonamy kartę okolicznościową w stylu orientalnym lub mini-obrazek do oprawienia w ramkę…..czyli doskonałe prezenty na każdą okazję. \nA wszystko to w atmosferze wcale nie takiej poważnej :)….będzie humor i zabawa na przemian z koncentracją i skupieniem czyli HOLI-stycznie. \nW przerwie kawa\, herbata i wrażenia…. \nNa zajęcia proszę przynieść zwykłą papierową teczkę A4\, aby bezpiecznie przewieźć swoje prace do domu. Uczestnikom warsztatów zapewniamy papier\, tusz i pędzle.  \nProwadzący: \nIzabela Gałęzowska jest absolwentką wydziału anglistyki Uniwersytetu Łódzkiego. Pracę intelektualną przeplata z pracą artystyczną\, co zapewnia jej życie w równowadze ku radości ciała i duszy. Ma również przygotowanie i doświadczenie choreograficzne – od dwudziestu lat zajmuje się tańcem. Wrażliwość artystyczna poprowadziła ją w stronę orientu i urzekła ją dawna japońska forma malowania\, w której dominuje prostota i spokój. Naukę Sumi-e pobierała w Holandii i kontynuuje w kraju\, samodzielnie zgłębiając jej tajniki i dzieląc się doświadczeniami na warsztatach. Jak twierdzi\, do tego rodzaju malowania potrzebna jest jedyni bezwarunkowa OBECNOŚĆ\, a talent sam Cię wtedy odnajdzie. \nORGANIZACJA: \n\nna warsztaty obowiązuje rezerwacja miejsca; jeśli jesteś zainteresowany/a napisz na maila klub@centrumholi.pl\nkoszt warsztatów: pojedyncze warsztaty 50 zł\nw cenie warsztatu zapewniamy materiały do pracy oraz przerwę kawową\nograniczona ilość miejsc na warsztaty: decyduje kolejność zgłoszeń\nopłata na numer konta podany mailowo po rezerwacji\nmiejsce: HOLI Centrum Uważności\, ul. Dowborczyków 17\n\nZapraszamy na warsztaty! \nInformacje telefoniczne: 575 44 23 26
URL:https://centrumholi.pl/event/malowanie-medytacyjne-sumi-e-2/
CATEGORIES:Mindfulness,Rozwój Osobisty
ATTACH;FMTTYPE=:
END:VEVENT
END:VCALENDAR