BEGIN:VCALENDAR
VERSION:2.0
PRODID:-//Mindfulness LAB — Sylwia RoMa — HOLI Body&amp;Mind - ECPv6.15.14//NONSGML v1.0//EN
CALSCALE:GREGORIAN
METHOD:PUBLISH
X-WR-CALNAME:Mindfulness LAB — Sylwia RoMa — HOLI Body&amp;Mind
X-ORIGINAL-URL:https://centrumholi.pl
X-WR-CALDESC:Wydarzenia dla Mindfulness LAB — Sylwia RoMa — HOLI Body&amp;Mind
REFRESH-INTERVAL;VALUE=DURATION:PT1H
X-Robots-Tag:noindex
X-PUBLISHED-TTL:PT1H
BEGIN:VTIMEZONE
TZID:Europe/Warsaw
BEGIN:DAYLIGHT
TZOFFSETFROM:+0100
TZOFFSETTO:+0200
TZNAME:CEST
DTSTART:20180325T010000
END:DAYLIGHT
BEGIN:STANDARD
TZOFFSETFROM:+0200
TZOFFSETTO:+0100
TZNAME:CET
DTSTART:20181028T010000
END:STANDARD
BEGIN:DAYLIGHT
TZOFFSETFROM:+0100
TZOFFSETTO:+0200
TZNAME:CEST
DTSTART:20190331T010000
END:DAYLIGHT
BEGIN:STANDARD
TZOFFSETFROM:+0200
TZOFFSETTO:+0100
TZNAME:CET
DTSTART:20191027T010000
END:STANDARD
BEGIN:DAYLIGHT
TZOFFSETFROM:+0100
TZOFFSETTO:+0200
TZNAME:CEST
DTSTART:20200329T010000
END:DAYLIGHT
BEGIN:STANDARD
TZOFFSETFROM:+0200
TZOFFSETTO:+0100
TZNAME:CET
DTSTART:20201025T010000
END:STANDARD
BEGIN:DAYLIGHT
TZOFFSETFROM:+0100
TZOFFSETTO:+0200
TZNAME:CEST
DTSTART:20210328T010000
END:DAYLIGHT
BEGIN:STANDARD
TZOFFSETFROM:+0200
TZOFFSETTO:+0100
TZNAME:CET
DTSTART:20211031T010000
END:STANDARD
END:VTIMEZONE
BEGIN:VEVENT
DTSTART;TZID=Europe/Warsaw:20200606T101500
DTEND;TZID=Europe/Warsaw:20200606T113000
DTSTAMP:20260420T085944
CREATED:20200604T133740Z
LAST-MODIFIED:20220918T121755Z
UID:2331-1591438500-1591443000@centrumholi.pl
SUMMARY:Redukcja stresu za pomocą uważności - spotkanie otwarte i praktyka Mindfulness
DESCRIPTION:Nasz świat zmienił się nagle\, zdajemy sobie sprawę\, że nasze życie po ustąpieniu pandemii nie będzie już takie samo. Dla wielu z nas wiąże się to z koniecznością trudnej adaptacji do nowych warunków\, niepewnością o przyszłość i ogromnym obciążeniem psychicznym. Już dziś mówi się\, że skutkiem pandemii koronawirusa będzie kolejna pandemia: wystąpić może znaczący wzrost zapadalności na zaburzenia psychiczne na świecie i jednym z czynników odpowiedzialnych za to będzie wymuszona przez czynniki zewnętrzne społeczna izolacja oraz związany z nią przewlekły stres.\n\nJak pokazują psychologowie\, psychiczne skutki pandemii mogą być podobne jak w sytuacjach ekstramalnych\, jak ataki terrorystyczne czy trzęsienia ziemi. W związku z tym\, jest to temat\, którego nie powinniśmy bagatelizować. Wracając do normalności\, lub poszukując „nowej rzeczywistości” niezwykle ważnym elementem będzie budowanie własne siły i odporności psychicznej\, która będzie fundamentem pewności siebie i poczucia własnej wartości. \n\n \n\nZastanawiasz się czy kurs uważności może byc czyms pomocnym dla Ciebie w nowej rzeczywistości?\n\nA może chcesz dowiedzieć się więcej o mindfulness zanim podejmiesz decyzję?\n\n \nWykład i Praktyka Mindfulness\nZapraszam Cię serdecznie na wykład i otwartą praktykę Mindfulness. Będę mówić o:\n\n 	Sytuacja kryzysowa i zagrażająca życiu a mózg – co wydarzyło się w naszych głowach?\n 	Jaki jest wpływ ośrodka zagrożenia na logiczne myślenie?\n 	Rozwój inteligencji emocjonalnej a zdolności adaptacyjne do sytuacji stresowej\n 	Czy możemy powstrzymać negatywne myślenie?\n 	Medytacja – mity i fakty dotyczące jej wpływu na reedukacje stresu i napięć psychicznyc\n 	Rezyliencja jako zdolność dostosowywania się do zmieniających się warunków\, umiejętności adaptacji i zdolność do regeneracji i odzyskiwania sił psychicznych i fizycznych w trudnych sytuacjach\n\nWykład będzie także zapowiedzą warsztatów w tych obszarach\, które planuje w najbliższym czasie.\n\n \nWięcej o Mindfulness\nMindfulness pozwala zwolnić\, lecz to nie znaczy że w życiu robi się nudno. Wręcz przeciwnie. Dopiero wtedy jesteśmy w stanie dostrzec wielobarwność każdej chwili\, być w pełnym znaczeniu frazy „tu i teraz”. Co ciekawe\, kiedy przestajemy za czymś gonić\, kiedy „odpuszczamy” – to rozwiązanie samo przychodzi.\n\nUważność to możliwość bycia opanowanym\, spokojnym i stabilnym wewnętrznie – zarówno w pracy\, w roli zawodowej jak i w życiu prywatnym\, w roli partnera czy rodzica.\n\nStan uważności w umyśle można porównać do istnienia jeziora – nawet jeśli pogoda jest zmienna\, pada deszcz\, czy wieje wiatr – to jedynie dotyka tafli wody. Pod spodem panuje cisza i niczym nieporuszone życie toczy się swoim tempem\, w spokoju… W naszym życiu też spotykają nas różne „warunki atmosferyczne” \,a bycie uważnym pozwala zachować ten stan wewnętrznego spokoju. Jezioro się nie napina\, nie krzyczy\, po prostu jest.\nProwadzi\nSylwia Rogala-Marciniak\nCertyfikowany nauczyciel mindfulness MBSR/MBCL (certyfikat Maindfulness Based Stress Reduction wydany przez Institute for Mindfulness-Based Approaches/Polski Instytut Mindfulness; certyfikat Mindfulness-Based Compassionate Living wydany przez Polski Instytut Mindfulness). Erickson International Coach\, Opiekun merytoryczny i Wykładowca kształcenia podyplomowego na Uniwersytecie Łódzkim\, Superwizor i Mentor Coach CoachingSteps™ przy Pracowni Rozwoju Kompetencji UŁ. W latach 2015 – 2017 pełniła funkcję dyrektorki Łódzkiego Oddziału Izby Coachingu oraz Festiwalu PROGRESSteron w Łodzi. Twórca HOLI Body&Mind Center\, ośrodka zajmującego się medytacją mindfulness. Certyfikowany trener biznesu szkoły Trenerów i Konsultantów Zarządzania MATRIK   – metodologia oparta na międzynarodowych standardach NVQ International Trainers Certification in Training\, Learning and Development – MATRIK & Pearson Edexcel International. Współautorka bestsellera „Coaching. Zbiór narzędzi wspierania rozwoju” (Wolters Kluwer Polska – ABC\, 2012r. ). Ma za sobą ponad 3 tyś godzin na sali szkoleniowej i 600 h sesji indywidualnych. Treningi redukcji stresu\, uważności i medytacji prowadzi od 2008 roku\, a od 2015 roku w formie pełnych certyfikowanych kursów MBSR.\n\nZapisy: zarejestruj się zgłaszając na maila klub@centrumholi.pl lub w rezerwacjach on-line na naszej stronie.
URL:https://centrumholi.pl/event/redukcja-stresu-za-pomoca-uwaznosci-spotkanie-otwarte-i-praktyka-mindfulness/
CATEGORIES:Event,Mindfulness
ATTACH;FMTTYPE=image/png:https://centrumholi.pl/wp-content/uploads/2020/06/2-2-e1638906614418.png
END:VEVENT
BEGIN:VEVENT
DTSTART;TZID=Europe/Warsaw:20190828T184500
DTEND;TZID=Europe/Warsaw:20190828T201500
DTSTAMP:20260420T085944
CREATED:20190811T093533Z
LAST-MODIFIED:20220918T121818Z
UID:4785-1567017900-1567023300@centrumholi.pl
SUMMARY:Czym Jest Mindfulness? Spotkanie Otwarte i Wykład
DESCRIPTION:Zastanawiasz się czy kurs uważności jest czymś dla Ciebie?\nA może chcesz dowiedzieć się więcej o mindfulness zanim podejmiesz decyzję?\n\nZapraszamy serdecznie na darmowe spotkanie informacyjne na temat mindfulness oraz MBSR (Mindfulness Based Stress Reduction).\nPodczas spotkania:\n\n 	dowiesz się czym jest mindfulness oraz MBSR/MBCT i na czym polega efektywność tej metody\n 	doświadczysz uważności na sobie\n 	będzie to okazja do zapisania się w promocyjnej cenie na najbliższą edycję kursu\n\nMindfulness pozwala zwolnić\, lecz to nie znaczy że w życiu robi się nudno. Wręcz przeciwnie. Dopiero wtedy jesteśmy w stanie dostrzec wielobarwność każdej chwili\, być w pełnym znaczeniu frazy „tu i teraz”. Co ciekawe\, kiedy przestajemy za czymś gonić\, kiedy „odpuszczamy” – to rozwiązanie samo przychodzi.\n\nUważność to możliwość bycia opanowanym\, spokojnym i stabilnym wewnętrznie – zarówno w pracy\, w roli zawodowej jak i w życiu prywatnym\, w roli partnera czy rodzica.\n\nStan uważności w umyśle można porównać do istnienia jeziora – nawet jeśli pogoda jest zmienna\, pada deszcz\, czy wieje wiatr – to jedynie dotyka tafli wody. Pod spodem panuje cisza i niczym nieporuszone życie toczy się swoim tempem\, w spokoju… W naszym życiu też spotykają nas różne „warunki atmosferyczne” \,a bycie uważnym pozwala zachować ten stan wewnętrznego spokoju. Jezioro się nie napina\, nie krzyczy\, po prostu jest.\nProwadzi: Sylwia Rogala-Marciniak\nCertyfikowany nauczyciel mindfulness (certyfikat MBSR Maindfulness Based Stress Reduction wydany przez Institute for Mindfulness-Based Approaches/Polski Instytut Mindfulness)\, opiekun merytoryczny i wykładowca kształcenia podyplomowego na Uniwersytecie Łódzkim\, superwizor i mentor coach CoachingSteps™ przy Pracowni Rozwoju Kompetencji UŁ. W latach 2015 – 2017 pełniła funkcję dyrektorki Łódzkiego Oddziału Izby Coachingu oraz Festiwalu PROGRESSteron w Łodzi. Twórca HOLI Body&Mind Center. Erickson International Coach\, Certyfikowany trener biznesu szkoły Trenerów i Konsultantów Zarządzania MATRIK – metodologia oparta na międzynarodowych standardach NVQ International Trainers Certification in Training\, Learning and Development – MATRIK & Pearson Edexcel International. Współautorka bestsellera „Coaching. Zbiór narzędzi wspierania rozwoju” (Wolters Kluwer Polska – ABC\, 2012r. ). Od 15 lat praktykuje jogę i medytację\, jest nauczycielem jogi metodą BKS Iyengara o stopniu Introductory II. Treningi redukcji stresu\, uważności i medytacji prowadzi od 2008 roku\, a od 2015 roku w formie pełnych certyfikowanych kursów MBSR. Ma za sobą ponad 3 tyś godzin na sali warsztatowej w pracy z  grupami i klientami indywidualnymi.\n\nZapisy: zarejestruj się zgłaszając na maila klub@centrumholi.pl lub w rezerwacjach on-line na naszej stronie.
URL:https://centrumholi.pl/event/czym-jest-mindfulness-spotkanie-otwarte-i-wyklad-2/
CATEGORIES:Mindfulness
ATTACH;FMTTYPE=:
END:VEVENT
BEGIN:VEVENT
DTSTART;TZID=Europe/Warsaw:20190515T183000
DTEND;TZID=Europe/Warsaw:20190515T200000
DTSTAMP:20260420T085944
CREATED:20190402T155645Z
LAST-MODIFIED:20190402T155645Z
UID:1764-1557945000-1557950400@centrumholi.pl
SUMMARY:CZYM JEST MINDFULNESS? SPOTKANIE OTWARTE I WYKŁAD
DESCRIPTION:Zastanawiasz się czy kurs uważności jest czymś dla Ciebie?\nA może chcesz dowiedzieć się więcej o mindfulness zanim podejmiesz decyzję? \nZapraszamy serdecznie na darmowe spotkanie informacyjne na temat mindfulness oraz MBSR (Mindfulness Based Stress Reduction). \nPodczas spotkania:\n\ndowiesz się czym jest mindfulness oraz MBSR/MBCT i na czym polega efektywność tej metody\ndoświadczysz uważności na sobie\nbędzie to okazja do zapisania się w promocyjnej cenie na najbliższą edycję kursu\n\nMindfulness pozwala zwolnić\, lecz to nie znaczy że w życiu robi się nudno. Wręcz przeciwnie. Dopiero wtedy jesteśmy w stanie dostrzec wielobarwność każdej chwili\, być w pełnym znaczeniu frazy „tu i teraz”. Co ciekawe\, kiedy przestajemy za czymś gonić\, kiedy „odpuszczamy” – to rozwiązanie samo przychodzi. \nUważność to możliwość bycia opanowanym\, spokojnym i stabilnym wewnętrznie – zarówno w pracy\, w roli zawodowej jak i w życiu prywatnym\, w roli partnera czy rodzica. \nStan uważności w umyśle można porównać do istnienia jeziora – nawet jeśli pogoda jest zmienna\, pada deszcz\, czy wieje wiatr – to jedynie dotyka tafli wody. Pod spodem panuje cisza i niczym nieporuszone życie toczy się swoim tempem\, w spokoju… W naszym życiu też spotykają nas różne „warunki atmosferyczne” \,a bycie uważnym pozwala zachować ten stan wewnętrznego spokoju. Jezioro się nie napina\, nie krzyczy\, po prostu jest. \nProwadzi: Sylwia Rogala-Marciniak\nCertyfikowany nauczyciel mindfulness (certyfikat MBSR Maindfulness Based Stress Reduction wydany przez Institute for Mindfulness-Based Approaches/Polski Instytut Mindfulness)\, opiekun merytoryczny i wykładowca kształcenia podyplomowego na Uniwersytecie Łódzkim\, superwizor i mentor coach CoachingSteps™ przy Pracowni Rozwoju Kompetencji UŁ. W latach 2015 – 2017 pełniła funkcję dyrektorki Łódzkiego Oddziału Izby Coachingu oraz Festiwalu PROGRESSteron w Łodzi. Twórca HOLI Centrum Uważności. Erickson International Coach\, Certyfikowany trener biznesu szkoły Trenerów i Konsultantów Zarządzania MATRIK – metodologia oparta na międzynarodowych standardach NVQ International Trainers Certification in Training\, Learning and Development – MATRIK & Pearson Edexcel International. Współautorka bestsellera „Coaching. Zbiór narzędzi wspierania rozwoju” (Wolters Kluwer Polska – ABC\, 2012r. ). Od 15 lat praktykuje jogę i medytację\, jest nauczycielem jogi metodą BKS Iyengara o stopniu Introductory II. Treningi redukcji stresu\, uważności i medytacji prowadzi od 2008 roku\, a od 2015 roku w formie pełnych certyfikowanych kursów MBSR. Ma za sobą ponad 3 tyś godzin na sali warsztatowej w pracy z  grupami i klientami indywidualnymi. \nZapisy: zarejestruj się zgłaszając na maila klub@centrumholi.pl
URL:https://centrumholi.pl/event/czym-jest-mindfulness-spotkanie-otwarte-i-wyklad/
CATEGORIES:Event,Mindfulness
ATTACH;FMTTYPE=image/png:https://centrumholi.pl/wp-content/uploads/2019/04/2.png
END:VEVENT
BEGIN:VEVENT
DTSTART;TZID=Europe/Warsaw:20190306T183000
DTEND;TZID=Europe/Warsaw:20190306T200000
DTSTAMP:20260420T085944
CREATED:20190109T134241Z
LAST-MODIFIED:20190109T134241Z
UID:1170-1551897000-1551902400@centrumholi.pl
SUMMARY:CZYM JEST MINDFULNESS? SPOTKANIE OTWARTE & WYKŁAD
DESCRIPTION:Zastanawiasz się czy kurs uważności jest czymś dla Ciebie?\nA możesz chcesz dowiedzieć się więcej o mindfulness zanim podejmiesz decyzję? \nZapraszamy serdecznie na darmowe spotkanie informacyjne na temat mindfulness oraz MBSR (Mindfulness Based Stress Reduction). \nPodczas spotkania:\n\ndowiesz się czym jest mindfulness oraz MBSR/MBCT i na czym polega efektywność tej metody\ndoświadczysz uważności na sobie\nbędzie to okazja do zapisania się w promocyjnej cenie na najbliższą edycję kursu\, który startuje 13.02.\n\nMindfulness pozwala zwolnić\, lecz to nie znaczy że w życiu robi się nudno. Wręcz przeciwnie. Dopiero wtedy jesteśmy w stanie dostrzec wielobarwność każdej chwili\, być w pełnym znaczeniu frazy „tu i teraz”. Co ciekawe\, kiedy przestajemy za czymś gonić\, kiedy „odpuszczamy” – to rozwiązanie samo przychodzi. \nUważność to możliwość bycia opanowanym\, spokojnym i stabilnym wewnętrznie – zarówno w pracy\, w roli zawodowej jak i w życiu prywatnym\, w roli partnera czy rodzica. \nStan uważności w umyśle można porównać do istnienia jeziora – nawet jeśli pogoda jest zmienna\, pada deszcz\, czy wieje wiatr – to jedynie dotyka tafli wody. Pod spodem panuje cisza i niczym nieporuszone życie toczy się swoim tempem\, w spokoju.. w naszym życiu też spotykają nas różne „warunki atmosferyczne” a bycie uważnym pozwala zachować ten stan wewnętrznego spokoju. Jezioro się nie napina\, nie krzyczy\, po prostu jest. \nProwadzi: Sylwia Rogala-Marciniak\nCertyfikowany nauczyciel mindfulness (certyfikat MBSR Maindfulness Based Stress Reduction wydany przez Institute for Mindfulness-Based Approaches/Polski Instytut Mindfulness)\, opiekun merytoryczny i wykładowca kształcenia podyplomowego na Uniwersytecie Łódzkim\, superwizor i mentor coach CoachingSteps™ przy Pracowni Rozwoju Kompetencji UŁ. W latach 2015 – 2017 pełniła funkcję dyrektorki Łódzkiego Oddziału Izby Coachingu oraz Festiwalu PROGRESSteron w Łodzi. Twórca HOLI Centrum Uważności. Erickson International Coach\, Certyfikowany trener biznesu szkoły Trenerów i Konsultantów Zarządzania MATRIK – metodologia oparta na międzynarodowych standardach NVQ International Trainers Certification in Training\, Learning and Development – MATRIK & Pearson Edexcel International. Współautorka bestsellera „Coaching. Zbiór narzędzi wspierania rozwoju” (Wolters Kluwer Polska – ABC\, 2012r. ). Od 15 lat praktykuje jogę i medytację\, jest nauczycielem jogi metodą BKS Iyengara o stopniu Introductory II. Treningi redukcji stresu\, uważności i medytacji prowadzi od 2008 roku\, a od 2015 roku w formie pełnych certyfikowanych kursów MBSR. Ma za sobą ponad 3 tyś godzin na sali warsztatowej w pracy z  grupami i klientami indywidualnymi. \nZapisy: zarejestruj się zgłaszając na maila klub@centrumholi.pl
URL:https://centrumholi.pl/event/czym-jest-mindfulness-spotkanie-otwarte-wyklad/
CATEGORIES:Event,Mindfulness
ATTACH;FMTTYPE=:
END:VEVENT
END:VCALENDAR