BEGIN:VCALENDAR
VERSION:2.0
PRODID:-//Mindfulness LAB — Sylwia RoMa — HOLI Body&amp;Mind - ECPv6.15.14//NONSGML v1.0//EN
CALSCALE:GREGORIAN
METHOD:PUBLISH
X-WR-CALNAME:Mindfulness LAB — Sylwia RoMa — HOLI Body&amp;Mind
X-ORIGINAL-URL:https://centrumholi.pl
X-WR-CALDESC:Wydarzenia dla Mindfulness LAB — Sylwia RoMa — HOLI Body&amp;Mind
REFRESH-INTERVAL;VALUE=DURATION:PT1H
X-Robots-Tag:noindex
X-PUBLISHED-TTL:PT1H
BEGIN:VTIMEZONE
TZID:Europe/Warsaw
BEGIN:DAYLIGHT
TZOFFSETFROM:+0100
TZOFFSETTO:+0200
TZNAME:CEST
DTSTART:20160327T010000
END:DAYLIGHT
BEGIN:STANDARD
TZOFFSETFROM:+0200
TZOFFSETTO:+0100
TZNAME:CET
DTSTART:20161030T010000
END:STANDARD
BEGIN:DAYLIGHT
TZOFFSETFROM:+0100
TZOFFSETTO:+0200
TZNAME:CEST
DTSTART:20170326T010000
END:DAYLIGHT
BEGIN:STANDARD
TZOFFSETFROM:+0200
TZOFFSETTO:+0100
TZNAME:CET
DTSTART:20171029T010000
END:STANDARD
BEGIN:DAYLIGHT
TZOFFSETFROM:+0100
TZOFFSETTO:+0200
TZNAME:CEST
DTSTART:20180325T010000
END:DAYLIGHT
BEGIN:STANDARD
TZOFFSETFROM:+0200
TZOFFSETTO:+0100
TZNAME:CET
DTSTART:20181028T010000
END:STANDARD
END:VTIMEZONE
BEGIN:VEVENT
DTSTART;TZID=Europe/Warsaw:20170705T150000
DTEND;TZID=Europe/Warsaw:20170705T200000
DTSTAMP:20260420T021423
CREATED:20170220T160547Z
LAST-MODIFIED:20170220T160547Z
UID:832-1499266800-1499284800@centrumholi.pl
SUMMARY:Letnia Akademia :: Mindfulness dla Biznesu ::
DESCRIPTION:Letnia Akademia Mindfulness dla Biznesu jest ofertą skierowaną do kadry zarządzającej. Zapraszamy menedżerów\, którzy chcieliby żyć bardziej świadomie i rozwijać uważność w swojej pracy i komunikacji w zespole. \nProgram składa się z dwóch zjazdów stacjonarnych oraz 8-tygodniwego programu uważności\, realizowanego samodzielnie pomiędzy zjazdami. \nCo oferujemy? \n\n2 zjazdy stacjonarne: 05-08 lipca oraz 13-16 września\n8-tygodniowy program redukcji stresu w oparciu o uważność (MBSR)\ncertyfikat ukończenia programu\n\nW programie zjazdu: \n\nCodzienne zajęcia jogi i medytacji\nDwa 3-dniowe pobyty w ośrodku Columna Medica wraz z pełnym wyżywieniem\nAnaliza Diers kręgosłupa (lipiec)\nMasaż indywidualny\nSzkoła Zdrowych Pleców (lipiec)\nWarsztaty Akademia Uważnego Lidera (wrzesień)\n\nPROGRAMY ZJAZDÓW \nI zjazd 5-8 LIPCA 2017 – 25 godzin zajęć\nPodczas pierwszego warsztatu zajmiemy się tematem osobistej uważności.\nPodczas tego zjazdu dowiesz się czym jest Mindfulness i w jaki sposób możesz rozwijać własną uważność.\nOtrzymasz komplet materiałów edukacyjnych wraz z płytami CD/DVD\, które będą towarzyszyć własnej transformacji przez kolejne 8 tygodni. \nII zjazd – 13-16 WRZEŚNIA 2017 – 25 godzin zajęć\nPodczas drugiego warsztatu zajmiemy się tematem wykorzystania uważności w pracy z ludźmi. Podczas trzech dni warsztatów poruszymy zagadnienia związane z zarządzaniem przez uważność i budowaniem osobistej postawy i autorytetu. Pokażemy w jaki sposób trening uważności przekłada się na koncentrację\, kreatywność i motywację. \nPomiędzy zjazdami – 8 tygodni (około 60 dni) – osobista praktyka uważności zgodnie z otrzymanymi instrukcjami (30-60 minut) \nPROWADZĄCA: Sylwia Rogala-Marciniak\nCertyfikowany nauczyciel mindfulness (certyfikat MBSR Maindfulness Based Stress Reduction wydany przez Institute for Mindfulness-Based Approaches/Polski Instytut Mindfulness\, opiekun merytoryczny i wykładowca kształcenia podyplomowego na Uniwersytecie Łódzkim\, superwizor i mentor coach CoachingSteps™ przy Pracowni Rozwoju Kompetencji UŁ. \nPOZNAJ KONIECZNIE OPINIE UCZESTNIKÓW KURSÓW MBSR W CENTRUM HOLI:\nhttps://centrumholi.pl/mindfulness/opinie-o-kursie-redukcji-stresu/ \nMiejsce odbywania się warsztatów: \nColumna Medica\nul. Wakacyjna 8\, 98-100 Łask – Kolumna\n+48 43 676 80 00 \nKontakt w sprawie warunków i płatności:\nMaciej Kozakiewicz \, e: maciej.kozakiewicz@polskawitalna.pl\, tel: 607444242\nOPŁATA ZA CAŁY KURS:\n• 3500 zł netto + 23% VAT przy wpłacie do 31 maja 2017 r.\n• Po tym terminie 3900 zł netto + 23% VAT \nPOZNAJ KONIECZNIE OPINIE UCZESTNIKÓW KURSÓW MBSR W CENTRUM HOLI:\nhttps://centrumholi.pl/mindfulness/opinie-o-kursie-redukcji-stresu/ \nWięcej informacji na temat oferty: Akademia Mindfulness dla biznesu – folder
URL:https://centrumholi.pl/event/letnia-akademia-mindfulness-dla-biznesu/
CATEGORIES:Mindfulness
ATTACH;FMTTYPE=:
END:VEVENT
END:VCALENDAR