BEGIN:VCALENDAR
VERSION:2.0
PRODID:-//Mindfulness LAB — Sylwia RoMa — HOLI Body&amp;Mind - ECPv6.15.14//NONSGML v1.0//EN
CALSCALE:GREGORIAN
METHOD:PUBLISH
X-ORIGINAL-URL:https://centrumholi.pl
X-WR-CALDESC:Wydarzenia dla Mindfulness LAB — Sylwia RoMa — HOLI Body&amp;Mind
REFRESH-INTERVAL;VALUE=DURATION:PT1H
X-Robots-Tag:noindex
X-PUBLISHED-TTL:PT1H
BEGIN:VTIMEZONE
TZID:Europe/Warsaw
BEGIN:DAYLIGHT
TZOFFSETFROM:+0100
TZOFFSETTO:+0200
TZNAME:CEST
DTSTART:20160327T010000
END:DAYLIGHT
BEGIN:STANDARD
TZOFFSETFROM:+0200
TZOFFSETTO:+0100
TZNAME:CET
DTSTART:20161030T010000
END:STANDARD
BEGIN:DAYLIGHT
TZOFFSETFROM:+0100
TZOFFSETTO:+0200
TZNAME:CEST
DTSTART:20170326T010000
END:DAYLIGHT
BEGIN:STANDARD
TZOFFSETFROM:+0200
TZOFFSETTO:+0100
TZNAME:CET
DTSTART:20171029T010000
END:STANDARD
BEGIN:DAYLIGHT
TZOFFSETFROM:+0100
TZOFFSETTO:+0200
TZNAME:CEST
DTSTART:20180325T010000
END:DAYLIGHT
BEGIN:STANDARD
TZOFFSETFROM:+0200
TZOFFSETTO:+0100
TZNAME:CET
DTSTART:20181028T010000
END:STANDARD
END:VTIMEZONE
BEGIN:VEVENT
DTSTART;TZID=Europe/Warsaw:20170422T100000
DTEND;TZID=Europe/Warsaw:20170422T160000
DTSTAMP:20260420T070036
CREATED:20170330T124232Z
LAST-MODIFIED:20170330T124232Z
UID:894-1492855200-1492876800@centrumholi.pl
SUMMARY:Pełnia Życia - Potencjał i Cień
DESCRIPTION:Świat\, którego doświadczasz zmysłami\, który się zmienia i nabiera tempa\, który czasem Cię przytłacza\, sprawiając\, że czujesz\, że życie to trudny dla Ciebie czas. \n\n\n \n\n\nCzy tak ma to wyglądać ? Czy o to chodzi w życiu?\n\n\nA jeśli jest inna możliwość? Inna perspektywa?\n\n\n \n\n\nŚwiat jest grą przeciwieństw. Przeciwieństw\, które się wzajemnie łączą i przenikają\, tworząc Pełnię Życia. Jasny-ciemny. Dobry-zły. Ciepły-zimny. Spokojny-agresywny. Szybki-wolny. Zarozumiały-pewny siebie. Elastyczny-skostniały.\n\n\n \n\n\nCo by się zmieniło? Jakby wyglądało Twoje życie\, gdybyś zaczęła/ął poznawać i nauczyła/ł się świadomie używać energii tych przeciwieństw? W ten sposób tworząc pełnię i wewnętrzne zrozumienie samej/ego siebie\, ale też lepiej zrozumiała/ł powody tego\, dlaczego inni wokół ciebie zachowują się inaczej.\n\n\n \n\n\nWarsztat\, na który serdecznie Cię zapraszamy da Ci prostą metodę rozpoznawania potencjału-pozytywnej strony danej sytuacji oraz odważnego korzystania z jej cienia-ciemnej strony. Dzięki temu zaczniesz zamieniać część życia w jego PEŁNIĘ.\n\n\nRozwijając zdolności do używania przeciwieństw i zarządzania nimi otworzysz przed sobą nowe możliwości i zasoby\, którymi wcześniej nie dysponowałaś/eś. Obudzisz własną siłę i entuzjazm\, który stanie się nagrodą\, radością i uznaniem dla samej/ego Ciebie\, a także inspiracją dla Twoich najbliższych.\n\n\n \n\n\nŻyczymy Ci dużo dobrego i do zobaczenia już 22.04.2017 r. na warsztacie.\n\n\n \n\n\nProgram warsztatu:\n\n\n– zasady: partnerstwo\, zaangażowanie \, zaufanie\n\n\n– wzorce społeczne i kulturowe\n\n\n– wzorce z dzieciństwa\n\n\n– co dostrzegasz?\n\n\n– co wypierasz?\n\n\n– odczuj-uświadom sobie\n\n\n– zaakceptuj\n\n\n– uwolnij\n\n\n– bieguny i przeciwieństwa\n\n\n– potencjał i cień\n\n\n– motyw Motyla\n\n\n \n\n\n\n\nPROWADZĄCY:\n\n\nJoanna Wieczorek – trener & coach\,\n\n\nPiotr Tomaszewski- trener & coach\n\n\nO nas:\n\n\n\nJesteśmy Partnerami w życiu osobistym i zawodowym – co nieczęsto się zdarza 🙂\n\n\nChcemy pokazywać\, jak można skutecznie łączyć kobiecą mądrość i męską aktywność.\n\n\nTakie połączenie umożliwia także lepsze i skuteczniejsze docieranie do osób\, z którymi spotykamy się zawodowo. Dlaczego? Ponieważ każdy potrzebuje pewnej równowagi elementu męskiego i żeńskiego\, a co za tym idzie – innej metody pracy ze sobą.Jesteśmy spełnionymi ludźmi. Wszystko\, co robimy dziś jest przyjemnością i chęcią wspierania innych na drodze ich rozwoju. Droga\, jaką przechodzi większość z nas to podświadoma realizacja potencjału naszych rodziców. I na tym większość ludzi kończy. Realizują\, lub próbują realizować wzorce z dzieciństwa. Ale najważniejsze jest to\, co jest POZA TYM… – jakość życia\, której większość z nas nie zna. Dlaczego? Bo ich wzorzec odziedziczony po bliskich tego nie zawierał. Wielu ludzi czuje\, że mimo upływu lat nie realizuje swojego PEŁNEGO potencjału możliwości – tak\, jakby coś W NAS Z CZASEM UMIERAŁO… To\, co chcemy dać tym\, z którymi pracujemy\, to możliwość obudzenia odwagi\, by odkrywać życie bogatsze i ciekawsze niż dotychczas. Chcemy inspirować i wzniecać ogień motywacji\, który drzemie w każdym z nas! Dlaczego? Ponieważ lubimy ludzi i widzimy ich jako partnerów wspólnego rozwoju. Każdy\, kogo spotykamy jest wartościowy sam w sobie i to staramy się w ludziach obudzić – POCZUCIE ICH WŁASNEJ WARTOŚCI. Pomagamy innym uświadomić sobie\, że są wartościowi tacy\, jacy są\, a na ZMIANĘ nigdy nie jest za późno!\n\n\nAbsolwenci szkoły trenerów Cognitus -Katarzyna Świątkowska. Ukończony kurs kompetencji w zakresie Minfulness – Trening Uważności. Uczestnicy licznych konferecji z udziałem \,Kamili Rowińskiej\, prof. Rafała Ohme\,dr Łukasza Marciniaka\, dr Małgorzaty Sidor-Rządkowskiej\, Justyny Krawczyk(JBSK)\, Bartosza Berendt(Izba Coachingu) Adama Walerjańczyka\, Piotra Ławacza . Szkolenie z Motywacji Błyskawicznej u- Agnieszka Maruda Sperczak – jedynej trenerki tej metody w Polsce.\n\n\n \nORGANIZACJA:\nZapisy: klub@centrumholi.pl\n\n\nInwestycja:\n\n\nWpłata do 13.04.2017 – 130 zł\n\n\nWpłata do 19.04.2017 – 150 zł\n\n\nPo 20.04.2017 i w dniu warsztatów – 170 zł\n\n\n \n\n\nRabaty:\n\n\nZ Osobą towarzyszącą – 220 zł (110 zł/Osoba)\n\n\nWpłata jednorazowa za dwa warsztaty kwiecień/maj – 220zł/Osoba.\n\n\n \n\n\nWpłaty proszę przesyłać na konto:\n\n\nNr.konta: \n\n\n51 1020 3408 0000 4102 0206 7163\n\n\nJoanna Wieczorek\n\n\nW tytule przelewu prosimy podać: AiP\, data warsztatu\, imię i nazwisko Uczestnika.\n\n\n \n\n\nW tym cyklu zapraszamy Cię na dwa warsztaty:\n\n\n*22.04.2017 (sobota)\, godz.10.oo-16.oo „Pełnia życia – potencjał i cień”\n\n\n*20.05.2017 (sobota)\, godz 10.oo-16.oo „Umysł wolny od blokad i ograniczeń”\n\n\n 
URL:https://centrumholi.pl/event/pelnia-zycia-potencjal-i-cien/
CATEGORIES:Coaching,Rozwój Osobisty
ATTACH;FMTTYPE=:
END:VEVENT
END:VCALENDAR