BEGIN:VCALENDAR
VERSION:2.0
PRODID:-//Mindfulness LAB — Sylwia RoMa — HOLI Body&amp;Mind - ECPv6.15.14//NONSGML v1.0//EN
CALSCALE:GREGORIAN
METHOD:PUBLISH
X-WR-CALNAME:Mindfulness LAB — Sylwia RoMa — HOLI Body&amp;Mind
X-ORIGINAL-URL:https://centrumholi.pl
X-WR-CALDESC:Wydarzenia dla Mindfulness LAB — Sylwia RoMa — HOLI Body&amp;Mind
REFRESH-INTERVAL;VALUE=DURATION:PT1H
X-Robots-Tag:noindex
X-PUBLISHED-TTL:PT1H
BEGIN:VTIMEZONE
TZID:Europe/Warsaw
BEGIN:DAYLIGHT
TZOFFSETFROM:+0100
TZOFFSETTO:+0200
TZNAME:CEST
DTSTART:20150329T010000
END:DAYLIGHT
BEGIN:STANDARD
TZOFFSETFROM:+0200
TZOFFSETTO:+0100
TZNAME:CET
DTSTART:20151025T010000
END:STANDARD
BEGIN:DAYLIGHT
TZOFFSETFROM:+0100
TZOFFSETTO:+0200
TZNAME:CEST
DTSTART:20160327T010000
END:DAYLIGHT
BEGIN:STANDARD
TZOFFSETFROM:+0200
TZOFFSETTO:+0100
TZNAME:CET
DTSTART:20161030T010000
END:STANDARD
BEGIN:DAYLIGHT
TZOFFSETFROM:+0100
TZOFFSETTO:+0200
TZNAME:CEST
DTSTART:20170326T010000
END:DAYLIGHT
BEGIN:STANDARD
TZOFFSETFROM:+0200
TZOFFSETTO:+0100
TZNAME:CET
DTSTART:20171029T010000
END:STANDARD
END:VTIMEZONE
BEGIN:VEVENT
DTSTART;TZID=Europe/Warsaw:20161210T173000
DTEND;TZID=Europe/Warsaw:20161210T200000
DTSTAMP:20260420T053326
CREATED:20161124T135236Z
LAST-MODIFIED:20161124T135236Z
UID:719-1481391000-1481400000@centrumholi.pl
SUMMARY:Świąteczne warsztaty plastyczne
DESCRIPTION:WARSZTATY PLASTYCZNE DLA RODZICÓW Z DZIEĆMI  (od lat 5) i dla każdego kto ma chęć na ekspresję artystyczną. \nTworzymy\, doświadczamy\, odczuwamy….a przede wszystkim bawimy się. \nNa warsztatach wykonamy piękne karty świąteczne\, a motywem przewodnim na nich będzie c h o i n k a ???. Poznamy bardzo proste pomysły na wykonanie choinek z papieru\, wykorzystując różne kształty np. koła i trójkąty. Ozdobimy brokatem\, kolorowymi cekinami i weźmiemy nasze dzieła do domu. \n⭐ NA ZAJĘCIA NALEŻY PRZYNIEŚĆ: ⭐ \n– nożyczki\, klej\, ołówek (i jeśli ktoś ma\, to różne drobne ozdobniki do naklejania). \nProwadzący:\n\nIzabela Gałęzowska jest absolwentką wydziału anglistyki Uniwersytetu Łódzkiego. Pracę intelektualną przeplata z pracą artystyczną\, co zapewnia jej życie w równowadze ku radości ciała i duszy. Ma również przygotowanie i doświadczenie choreograficzne – od dwudziestu lat zajmuje się tańcem. Wrażliwość artystyczna poprowadziła ją w stronę orientu i urzekła ją dawna japońska forma malowania SUMI-E\, w której dominuje prostota i spokój. \nORGANIZACJA: \n– na warsztaty obowiązuje rezerwacja miejsca; jeśli jesteś zainteresowany/a napisz na maila klub@centrumholi.pl\n– koszt warsztatów: pojedyncze warsztaty 50 zł\n– w cenie warsztatu zapewniamy materiały do pracy oraz przerwę kawową ☕\n– ograniczona ilość miejsc na warsztaty: decyduje kolejność zgłoszeń\n– opłata na numer konta podany mailowo po rezerwacji \nZapraszamy na warsztaty! \nInformacje telefoniczne: 575 44 23 26
URL:https://centrumholi.pl/event/swiateczne-warsztaty-plastyczne/
CATEGORIES:Rozwój Osobisty
ATTACH;FMTTYPE=:
END:VEVENT
END:VCALENDAR