BEGIN:VCALENDAR
VERSION:2.0
PRODID:-//Mindfulness LAB — Sylwia RoMa — HOLI Body&amp;Mind - ECPv6.15.14//NONSGML v1.0//EN
CALSCALE:GREGORIAN
METHOD:PUBLISH
X-WR-CALNAME:Mindfulness LAB — Sylwia RoMa — HOLI Body&amp;Mind
X-ORIGINAL-URL:https://centrumholi.pl
X-WR-CALDESC:Wydarzenia dla Mindfulness LAB — Sylwia RoMa — HOLI Body&amp;Mind
REFRESH-INTERVAL;VALUE=DURATION:PT1H
X-Robots-Tag:noindex
X-PUBLISHED-TTL:PT1H
BEGIN:VTIMEZONE
TZID:Europe/Warsaw
BEGIN:DAYLIGHT
TZOFFSETFROM:+0100
TZOFFSETTO:+0200
TZNAME:CEST
DTSTART:20180325T010000
END:DAYLIGHT
BEGIN:STANDARD
TZOFFSETFROM:+0200
TZOFFSETTO:+0100
TZNAME:CET
DTSTART:20181028T010000
END:STANDARD
BEGIN:DAYLIGHT
TZOFFSETFROM:+0100
TZOFFSETTO:+0200
TZNAME:CEST
DTSTART:20190331T010000
END:DAYLIGHT
BEGIN:STANDARD
TZOFFSETFROM:+0200
TZOFFSETTO:+0100
TZNAME:CET
DTSTART:20191027T010000
END:STANDARD
BEGIN:DAYLIGHT
TZOFFSETFROM:+0100
TZOFFSETTO:+0200
TZNAME:CEST
DTSTART:20200329T010000
END:DAYLIGHT
BEGIN:STANDARD
TZOFFSETFROM:+0200
TZOFFSETTO:+0100
TZNAME:CET
DTSTART:20201025T010000
END:STANDARD
END:VTIMEZONE
BEGIN:VEVENT
DTSTART;TZID=Europe/Warsaw:20190301T170000
DTEND;TZID=Europe/Warsaw:20190301T200000
DTSTAMP:20260421T132425
CREATED:20190216T221533Z
LAST-MODIFIED:20190216T221533Z
UID:1467-1551459600-1551470400@centrumholi.pl
SUMMARY:Wydarzenie Otwierające Ecstatic Dance
DESCRIPTION:  \nNadszedł ten dzień.. otwieramy nasz ośrodek. 💚🌱 Nowe miejsce w Krakowie\, centrum mindfulness\, jogi i innych form pracy z ciałem. \n  \nZ tej okazji zapraszamy na Tydzień Otwarcia\, który rozpoczynają piątkowe warsztaty intuicyjnego ruchu. Przyjdź\, zabierz przyjaciół\, poznajmy się\, zobacz nasz ośrodek\, sprawdź czy to miejsce dla Ciebie. Zacznij miło weekend i poznajmy się 🙂\nZobacz naszą ofertę i weź udział w konkursie – do wygrania karnety oraz vouchery na kurs mindfulness. \n  \nPOCZUJ TEN KLIMAT 🧘🏼‍♀️🤸🏻‍♂️ #uwolnijciało #uwolnijemocje #uwolnijumysł\n\nW planie spotkania\n17:00 – 18:00 czas na spotkanie\, rozmowy\, poczęstunek\n18:00 – 19:30 warsztaty Ecstatic Dance\n  \nWdech. \nI wydech. \nPuść….. \nOtwórz się i niech twoje ciało poczuje wolność… \n  \nEkstatyczny taniec to wydarzenie taneczne dla osób\, które kochają taniec\, ruch\, różnorodną muzykę i wspólne doświadczanie. \nStworzymy bezpieczną przestrzeń\, by podzielić się i doświadczyć razem dobrej\, poruszającej muzyki\, pobyć w przyjaznym towarzystwie i poczuć na sobie terapeutyczną moc tańca i ruchu. \nTen proces to współczesny rytuał\, gdzie dźwięk i ruch służy jako medium transformacji. \nDoświadczenie swobodnego tańca jest okazją do uwolnienia napięć z ciała i duszy\, poczucia wolności i własnych możliwości. \nTo czas oczyszczenia\, otwarcia\, poznania swoich granic\, eksplorowania siebie. \nTo odnalezienie własnego rytmu. \nTo uroczystość ożywiająca naszą duszę i ciało. \nCzas na ugruntowanie i poczucie siebie na ziemi. \nWe wspólnocie. W radości. W sobie. Z innymi. \n  \nZasady są proste:\n\nPoruszaj się jak tylko chcesz i czujesz.\nSzanuj siebie i innych.\nNie rozmawiamy na parkiecie.\nUbieramy się wygodnie.\n\n  \nResztę doświadczysz na miejscu:). \n  \nProwadząca zajęcia:\nMonika Lipowska-Hajduk – psycholożka\, trenerka rozwoju osobistego\, specjalizującą się w psychologii prenatalnej i perinatalnej\, certyfikowaną w metodzie „Birth Into Being” . \nPracuje z traumami (www.birthintobeing.com.pl) – towarzyszy w momentach przejścia\, progach życia\, tak\, by osoby doświadczające ich\, mogły przechodzić je w zaufaniu i żyć w zgodzie z własnym sercem i intuicją.  Korzysta z tradycji rdzennych kultur\, pracy z duchowością\, korzystając z możliwości i potencjału różnych stanów świadomości. Wspiera we wprowadzaniu realnych zmian w swoim życiu. W swojej pracy reprezentuje podejście holistyczne. Specjalizuje się w pracy z okresem macierzyństwa. Wspiera kobiety/pary przed poczęciem\, w ciąży\, podczas porodu oraz okresie poporodowym (www.szczesliwa-mama.pl) oraz pracą z traumami okołoporodowymi u dorosłych. Pracuje na wielu poziomach: psychicznym\, emocjonalnym\, duchowym\, pracy z ciałem (masaż terapeutyczny  Lomi Lomi Nui). Wierzy\, że łączenie wszystkich aspektów funkcjonowania człowieka\, daje możliwość odkrycia kim jesteśmy i życia w harmonii. Fascynatka ciała\, swobodnego bycia w nim i jego możliwości. \n  \n 
URL:https://centrumholi.pl/event/wydarzenie-otwierajace-ecstatic-dance/
CATEGORIES:Event
ATTACH;FMTTYPE=:
END:VEVENT
END:VCALENDAR