BEGIN:VCALENDAR
VERSION:2.0
PRODID:-//Mindfulness LAB — Sylwia RoMa — HOLI Body&amp;Mind - ECPv6.15.14//NONSGML v1.0//EN
CALSCALE:GREGORIAN
METHOD:PUBLISH
X-WR-CALNAME:Mindfulness LAB — Sylwia RoMa — HOLI Body&amp;Mind
X-ORIGINAL-URL:https://centrumholi.pl
X-WR-CALDESC:Wydarzenia dla Mindfulness LAB — Sylwia RoMa — HOLI Body&amp;Mind
REFRESH-INTERVAL;VALUE=DURATION:PT1H
X-Robots-Tag:noindex
X-PUBLISHED-TTL:PT1H
BEGIN:VTIMEZONE
TZID:Europe/Warsaw
BEGIN:DAYLIGHT
TZOFFSETFROM:+0100
TZOFFSETTO:+0200
TZNAME:CEST
DTSTART:20150329T010000
END:DAYLIGHT
BEGIN:STANDARD
TZOFFSETFROM:+0200
TZOFFSETTO:+0100
TZNAME:CET
DTSTART:20151025T010000
END:STANDARD
BEGIN:DAYLIGHT
TZOFFSETFROM:+0100
TZOFFSETTO:+0200
TZNAME:CEST
DTSTART:20160327T010000
END:DAYLIGHT
BEGIN:STANDARD
TZOFFSETFROM:+0200
TZOFFSETTO:+0100
TZNAME:CET
DTSTART:20161030T010000
END:STANDARD
BEGIN:DAYLIGHT
TZOFFSETFROM:+0100
TZOFFSETTO:+0200
TZNAME:CEST
DTSTART:20170326T010000
END:DAYLIGHT
BEGIN:STANDARD
TZOFFSETFROM:+0200
TZOFFSETTO:+0100
TZNAME:CET
DTSTART:20171029T010000
END:STANDARD
END:VTIMEZONE
BEGIN:VEVENT
DTSTART;TZID=Europe/Warsaw:20160610T090000
DTEND;TZID=Europe/Warsaw:20160612T170000
DTSTAMP:20260420T214725
CREATED:20160424T203449Z
LAST-MODIFIED:20211207T161319Z
UID:481-1465549200-1465750800@centrumholi.pl
SUMMARY:Trzydniowy warsztat Z WIELKĄ ODWAGĄ - THE DARING WAY™ Joanna Chmura
DESCRIPTION:JAK WYGLĄDA TAKI WARSZTAT? \nDbając o jakość\, głębię i atmosferę pracy grupa warsztatowa Z WIELKĄ ODWAGĄ – THE DARING WAY™ jest bardzo mała (od 4 do 8 osób). Dzięki temu możliwe jest dostosowanie przebiegu warsztatu do potrzeb\, tempa i gotowości wszystkich uczestników. \nWarsztat trwa trzy dni i rozpoczyna się od wyboru ważnego dla Ciebie obszaru\, nad którym chcesz się skupić\, który chcesz wzmocnić i zbudować/odbudować na nowo – zwanego w tym modelu „areną”. To mogą być bardzo różne obszary np.: odwaga w zabieraniu głosu na forum\, mówienie o swoich potrzebach i negocjowanie\, akceptacja siebie\, odwaga bycia sobą w relacji z innymi ale także kreatywność\, rodzicielstwo\, godzenie pracy zawodowej z życiem prywatnym\, akceptacja kobiecości czy odwaga bycia mężczyzną. \nW procesie nauki\, ćwiczeń\, wykładów oraz podczas pracy pomiędzy kolejnymi dniami warsztatowymi będziesz stopniowo choć intensywnie przyglądać się wybranej arenie\, rozpoczynać proces zmiany w wymarzonym przez Ciebie kierunku i planować kolejne kroki w odważnym wejściu na nią. \nDzięki intensywnej pracy indywidualnej\, w parach\, trójkach oraz grupie będzie się rodzić gotowość i wolność do dokonania zmiany. Będzie to możliwe poprzez stopniowe odzyskiwanie wiary w swoje siły\, uświadomienie i weryfikację wartości\, którymi chcesz się kierować w życiu oraz dzięki wzmocnieniu akceptacji siebie\, która stanowi punkt wyjścia w budowaniu wszelkich wartościowych relacji w Twoim życiu – prywatnym czy zawodowym. \nCZY TO WARSZTAT DLA CIEBIE? \nJeśli masz już dość…\n– blokującego Cię perfekcjonizmu\n– wątpienia w siebie i podważania tego\, co czujesz i myślisz\n– wewnętrznej krytyki\n– strachu przed porażką\n– niewychylania się z obawy przed oceną\n– gonitwą za zewnętrzną akceptacją\n– negowania własnego potencjału\, kreatywności i odważnego myślenia\n– godzenia się na rzeczy\, na które nie chcesz się godzić\n– realizowania w pierwszej kolejności potrzeb i oczekiwań innych \n…to ten niezwykły\, mocny i piękny warsztat Z WIELKĄ ODWAGĄ – THE DARING WAY™ daje przestrzeń\, wiedzę\, zaplecze na rozprawienie się z tymi ograniczającymi Cię przekonaniami. \nNA WARSZTAT ZAPRASZAM WIĘC OSOBY\, KTÓRE:\n1. są zmęczone dotychczasowym sposobem działania i mają gotowość oraz chęć zmierzyć się z tym\, co powstrzymuje ich przed wejściem na osobistą czy zawodową „arenę”\n2. chcą zrobić krok w kierunku odważnego sięgnięcia po realizację swoich planów\n3. potrzebują znaleźć sposób na radzenie sobie z krytycznymi głosami pochodzącymi z zewnątrz i wewnątrz\n4. chcą zamienić myślenie z „Co pomyślą o mnie inni?” na „Akceptuję siebie takim\, jakim jestem”\n5. które na pytanie „W skali od 1 do 10 jak bardzo jesteś gotów na zmianę?” odpowiadają „10”. \nWięcej informacji znajdziesz tutaj:\nhttp://www.joannachmura.pl/news/10/23/The-Daring-Way-dla-klientow-indywidualnych.html \nUdział w warsztacie przy wpłacie:\n– do 14 IV – 20% rabat (2232zł brutto)\n– do 11 V – 10 % rabat (2511zł brutto)\n– po 12 V – cena regularna 2790zł brutto \nDodatkowo 10 % rabatu przysługuje:\n– studentom i absolwentom studiów podyplomowych Coaching i Mentoring Organizacyjny na UŁ\n– członkom Izby Coachingu Oddziału Łódzkiego \nChcesz się zapisać? Skontaktuj się z nami: klub@centrumholi.pl
URL:https://centrumholi.pl/event/trzydniowy-warsztat-z-wielka-odwaga-the-daring-way-joanna-chmura/
CATEGORIES:Coaching,Rozwój Osobisty
ATTACH;FMTTYPE=:
END:VEVENT
END:VCALENDAR