BEGIN:VCALENDAR
VERSION:2.0
PRODID:-//Mindfulness LAB — Sylwia RoMa — HOLI Body&amp;Mind - ECPv6.15.14//NONSGML v1.0//EN
CALSCALE:GREGORIAN
METHOD:PUBLISH
X-ORIGINAL-URL:https://centrumholi.pl
X-WR-CALDESC:Wydarzenia dla Mindfulness LAB — Sylwia RoMa — HOLI Body&amp;Mind
REFRESH-INTERVAL;VALUE=DURATION:PT1H
X-Robots-Tag:noindex
X-PUBLISHED-TTL:PT1H
BEGIN:VTIMEZONE
TZID:Europe/Warsaw
BEGIN:DAYLIGHT
TZOFFSETFROM:+0100
TZOFFSETTO:+0200
TZNAME:CEST
DTSTART:20240331T010000
END:DAYLIGHT
BEGIN:STANDARD
TZOFFSETFROM:+0200
TZOFFSETTO:+0100
TZNAME:CET
DTSTART:20241027T010000
END:STANDARD
BEGIN:DAYLIGHT
TZOFFSETFROM:+0100
TZOFFSETTO:+0200
TZNAME:CEST
DTSTART:20250330T010000
END:DAYLIGHT
BEGIN:STANDARD
TZOFFSETFROM:+0200
TZOFFSETTO:+0100
TZNAME:CET
DTSTART:20251026T010000
END:STANDARD
BEGIN:DAYLIGHT
TZOFFSETFROM:+0100
TZOFFSETTO:+0200
TZNAME:CEST
DTSTART:20260329T010000
END:DAYLIGHT
BEGIN:STANDARD
TZOFFSETFROM:+0200
TZOFFSETTO:+0100
TZNAME:CET
DTSTART:20261025T010000
END:STANDARD
END:VTIMEZONE
BEGIN:VEVENT
DTSTART;TZID=Europe/Warsaw:20251016T183000
DTEND;TZID=Europe/Warsaw:20251016T210000
DTSTAMP:20260420T023227
CREATED:20250308T055031Z
LAST-MODIFIED:20251008T162909Z
UID:8036-1760639400-1760648400@centrumholi.pl
SUMMARY:Trening Uważności MBSR Plus Nerw Błędny
DESCRIPTION:Kurs MBSR (Mindfulness Based Stress Reduction) jest to 8-tygodniowy kurs uważności opracowany w latach 70-tych przez profesora Johna Kabat-Zinn’a i w oryginalnej wersji prowadzony przez licencjonowanych nauczycieli na całym świecie. Bazuje on na pracy naukowej\, sięga do tradycji buddyjskiej medytacji uważności\, integruje naukę wschodu i zachodu\, łącząc się z elementami psychologi współczesnej.\n[Prawa autorskie do poniższych treści należą do Sylwii Roma. Uprzejmie proszę o nie kopiowanie \nopisów do swoich programów]\nJak wygląda kurs?\nPodczas 8 tygodni kursu jego uczestnicy uczą się w jaki sposób pracować ze swoimi nawykami i przekonaniami\, tak by porzucać schematy myślowe na rzecz wolności mentalnej\, większej samoświadomości\, umiejętności redukowania napięcia emocjonalnego. Ważnym elementem kursu jest codzienna praktyka własna uczestników wg otrzymanych od nauczyciela MBSR wskazówek i nagrań. \nNa czym polega różnica między tym kursem\, a innymi?\nOgromny sukces MBSR zawdzięcza ponad 40-latom badań i ciągłemu rozwojowi metodologii. To sprawia\, że program jest zaplanowanym procesem\, w którym nic nie dzieje się przypadkiem – za każdym elementem omawianym podczas zajęć\, a także każdą medytacją prowadzoną przez nauczyciela stoi określona metodologia. Dlatego słuchanie medytacji mindfulness dostępnej w sieci nie zawsze będzie oznaczać\, że trafiasz na formę\, która bazuje na naukowych odkryciach: merytoryka prowadzenia\, czas trwania\, forma powtarzania\, metodologia pracy przez 8 tygodni – wszystko tu ma określony sens. \nNauczyciele mindfulness MBSR pracują zgodnie z międzynarodowymi standardami\, poddając swą pracę mentoringowi i rozwijając się na własnej ścieżce medytacyjnej. \nPonad to jest on przygotowaną naukowo i zamkniętą formułą\, która z lekcji na lekcje otwiera arkana kolejnych fragmentów wiedzy i umiejętności\, łącząc je w integralną całość. Dlatego też kursu MBSR nie da się porównać do żadnych warsztatów uważności\, które nie korzystają z pełnej metody. \nKurs MBSR został opracowany przez amerykańskiego profesora Jon Kabat -Zinna jako program medyczny i psycho-edukacyjny dla osób cierpiących na chroniczny ból fizyczny i zaburzenia emocjonalne\, i pierwszy raz przeprowadzony w 1979 roku\, kiedy dr Jon Kabat-Zinn uruchomił Klinikę Redukcji Stresu Center For Mindfulness przy klinice uniwersyteckiej w Worcester w stanie Massachusetts (USA). \nDla kogo jest ten kurs?\nTen kurs jest stworzony dla Ciebie\, jeśli… \n\nmasz trudności z koncentracją\, doświadczasz rozproszenia\nmasz problemy ze snem i natłok myśli\nodczuwasz napięcia emocjonalne i ciężko jest Ci się wyciszyć\nzmagasz się ze znużeniem spowodowanym codziennym stresem\ndoświadczasz spadków energii i witalności\nmasz kłopot z pamięcią\nbywasz emocjonalna/y w relacjach i potem masz wyrzuty sumienia\nnadmiernie przejmujesz się\, analizujesz\, nie potrafisz odpuszczać\nchcesz uciszyć chaos w głowie i poczuć spokój\npragniesz nauczyć się umiejętności\, które poprawią jakość Twojego życia w obszarze równowagi emocjonalnej i skupiania uwagi\nchcesz wiedzieć jak pracować ze soba na co dzień\, by zwiększać swój potencjał mentalny i osiągać jasność umysłu.\n\nCzego się będziesz uczyć?\nPodczas 8 tygodni programu: \n\nprzejdziesz drogę od adepta do praktyka medytacji\nrozwiniesz swoją zdolność koncentracji i ogniskowania uwagi\nrozpoznasz swoje schematy i wzorce reagowania w różnych sytuacjach\nnauczysz się rozróżniać co jest faktem\, a co interpretacją Twojego umysłu na temat rzeczywistości\noduczysz się niekonstruktywnego oceniania siebie i świata\npoczujesz większą akceptację i wolność wyboru zamiast ciągłej presji\nzwiększysz świadomość własnych emocji i możliwości ich regulowania.\ndowiesz się w jaki sposób pracować z własnymi myślami\, tak by nie poddawać się ich nurtowi\nnawiążesz bliższy kontakt ze swoim ciałem\, by moc świadomie korzystać z jego zasobów\nzaczniesz oddychać świadomie i wykorzystywać oddech do redukcji stresu\nzmienisz swoją gospodarkę energetyczną\, by mieć więcej witalności i siły\nbędziesz budować więcej świadomych komunikatów\, a co za tym idzie i zdrowych relacji z otoczeniem.\n\nGwarantuje Ci\, że jeżeli zaangażujesz się w ten proces na 8 tygodni\, odmienisz swoje życie. Czasem tą zmianę widać już w czasie trwania kursu\, a najczęściej pojawia się w kolejnych miesiącach po programie (warunkiem efektów jest regularna praktyka medytacji\, której nauczę Cię na kursie). \nDlaczego regularność?\nTechniki oparte na uważności ściśle związane są z budowaniem nowych postaw i nawyków działania w oparciu o neuroplastyczność mózgu.  Dzięki pracy poznawczo-behawioralnej oraz technikom medytacyjnym zaadoptowanym do mentalnego treningu uwagi w procesie kilku tygodniowej regularnej pracy z mózgu tworzone są nowe połączenia mające na celu reorganizacje starych wzorców stresowych\, adaptację do zmiennego środowiska\, samo-naprawę oraz wzmacnianie procesów związanych z wytrwałością i koncentracją. \nPlastyczność synaptyczna mózgu\nPodczas zaangażowania się w nową naukę i doświadczenia\, a także regularną praktykę w mózgu tworzone są nowe połączenia neuronowe. Neurony na tej samej ścieżce komunikują się ze sobą w punkcie spotkań\, synapsie. Za każdym razem\, gdy ćwiczenia są powtarzane komunikacja lub transmisja synaptyczna wśród neuronów na tej samej ścieżce zwiększa się. Im większa ilość powtórzeń na tej samej ścieżce\, tym trwalsze nawyki i nowe sposoby postrzegania. \nMindfulness a stres\nMindfulness postrzega stres jako osobiste doświadczenie wynikające z osobistej oceny poznawczej człowieka. Doświadczenia te łączą się w mózgu tworząc wzorce stresu. Regularna praktyka technik uważności pomaga odkodować stare wzorce i podczas kilku tygodni regularnej praktyki nauczyć się nowych sposobów reagowania i działania. Zmienić nawyki i rozwinąć inteligencję emocjonalną. \nInteligencja emocjonalna\nOd niedawna naukowcy dostarczają coraz więcej dowodów na to\, że emocje\, a ściślej – inteligencja emocjonalna to czynnik\, który decyduje o naszej umiejętności radzenia sobie w życiu praktycznym. Umiejętność ta zawiera w sobie zdolność do radzenia sobie ze stresem\, zdolność do adaptowania się do nowych\, ciągle zmieniających się warunków życia\, ale też zdolność rozumienia uczuć i emocji innych. Pozwala na umiejętne wykorzystanie własnych uczuć w relacjach z innymi ludźmi. Właściwe kontrolowanie emocji pozwala na podejmowanie racjonalnych decyzji. Ułatwia asertywne uznanie własnego błędu\, elastyczne dostosowanie się do okoliczności. Umożliwia podążanie za uczuciami i emocjami drugiej strony\, z w konsekwencji – konstruktywną współpracę zamiast destrukcyjnej walki. Ten program będzie idealny dla Ciebie\, jeśli \nJak będzie wyglądał kurs?\nCzas trwania kursu to 8 tygodni\, w trakcie których odbędzie się:\n\n8 spotkań z nauczycielem / sesji warsztatowo-medytacyjnych\nwarsztat dodatkowy – Dzień Ciszy z kojącymi dla układu nerwowego praktykami mindfulness&compassion (online lub stacjonarnie w Krk)\nTwoja codzienna praktyka wykonywana w domu na podstawie otrzymanych nagrań oraz instrukcji przekazanych podczas sesji.\n\nCo otrzymasz? \n\nnagrania standaryzowanych medytacji mindfulness (praktyki formalne)\nkomplet materiałów psycho-edukacyjnych uzupełniających wiedzę z sesji\ndodatkowe praktyki medytacyjne w różnych formach (audio + video)\nkonsultacje z licencjonowanym nauczycielem\ndodatkową sesję z najnowszymi odkryciami psychologii na temat stresu.\n\nTematy kursu\nCały kurs uważności w sposób przemyślany i zaplanowany prowadzi Cię w arkana pracy z umysłem\, ciałem\, emocjami i oddechem podczas tematycznych sesji:\n\n\n\n\n\n\nSesja 1 – Przywitaj Uważność w swoim życiu\nW tym tygodniu dowiesz się jak wprowadzić uważność do swojej codzienności i rozpoczniesz trening mentalny budujący Twój mięsień uwagi. Nauczysz się wykorzystywać zmysły do zatrzymywania się w pędzie życia.\n\n\n\nSesja 2 – Koniec jazdy na Autopilocie\nW tym tygodniu dowiesz się czym jest umysł początkującego i jak Twoje postrzeganie świata kształtuje Twoją rzeczywistość w obszarze stresu. Nauczysz się także wykorzystywać oddech do redukcji stresu.\n\n\n\nSesja 3 – W zdrowym ciele zdrowy umysł\nW tym tygodniu rozwiniesz swoją relację z własnym ciałem i dowiesz się jakie nawyki wpływają na redukcje hormonów stresu. Nauczysz się uważnej pracy z ciałem\, rozciągającej powieź i wzmacniającej kręgosłup.\n\n\n\nSesja 4 – To\, czego nie wiesz o stresie…\nW tym tygodniu zrozumiesz swoją matrycę stresu i nauczysz się rozpoznawać własny łańcuch reakcji stresowej: osobiste wzorce stresu i automatyczne reakcje. Poznasz swoją relację z „przyjemnym” i „nieprzyjemnym”\, jakie spotykasz w swojej codzienności.\n\n\n\nSesja 5 – Czas na porządki w myślach\nW tym tygodniu odkryjesz swoje przywiązanie do myśli i dowiesz się w jaki sposób uważnie je obserwować\, by rozwijać świadomość wzorców myślowych wywołujących napięcie i stres. Nauczysz się praktyki medytacji siedzącej z obserwacją nurtu umysłu.\n\n\n\nSesja 6 – Czas na spotkanie z tym\, co trudne\nW tym tygodniu dostaniesz odpowiedzi na nurtujące Cię pytania dotyczące Twoich osobistych trudności w praktyce: trudne emocje\, nawracające myśli\, ból fizyczny lub psychiczny… jak sobie z tym radzić w praktyce medytacji? Nauczysz się pogłębionej pracy z własnymi emocjami i sposób radzenia sobie z wewnętrznymi przeżyciami.\n\n\n\nSesja 7 sesja – Uważna komunikacja\, uważne relacje\nW tym tygodniu doświadczysz prawdy o własnej postawie i nastawieniu do życia\, a także relacjach jakie tworzysz. Rozpoznasz własne nawyki podczas komunikacji i dowiesz się w jaki sposób uważnie słuchać\, by rozumieć innych i budować świadome relacje.\n\n\n\nSesja 8 – Dbanie o siebie\nW tym tygodniu skupimy się na podsumowaniu całości procesu i integracji wiedzy i praktyki z Twoją codziennością – efektem będzie wypracowanie planu działania\, dzięki któremu uważność będzie stałym towarzyszem Twojego życia\, codzienności i dbania o siebie.\n\n\n\n\n\nDodatkowa sesja\nSesja BONUS – Zrozum swój Układ Nerwowy\n\nPodczas dodatkowej sesji zrozumiesz lepiej mechanizmy swojego działania. Prokrastynacja\, izolacja\, nadmierna emocjonalność czy chaotyczność – to nie kwestie Twojej osobowości\, a rozregulowanego układu nerwowego. Nauczysz się jak dzięki prostych technikom regulować swoje stany i wchodzić w połączenie\, klarowność i spokój. \n\n\n\n\n\nOrganizacyjnie\nForma kursu: online \n\n\nTerminy kursu: 16.10.\, 23.10.\, 30.10.\, 6.11.\, 13.11.\, 27.11.\, 4.12.\, 11.12. w godz. 18:30-21:00\nSesja o Układzie Nerwowym MBSR Plus: 19.11. 18:30-21:00.\nDzień Ciszy: 15.11. 9:00 – 15:00. (stacjonarnie w Krakowie lub online).\n\n\n\n\n\nNa samym dole znajdziesz kilka słów dlaczego organizuje kursy w wersji online.\n\n\n\n\n\n\n\nCo jeśli nie możesz w którymś terminie? Nie przejmuj się – sesja w wersji audio zostanie zarejestrowana dla Ciebie.\n\n\n\n\n\n\n\nInwestycja\n\n\n\nCena kursu: 1290 zł netto + 23%VAT | 1587 zł brutto\n\nPromocja wczesna wpłata:\n\n1090 zł netto + 23%VAT | 1341 zł  (zapisz się i wpłać całość przed rozpoczęciem kursu)\n\nPromocje dla Absolwentów: \n\npowtórz kurs w kwocie 50%\nprzyprowadź kogoś na kurs a otrzymasz powtórkę w gratisie 🙂\n\nPłatność w ratach: 1587 zł  przy wpłacie 300 zł zaliczki\, reszta wpłaty wg ustalonego harmonogramu.\nChcesz być na kursie\, ale opłata jest za duża? Zadzwoń do mnie\, znajdziemy rozwiązanie.\n\n\n\n\n\n\n\n\nCo otrzymasz w tej kwocie?\n\n34 godziny dydaktyczne zajęć z nauczycielem na żywo ( w wersji online)\ngwarancje licencjonowanej naukowej metody w oryginalnej wersji prowadzonej przez rekomendowanego nauczyciela w metodzie MBSR\ndodatkową sesję poszerzająca wiedzę na temat układu nerwowego i nerwu błędnego\nkomplet profesjonalnych materiałów pogłębiających tematykę każdej sesji\nnagrania medytacji mindfulness do praktyki własnej\nwsparcie doświadczonej nauczycielki z 20-letnią praktyką własną\nzaświadczenie o ukończeniu kursu zgodne z międzynarodowymi standardami (pod warunkiem ukończenia go w całości)\nniesamowite doświadczenie\, które przy Twoim zaangażowaniu przyniesie zmianę\, której się nawet nie spodziewasz.\n\n\n\n\n\n\nZapisy:\n\n\nPierwszym krokiem jest wypełnienie ZGŁOSZENIA ONLINE\n\n\nNastępnie umówimy się na krótką rozmowę.\nOstatecznym potwierdzeniem rezerwacji jest wpłata.\n\nMasz pytania? jestem dla Ciebie: 508098116.\nNie rezygnuj z życia\, które jest tu i teraz. \n\nProwadzi \n\nSylwia Roma\nCertyfikowana nauczycielka mindfulness &compassion. Posiada uprawnienia do prowadzenia kursów: \n\n• MBSR (certyfikat Mindfulness Based Stress Reduction wydany przez Institute for Mindfulness-Based Approaches/Polski Instytut Mindfulness)\n• MBCL (certyfikat Mindfulness-Based Compassionate Living wydany przez Polski Instytut Mindfulness).\n• MBLC YA (certyfikat gotowości do nauczania Mindfulness Based Living Course – Young Adults wydany przez Mindfulness Association Polska).\n\nSuperwizorka MBI:TAC (Mindfulness-Based Interventions: Teaching Assessment Criteria). Ericksonowski Coach\, Trenerka biznesu i wykładowczyni akademicka na Uniwersytecie Łódzkim. Dyplomowana nauczycielka jogi w systemie hatha-yogi metodą BKS Iyengara o stopniu Introductory II. Absolwentka Erickson College programów „Art &Scienece of Coaching” oraz „The Art & Science of Mindfulness”. Pełniła rolę Dyrektora Studium Nauczycielskiego dla przyszłych nauczycieli MBSR oraz Prezesa Polskiego Instytutu Mindfulness. Współautorka bestsellera „Coaching. Zbiór narzędzi wspierania rozwoju” (Wolters Kluwer Polska – ABC\, 2012r. ). Wcześniej pełniła też rolę Dyrektorki Izby Coachingu w Łodzi\, Kierownika Centrum Studiów Podyplomowych oraz Festiwalu PROGRESSteron w Łodzi.\n\n\n\nOd 2006 prowadzę szkolenia dla firm z zakresu efektywności osobistej i zarządzania stresem\, a od 2013 certyfikowane kursy mindfulness. Praktyka medytacji i jogi jest obecna w moim życiu od ponad 20 lat\, uczę tego\, czego sama doświadczyłam i doświadczam na własnej drodze.\n\n\n\n\n\nNa koniec kilka słów dlaczego organizuje kursy w wersji online:\n\n\nDlaczego warto uczyć się mindfulness online?\nMindfulness to sztuka bycia obecnym w swoim życiu – dokładnie takim\, jakie jest. Nauka medytacji w środowisku\, w którym fukcjonujamy na co dzień\, ma ogromną wartość. Dlaczego? \n Uczysz się tam\, gdzie żyjesz.\nNie musisz szukać idealnego miejsca – Twoje otoczenie staje się przestrzenią do praktyki. To w swoim domu\, wśród codziennych obowiązków i bliskich osób\, uczysz się\, jak znaleźć czas na zatrzymanie\, jak stworzyć przestrzeń na uważność. \n Budujesz nawyk w rzeczywistych warunkach.\nTo\, co ćwiczysz podczas praktyki online – w swoim salonie\, kuchni czy sypialni – łatwiej przenosisz na codzienne życie. Twój umysł kojarzy te miejsca z chwilami uważności\, co pomaga Ci wprowadzać regularną praktykę już po zakończeniu kursu MBSR . \n Zakątek dla Ciebie w Twojej przestrzeni.\nPraktyka mindfulness online daje Ci szansę na stworzenie własnego zakątka\, choćby symbolicznego\, gdzie możesz się zatrzymać. To może być po prostu wybrany koc i poduszka w jakimś cichym kącie – masz już swoją przestrzeń. \n Uważność wśród domowników.\nUcząc się w domu\, uczysz się również komunikować swoje potrzeby. Współdzielenie przestrzeni z innymi staje się praktyką uważności wobec nich\, ale i wobec siebie – swojego czasu i granic. To jedna z najważniejszych lekcji\, które większość z nas ma do przepracowania. \n😶‍🌫️ A co z nieobecnością?\nTo pytanie bardzo często pojawia się wsród osób zainteresowanych udziałem w kursie. Cieżko idealnie zaplanować kolejne dwa miesiące\, zwłaszcza jeśli jesteś aktywną zawodowo osobą. W przypadku kursu online nie jest to problemem – sesja będzie zarejestrowana i dostępna przez kolejne 6 dni (do następnej sesji)\, a więc spokojnie zdążysz nadrobić swoje lekcje. \n🚨 Nie tracimy czasu w korkach.\nMoże wyda Ci się to nowe\, ale popołudniowe stanie w korkach\, zwłaszcza w okresie jesienno-zimowym\, potęguje poziom stresu. Jest to związane z ilością światła czerwonego\, jakie emitowane jest do naszych gałek ocznych\, gdy stoimy w ciągu samochodów. Na tym kursie chcemy redukować stres\, a nie potęgować go! Oczywiście zyskujesz też ponad godzinę czasu\, nie dojeżdżając na miejsce spotkania w tygodniu.
URL:https://centrumholi.pl/event/trening-uwaznosci-mbsr-krakow-online/
LOCATION:ONLINE
CATEGORIES:Event,Mindfulness
ATTACH;FMTTYPE=image/png:https://centrumholi.pl/wp-content/uploads/2025/05/MBSR.png
END:VEVENT
END:VCALENDAR