BEGIN:VCALENDAR
VERSION:2.0
PRODID:-//Mindfulness LAB — Sylwia RoMa — HOLI Body&amp;Mind - ECPv6.15.14//NONSGML v1.0//EN
CALSCALE:GREGORIAN
METHOD:PUBLISH
X-WR-CALNAME:Mindfulness LAB — Sylwia RoMa — HOLI Body&amp;Mind
X-ORIGINAL-URL:https://centrumholi.pl
X-WR-CALDESC:Wydarzenia dla Mindfulness LAB — Sylwia RoMa — HOLI Body&amp;Mind
REFRESH-INTERVAL;VALUE=DURATION:PT1H
X-Robots-Tag:noindex
X-PUBLISHED-TTL:PT1H
BEGIN:VTIMEZONE
TZID:Europe/Warsaw
BEGIN:DAYLIGHT
TZOFFSETFROM:+0100
TZOFFSETTO:+0200
TZNAME:CEST
DTSTART:20190331T010000
END:DAYLIGHT
BEGIN:STANDARD
TZOFFSETFROM:+0200
TZOFFSETTO:+0100
TZNAME:CET
DTSTART:20191027T010000
END:STANDARD
BEGIN:DAYLIGHT
TZOFFSETFROM:+0100
TZOFFSETTO:+0200
TZNAME:CEST
DTSTART:20200329T010000
END:DAYLIGHT
BEGIN:STANDARD
TZOFFSETFROM:+0200
TZOFFSETTO:+0100
TZNAME:CET
DTSTART:20201025T010000
END:STANDARD
BEGIN:DAYLIGHT
TZOFFSETFROM:+0100
TZOFFSETTO:+0200
TZNAME:CEST
DTSTART:20210328T010000
END:DAYLIGHT
BEGIN:STANDARD
TZOFFSETFROM:+0200
TZOFFSETTO:+0100
TZNAME:CET
DTSTART:20211031T010000
END:STANDARD
END:VTIMEZONE
BEGIN:VEVENT
DTSTART;TZID=Europe/Warsaw:20200223T100000
DTEND;TZID=Europe/Warsaw:20200223T150000
DTSTAMP:20260420T063208
CREATED:20200216T173955Z
LAST-MODIFIED:20200216T173955Z
UID:2234-1582452000-1582470000@centrumholi.pl
SUMMARY:Jednodniowe Wyciszenie Medytacyjne - MINDFUL DAY
DESCRIPTION:#SPAdlaumysłu #mindreset #mindfulness \nJak to jest spędzić dzień w ciszy? Dla wielu z nas wydaje się to wręcz niemożliwym doświadczeniem. Jesteśmy tak bardzo przyzwyczajeni do życia w świecie pełnym bodźców\, że zapominamy o tym\, co naturalne i potrzebne dla nas – tym czynnikiem jest WYCISZENIE. \nDzień Uważności to ważny element kursów mindfulness. To dzień\, podczas którego uczestnicy mogą na różne sposoby doświadczyć uważności: na siebie\, na swoje emocje\, na spotkanie z ciszą\,a także uważność świata\, jedzenia i wreszcie komunikacji. To cenne doświadczenie zarówno dla osób\, które medytują oraz poszukują przestrzeni do rozwoju swojej praktyki\, czy obcowania z grupą i czerpania z jej energii \, użytej do wspólnego procesu. Jednocześnie to uczące doświadczenia dla tych\, którzy jeszcze doświadczenia nie posiadają – w przygotowanej przestrzeni\, przy odpowiednich warunkach wspierających wyciszenie. Przy sesji prowadzonej przez nauczyciela\, z łatwością można doświadczyć wszystkiego\, co medytacja ze sobą niesie. \nJak będzie wyglądał taki dzień?\nDzień podzielony jest na bloki medytacyjne\, podczas których prowadzone są różnego rodzaju medytacje: dynamiczne i statyczne\, leżące\, siedzące\, w ruchu\, a także związane z doznawaniem rzeczywistości i obcowaniem z nią. \nCały czas przeznaczony jest na rozwijanie umiejętności obecności i wewnętrznego doświadczenia. Niejednokrotnie  też  odczucia zewnętrznego\,ukrytego w licznych praktykach nieformalnych mindfulness. \nDzień Uważności to dzień przepełniony Ciszą\, w którym możesz usłyszeć siebie\, jednocześnie poznać swoje potrzeby i emocje. Uważnie się z nimi spotkać i dać im oraz sobie przestrzeń na bycie… Po prostu. Zapomnij o wysilaniu się\, o nieustannym dążeniu. \nNie ma pośpiechu\, jest dużo czasu dla siebie. Poszczególne spotkania mają różne tematy\, część praktyk jest powtarzalna\, a inne są przypisane do „tematu dnia”. \nWszystkie sesje są prowadzone przez nauczyciela\, nie ma obawy\, że zagubisz się w którymś momencie 😉 \nTen warsztat jest dla Ciebie\, jeśli:\n\npotrzebujesz wyciszenia\, relaksu\, spokoju\npotrzebujesz zatrzymania\, a trudno Ci to zrobić samodzielnie w codziennym życiu\nmedytujesz lub chcesz rozpocząć praktykę medytacyjną\npragniesz poznać procesy oddechowe przydatne w codziennym zarządzaniu emocjami i stresem\nczujesz się rozdrażniony\, w nieładzie\, chaosie – potrzebujesz osadzić się w sobie i „poukładać myśli”\nchcesz poznać coś nowego.\n\nWarunki Organizacyjne:\n\n0 zł – nasi aktualni kursanci MBSR i innych kursów uważności\n150 zł – absolwenci kursów\n150 zł – nasi Klubowicze (osoby zarejestrowane na naszej stronie posiadające conajmniej jeden wykupiony karnet)\n180 zł – pozostałe osoby\n290 zł – przyjdź w parze (dwie osoby) 🙂\n\n\n\nZapisy:\n1) Daj nam znać mailowo\, że interesuje Cię to wydarzenie: klub@centrumholi.pl\n/Możesz także zapisać się przez fitssey on-line\n2) Potwierdzeniem rezerwacji jest wpłata:\n\n57 1050 1445 1000 0092 5342 8867\nHoli Life&Business Mindful Solutions\n\n/ Osoby będące naszymi klubowiczami mogą dokonać płatności on-line przez system rezerwacji.\nPozostałe osoby/pary prosimy o wpłaty a podane konto.
URL:https://centrumholi.pl/event/jednodniowe-wyciszenie-medytacyjne-mindful-day-2/
CATEGORIES:Event,Mindfulness
ATTACH;FMTTYPE=:
END:VEVENT
BEGIN:VEVENT
DTSTART;TZID=Europe/Warsaw:20200104T093000
DTEND;TZID=Europe/Warsaw:20200104T160000
DTSTAMP:20260420T063208
CREATED:20191228T175532Z
LAST-MODIFIED:20191228T175532Z
UID:1803-1578130200-1578153600@centrumholi.pl
SUMMARY:Jednodniowe Wyciszenie Medytacyjne - MINDFUL DAY
DESCRIPTION:#SPAdlaumysłu #mindreset #mindfulness \nJak to jest spędzić dzień w ciszy? Dla wielu z nas wydaje się to wręcz niemożliwym doświadczeniem. Jesteśmy tak bardzo przyzwyczajeni do życia w świecie pełnym bodźców\, że zapominamy o tym\, co naturalne i potrzebne dla nas – tym czynnikiem jest WYCISZENIE. \nDzień Uważności to ważny element kursów mindfulness. To dzień\, podczas którego uczestnicy mogą na różne sposoby doświadczyć uważności: na siebie\, na swoje emocje\, na spotkanie z ciszą\,a także uważność świata\, jedzenia i wreszcie komunikacji. To cenne doświadczenie zarówno dla osób\, które medytują oraz poszukują przestrzeni do rozwoju swojej praktyki\, czy obcowania z grupą i czerpania z jej energii \, użytej do wspólnego procesu. Jednocześnie to uczące doświadczenia dla tych\, którzy jeszcze doświadczenia nie posiadają – w przygotowanej przestrzeni\, przy odpowiednich warunkach wspierających wyciszenie. Przy sesji prowadzonej przez nauczyciela\, z łatwością można doświadczyć wszystkiego\, co medytacja ze sobą niesie. \nJak będzie wyglądał taki dzień?\nDzień podzielony jest na bloki medytacyjne\, podczas których prowadzone są różnego rodzaju medytacje: dynamiczne i statyczne\, leżące\, siedzące\, w ruchu\, a także związane z doznawaniem rzeczywistości i obcowaniem z nią. \nCały czas przeznaczony jest na rozwijanie umiejętności obecności i wewnętrznego doświadczenia. Niejednokrotnie  też  odczucia zewnętrznego\,ukrytego w licznych praktykach nieformalnych mindfulness. \nDzień Uważności to dzień przepełniony Ciszą\, w którym możesz usłyszeć siebie\, jednocześnie poznać swoje potrzeby i emocje. Uważnie się z nimi spotkać i dać im oraz sobie przestrzeń na bycie… Po prostu. Zapomnij o wysilaniu się\, o nieustannym dążeniu. \nNie ma pośpiechu\, jest dużo czasu dla siebie. Poszczególne spotkania mają różne tematy\, część praktyk jest powtarzalna\, a inne są przypisane do „tematu dnia”. \nWszystkie sesje są prowadzone przez nauczyciela\, nie ma obawy\, że zagubisz się w którymś momencie 😉 \nTen warsztat jest dla Ciebie\, jeśli:\n\npotrzebujesz wyciszenia\, relaksu\, spokoju\npotrzebujesz zatrzymania\, a trudno Ci to zrobić samodzielnie w codziennym życiu\nmedytujesz lub chcesz rozpocząć praktykę medytacyjną\npragniesz poznać procesy oddechowe przydatne w codziennym zarządzaniu emocjami i stresem\nczujesz się rozdrażniony\, w nieładzie\, chaosie – potrzebujesz osadzić się w sobie i „poukładać myśli”\nchcesz poznać coś nowego.\n\nWarunki Organizacyjne:\n\n0 zł – nasi aktualni kursanci MBSR i innych kursów uważności\n150 zł – absolwenci kursów\n150 zł – nasi Klubowicze (osoby zarejestrowane na naszej stronie posiadające conajmniej jeden wykupiony karnet)\n200 zł – pozostałe osoby\n280 zł – przyjdź w parze (dwie osoby) 🙂\n\nZapisy:\n1) Daj nam znać mailowo\, że interesuje Cię to wydarzenie: klub@centrumholi.pl\n/Możesz także zapisać się przez fitssey on-line\n2) Potwierdzeniem rezerwacji jest wpłata:\n\n57 1050 1445 1000 0092 5342 8867\nHoli Life&Business Mindful Solutions\n\n/ Osoby będące naszymi klubowiczami mogą dokonać płatności on-line przez system rezerwacji.\nPozostałe osoby/pary prosimy o wpłaty a podane konto.
URL:https://centrumholi.pl/event/jednodniowe-wyciszenie-medytacyjne-mindful-day/
CATEGORIES:Mindfulness
ATTACH;FMTTYPE=image/png:https://centrumholi.pl/wp-content/uploads/2019/12/2.png
END:VEVENT
END:VCALENDAR