BEGIN:VCALENDAR
VERSION:2.0
PRODID:-//Mindfulness LAB — Sylwia RoMa — HOLI Body&amp;Mind - ECPv6.15.14//NONSGML v1.0//EN
CALSCALE:GREGORIAN
METHOD:PUBLISH
X-ORIGINAL-URL:https://centrumholi.pl
X-WR-CALDESC:Wydarzenia dla Mindfulness LAB — Sylwia RoMa — HOLI Body&amp;Mind
REFRESH-INTERVAL;VALUE=DURATION:PT1H
X-Robots-Tag:noindex
X-PUBLISHED-TTL:PT1H
BEGIN:VTIMEZONE
TZID:Europe/Warsaw
BEGIN:DAYLIGHT
TZOFFSETFROM:+0100
TZOFFSETTO:+0200
TZNAME:CEST
DTSTART:20190331T010000
END:DAYLIGHT
BEGIN:STANDARD
TZOFFSETFROM:+0200
TZOFFSETTO:+0100
TZNAME:CET
DTSTART:20191027T010000
END:STANDARD
BEGIN:DAYLIGHT
TZOFFSETFROM:+0100
TZOFFSETTO:+0200
TZNAME:CEST
DTSTART:20200329T010000
END:DAYLIGHT
BEGIN:STANDARD
TZOFFSETFROM:+0200
TZOFFSETTO:+0100
TZNAME:CET
DTSTART:20201025T010000
END:STANDARD
BEGIN:DAYLIGHT
TZOFFSETFROM:+0100
TZOFFSETTO:+0200
TZNAME:CEST
DTSTART:20210328T010000
END:DAYLIGHT
BEGIN:STANDARD
TZOFFSETFROM:+0200
TZOFFSETTO:+0100
TZNAME:CET
DTSTART:20211031T010000
END:STANDARD
END:VTIMEZONE
BEGIN:VEVENT
DTSTART;TZID=Europe/Warsaw:20201023T150000
DTEND;TZID=Europe/Warsaw:20201025T150000
DTSTAMP:20260419T214420
CREATED:20201007T151757Z
LAST-MODIFIED:20201007T151757Z
UID:2507-1603465200-1603638000@centrumholi.pl
SUMMARY:Mind Retreat - jesienna regeneracja w Miłośliwce
DESCRIPTION:Mind Retreat – uwolnij umysł\, uwolnij emocje\, uwolnij oddech\nNa nasz weekend 9/11.10.2020 brak już wolnych miejsc. Jeśli więc czujesz\, że zatrzymanie i cisza jest tym\, co Ci najbardziej potrzebne… zapraszamy na drugi termin 23/25.10.2020\n\nJeśli masz ochotę na totalne wyciszenie\, z dala od zgiełku miasta\, w drewnianej chacie na szczycie góry… zapraszamy na weekend\, podczas którego zregenerujesz ciało\, emocje i umysł.\nCzy kilka dni spędzonych ze sobą może coś zmienić?\nTak\, jeśli ten czas poświęcisz tylko dla siebie. Dbanie o siebie to jeden z wymiarów rozwoju osobistego\, o którym zapominamy najczęściej. Zajęci pomaganiem innym\, często swoje potrzeby stawiamy na końcu długiej listy codziennych zadań i potrzeb bliskich.\n\nJeśli chcesz…\n…. Zrobić sobie totalną przerwę\, pauzę od codzienności\n… doznać głębokiego relaksu\n… spędzić czas w otoczeniu natury\n… pooddychać świadomie na zajęciach jogi\, medytacji i w otaczających nas lasach\n\nZapraszamy na wspólny wyjazd\, którego celem będzie relaks i regeneracja.\n\nW programie:\n\ncodziennie sesja jogi\, pracy z oddechem i medytacji\nwarsztaty/medytacje mindfulness\nmedytacje żywiołów w naturze\nmedytacja w ruchu\, tańcu\npyszne regionalne jedzenie\ndużo relaksu w zaciszu drewnianej chaty\ndoładowanie baterii podczas złotej jesieni!\n\nPlan weekendu:\n23.10. piątek\nPrzyjazd w godzinach popołudniowych\, zakwaterowanie od godz. 15\n17:30 Ciepła obiadokolacja\n19:00 Wieczorne spotkanie w kręgu\, rozpoczęcie zajęć\n20:00 Mindful Movement – uważny ruch i praca z oddechem dla Twojego ciała.\n\n24.10. sobota\nPoranna sesja Yoga Flow – łagodna budząca vinyasa z obudzeniem przepływu energii.Śniadanie i czas na leniwą kawę.\nWarsztaty „Paleta emocji. Radzenie sobie ze smutkiem\, pokonywanie lęku\, ujarzmianie złości. Zrozumienie emocji”\nRozgrzewający korzenny obiad\nCzas na spacer\, książkę\, relaks…\nWieczora sesja tańca intuicyjnego – „Wytańcz to”.\n\n25.10. niedziela\nPoranna sesja mindful yogi – łagodny i uważny ruch w ciele\nŚniadanie i czas na leniwą kawę.\nWeekend zakończymy lunchem około godz. 12:00.\nCzas dla siebie.\n\nGodziny poszczególnych aktywności dnia ustalimy wspólnie w piątek wieczorem.\n\nCo zyskasz podczas tego weekendu?\n\nczas dla siebie i doświadczenie uważności każdej chwili\, bez pośpiechu\, pogoni i dążenia do czegokolwiek\nSPA umysłu\, emocji i ciała: oczyszczanie mentalne i fizyczne poprzez pracę z ciałem i umysłem\ndoświadczenie obserwacji swojego życia\, jego tempa i wpływu decyzji jakie podejmujesz na rzeczywistość w jakiej żyjesz na co dzień\nporównanie pospiechu do życia w tu i teraz\nspotkanie ze swoim ciałem – regenerację i odnowę fizyczną oraz badanie granic i nowych możliwości\nzrelaksowanie się i pełne odstresowanie w pięknym\, zielonym miejscu\, wiele inspiracji na temat życia\, zdrowia i relacji z ciekawych rozmów na pachnącym tarasie – bez napięcia i pośpiechu do spraw i rzeczy\, które „musisz”.\n\n\nInwestycja\n590 zł\nWpłata bezzwrotnego zadatku wysokości 200 zł na numer konta\n57 1050 1445 1000 0092 5342 8867\nHoli Life&Business Mindful Solutions\nZ tytułem: mind retreat weekend\nZapisy: klub@centrumholi.pl\n\nProwadzący:\nSylwia Rogala-Marciniak\nJestem certyfikowanym nauczycielem mindfulness\, dyplomowanym nauczycielem jogi w systemie hatha-yogi metodą BKS Iyengara o stopniu Introductory II. Poza matą\, spotkasz się ze mną na treningach redukcji stresu\, uważności.\nPosiadam także certyfikat Erickson International Coach oraz trenera biznesu Matrik\, opartego na NVQ International Trainers Certification in Training\, Learning and Development – MATRIK & Pearson Edexcel International. Prowadzę treningi dla firm\, koordynuję kształcenie podyplomowe i wykładam na Uniwersytecie Łódzkim i w Wyższej Szkole Europejskiej w Krakowie. Zafascynowana kulturą dalekiego wschodu\, często podróżuję w tamte kierunki świata. Jogę i medytację praktykuję od 16 lat\, odnajdując w niej wciąż coś nowego na kolejnych etapach swojego życia. W praktyce najważniejsza jest dla mnie uważność i akceptacja siebie. W moim nauczaniu pragnę przekazać holistyczne rozumienie połączenia ciała\, emocji\, duszy i umysłu.
URL:https://centrumholi.pl/event/mind-retreat-jesienna-regeneracja-w-milosliwce/
LOCATION:Import placeholder for 183
CATEGORIES:Event,Mindfulness,Rozwój Osobisty
ATTACH;FMTTYPE=image/png:https://centrumholi.pl/wp-content/uploads/2020/10/PAUZA.png
END:VEVENT
BEGIN:VEVENT
DTSTART;TZID=Europe/Warsaw:20200611T120000
DTEND;TZID=Europe/Warsaw:20200614T130000
DTSTAMP:20260419T214420
CREATED:20200526T220758Z
LAST-MODIFIED:20200526T220758Z
UID:2304-1591876800-1592139600@centrumholi.pl
SUMMARY:Body&Mind Detox w Miłośliwce
DESCRIPTION:Czy kilka dni spędzonych ze sobą może coś zmienić?\n\n\nTak\, jeśli ten czas poświęcisz tylko dla siebie. Dbanie o siebie to jeden z wymiarów rozwoju osobistego\, o którym zapominamy najczęściej. Zajęci pomaganiem innym\, często swoje potrzeby stawiamy na końcu długiej listy codziennych zadań i potrzeb bliskich.\n\n\nA może nie?\n\n\nA może ostatni czas\, uświadomił Ci\, że warto żyć inaczej? \n\n\nI że\, to co najważniejsze masz\, to Twoje zdrowie.\n\n\n\n \n\n\nJeśli chcesz…\n\n\n…. nauczyć się dbania o siebie \n\n\n… oczyścić ciało i glowę \n\n\n…. nauczyć się czegoś na temat zdrowia \n\n\n… spędzić długi weekend na łonie natury\, z zdrowym jedzeniem\, jogą i medytacją…\n\n\n \n\n\nZapraszamy na wspólny wyjazd\, którego celem będzie oczyszczenie i regeneracja.\n\n\nBędziemy jeść lekko i ćwiczyć intensywnie. Uczyć się pozbywania nawyków mentalnych i złych wzorców dotyczących zdrowia. \n\n\n \n\n\nCo w planie?\n\n\n \n\n\n🍏11.06. czwartek\n\n\nzakwaterowanie od godziny 12 + lekki lunch (zupa\, kasze\, soki)\n\n\nok. 15 oficjalne rozpoczęcie obozu\, wprowadzenie do tematyki obozu\n\n\nWykłady na temat diety i nawyków żywieniowych (Monia)\n\n\n17:00 lekka warzywna obiadokolacja\n\n\n20:00 Regeneracyjna Joga – skręty dla układu pokarmowego i relaksacja (Sylwia)\n\n\n \n\n\n🍏12.06. piątek\n\n\n7:30 medytacja mindfulness (dla chętnych) (Sylwia)\n\n\n8:00 Power Yoga/ Ashtanga Yoga (Monia)\n\n\n10:00 lekkie owocowe śniadanie \n\n\nczas wolny\, spacer\, trekking po okolicznych górach\, relaks w ogrodzie z książką\, czas dla siebie…\n\n\n15:00 Warsztaty Mindfulness – Zmysły. Ich rola w postrzeganiu świata. Nasze nawyki i życiowe zmiany (Sylwia)\n\n\n17:00 lekka warzywna obiadokolacja\n\n\n20:00 Regeneracyjna Joga – asany da kręgosłupa i relaksacja (Sylwia)\n\n\n \n\n\n🍏13.06. sobota\n\n\n7:30 pranyama (dla chętnych) (Monia)\n\n\n8:00 Vinyasa Joga (Sylwia)\n\n\n10:00 lekkie owocowe śniadanie\n\n\nczas wolny\, spacer\, trekking po okolicznych górach\, relaks w ogrodzie z książką\, czas dla siebie…\n\n\n15:00 Warsztaty Dietetyka …. (Monia)\n\n\n17:00 lekka warzywna obiadokolacja\n\n\n20:00 Regeneracyjna Joga – …. (Monia)\n\n\n \n\n\n🍏14.06. niedziela\n\n\n7:30 Medytacja Mindfulness (Sylwia)\n\n\n8:00 Vinyasa Joga (Monia)\n\n\n10:00 lekkie owocowe śniadanie\n\n\nCzas wolny\, spacer\, trekking po okolicznych górach\, relaks w ogrodzie z książką\, czas dla siebie…\n\n\nwykwaterowanie około godz. 12.\n\n\nLekki lunch (zupa)\n\n\n \n\n\nCo będziemy jeść?\n\n\nDieta wegetariańska:\n\n\nZupy\n\n\nKoktajle owocowe i warzywne\n\n\nKasze\n\n\nW trakcie dnia dostępne będą zdrowe przekąski.\n\n\n \n\n\nInwestycja\n\n\n900 zł przy wpłacie do dnia 30.05.\n\n\n1000 zł od 1.06.\n\n\nWpłata bezzwrotnego zadatku wysokości 200 zł na numer konta\n\n\n57 1050 1445 1000 0092 5342 8867\n\n\nHoli Life&Business Mindful Solutions\n\n\nZ tytułem: warsztaty detox czerwiec\nZapisy: klub@centrumholi.pl\n\n\n \n\n\nProwadzący:\n\n\nSylwia Rogala-Marciniak\n\n\nJestem certyfikowanym nauczycielem mindfulness\, dyplomowanym nauczycielem jogi w systemie hatha-yogi metodą BKS Iyengara o stopniu Introductory II. Poza matą\, spotkasz się ze mną na treningach redukcji stresu\, uważności.\n\n\nPosiadam także certyfikat Erickson International Coach oraz trenera biznesu Matrik\, opartego na NVQ International Trainers Certification in Training\, Learning and Development – MATRIK & Pearson Edexcel International. Prowadzę treningi dla firm\, koordynuję kształcenie podyplomowe i wykładam na Uniwersytecie Łódzkim i w Wyższej Szkole Europejskiej w Krakowie. Zafascynowana kulturą dalekiego wschodu\, często podróżuję w tamte kierunki świata. Jogę i medytację praktykuję od 16 lat\, odnajdując w niej wciąż coś nowego na kolejnych etapach swojego życia. W praktyce najważniejsza jest dla mnie uważność i akceptacja siebie. W moim nauczaniu pragnę przekazać holistyczne rozumienie połączenia ciała\, emocji\, duszy i umysłu.\n\n\n \n\n\nMonika Wypych\n\n\nJestem trenerem personalnym z akredytacją Reps\, dietetykiem z akredytacją American Council Exercise i instruktorem z 16- letnim doświadczeniem w branży fitness. \n\n\nJestem instruktorem Ashtanga Vinyasa yoga z certyfikatem RYT 200\, ukończonym u Basi Lipskiej- Larssen oraz instruktorem Hatha yoga po szkole OM Joga prowadzonej prze Agatę Biernat.\n\n\nOd pewnego czasu spełniam także jedno z moich największych marzeń\, prowadzę wraz z moją wspólniczką studio jogi i mindfullness – HOLI Body&Mind Center \n\n\nProwadzę także Studio13 na ul. Zdrowej 13\, gdzie przyjmuje w ramach konsultacji żywieniowych\, treningowych oraz prowadzę warsztaty.\n\n\nUkończyłam studia o kierunku kosmetologia\, na których zaczęła się moja fascynacja człowiekiem – anatomia\, fizjologia\, dietetyka pozwoliły mi zagłębić się w zrozumieniu funkcjonowania ludzkiego ciała.\n\n\nRegularnie szkolę się\, nie ograniczam do jednej opinii\, poświęcam czas by poznać poglądy poniższych zagadnień z różnych źródeł: fitness\, spinning\, race walking\, bodyART\, pilates\, stretching\, mobility\, praca z powięzią i punktami spustowymi\, Akademia Zdrowego Kręgosłupa\, trening funkcjonalny\, trener kulturystyki\, trening REHA\, metodyka i planowanie treningu\, trening medyczny.\n\n\nKażdy człowiek jest dla mnie unikatem. Ludzkie ciało jest dla mnie inwestycją.\n\n\n 
URL:https://centrumholi.pl/event/bodymind-detox-w-milosliwce/
LOCATION:Import placeholder for 183
CATEGORIES:Event,Joga,Mindfulness,Rozwój Osobisty
ATTACH;FMTTYPE=image/png:https://centrumholi.pl/wp-content/uploads/2020/05/BodyMind-2.png
END:VEVENT
END:VCALENDAR