BEGIN:VCALENDAR
VERSION:2.0
PRODID:-//Mindfulness LAB — Sylwia RoMa — HOLI Body&amp;Mind - ECPv6.15.14//NONSGML v1.0//EN
CALSCALE:GREGORIAN
METHOD:PUBLISH
X-WR-CALNAME:Mindfulness LAB — Sylwia RoMa — HOLI Body&amp;Mind
X-ORIGINAL-URL:https://centrumholi.pl
X-WR-CALDESC:Wydarzenia dla Mindfulness LAB — Sylwia RoMa — HOLI Body&amp;Mind
REFRESH-INTERVAL;VALUE=DURATION:PT1H
X-Robots-Tag:noindex
X-PUBLISHED-TTL:PT1H
BEGIN:VTIMEZONE
TZID:Europe/Warsaw
BEGIN:DAYLIGHT
TZOFFSETFROM:+0100
TZOFFSETTO:+0200
TZNAME:CEST
DTSTART:20160327T010000
END:DAYLIGHT
BEGIN:STANDARD
TZOFFSETFROM:+0200
TZOFFSETTO:+0100
TZNAME:CET
DTSTART:20161030T010000
END:STANDARD
BEGIN:DAYLIGHT
TZOFFSETFROM:+0100
TZOFFSETTO:+0200
TZNAME:CEST
DTSTART:20170326T010000
END:DAYLIGHT
BEGIN:STANDARD
TZOFFSETFROM:+0200
TZOFFSETTO:+0100
TZNAME:CET
DTSTART:20171029T010000
END:STANDARD
BEGIN:DAYLIGHT
TZOFFSETFROM:+0100
TZOFFSETTO:+0200
TZNAME:CEST
DTSTART:20180325T010000
END:DAYLIGHT
BEGIN:STANDARD
TZOFFSETFROM:+0200
TZOFFSETTO:+0100
TZNAME:CET
DTSTART:20181028T010000
END:STANDARD
END:VTIMEZONE
BEGIN:VEVENT
DTSTART;TZID=Europe/Warsaw:20170308T163000
DTEND;TZID=Europe/Warsaw:20170308T173000
DTSTAMP:20260420T095527
CREATED:20170215T150940Z
LAST-MODIFIED:20170215T150940Z
UID:824-1488990600-1488994200@centrumholi.pl
SUMMARY:Otwarta Praktyka MIMDFULNESS
DESCRIPTION:Zapraszamy wszystkich zainteresowanych rozwijaniem uważności. Otwarta Praktyka Mindfulness to czas na zatrzymanie\, nabranie oddechu. Te zajęcia to otwarta przestrzeń do wspólnej praktyki pod okiem nauczyciela mindfulness. \nPropozycja skierowana jest do wszystkich zainteresowanych medytacją: \n\nabsolwentów kursów mindfulness (MBSR\, MBCT) pragnących pogłębić i kontynuować swoją praktykę w grupie\,\nosób\, które chcą doświadczyć praktyki mindfulness\nosób\, które medytują i szukają grupy\, ciszy\, przestrzeni\, sali kontemplacyjnej\nosób\, które chcą się zatrzymać\, usiąść na chwilę w ciszy i osobistej kontemplacji.\n\nMedytacja mindfulness jest praktyką świecką\, nie ma związku z żadną religią. Prowadzone ćwiczenia rozwijają wewnętrzną uważność\, trenują koncentrację\, wyciszają umysł. \nInwestycja w siebie: 20 zł lub tyle\, ile jest możliwe dla Ciebie. \nZajęcia będą odbywać się co dwa tygodnie\, w środy w godz. 16:30-17:30. Zaczynamy 8 marca 🙂 \nProsimy o wcześniejsza rejestrację: klub@centrumholi.pl lub 575 44 23 26 \n 
URL:https://centrumholi.pl/event/otwarta-praktyka-mimdfulness/
CATEGORIES:Mindfulness
ATTACH;FMTTYPE=:
END:VEVENT
END:VCALENDAR