BEGIN:VCALENDAR
VERSION:2.0
PRODID:-//Mindfulness LAB — Sylwia RoMa — HOLI Body&amp;Mind - ECPv6.15.14//NONSGML v1.0//EN
CALSCALE:GREGORIAN
METHOD:PUBLISH
X-WR-CALNAME:Mindfulness LAB — Sylwia RoMa — HOLI Body&amp;Mind
X-ORIGINAL-URL:https://centrumholi.pl
X-WR-CALDESC:Wydarzenia dla Mindfulness LAB — Sylwia RoMa — HOLI Body&amp;Mind
REFRESH-INTERVAL;VALUE=DURATION:PT1H
X-Robots-Tag:noindex
X-PUBLISHED-TTL:PT1H
BEGIN:VTIMEZONE
TZID:Europe/Warsaw
BEGIN:DAYLIGHT
TZOFFSETFROM:+0100
TZOFFSETTO:+0200
TZNAME:CEST
DTSTART:20190331T010000
END:DAYLIGHT
BEGIN:STANDARD
TZOFFSETFROM:+0200
TZOFFSETTO:+0100
TZNAME:CET
DTSTART:20191027T010000
END:STANDARD
BEGIN:DAYLIGHT
TZOFFSETFROM:+0100
TZOFFSETTO:+0200
TZNAME:CEST
DTSTART:20200329T010000
END:DAYLIGHT
BEGIN:STANDARD
TZOFFSETFROM:+0200
TZOFFSETTO:+0100
TZNAME:CET
DTSTART:20201025T010000
END:STANDARD
BEGIN:DAYLIGHT
TZOFFSETFROM:+0100
TZOFFSETTO:+0200
TZNAME:CEST
DTSTART:20210328T010000
END:DAYLIGHT
BEGIN:STANDARD
TZOFFSETFROM:+0200
TZOFFSETTO:+0100
TZNAME:CET
DTSTART:20211031T010000
END:STANDARD
END:VTIMEZONE
BEGIN:VEVENT
DTSTART;TZID=Europe/Warsaw:20201105T183000
DTEND;TZID=Europe/Warsaw:20201105T213000
DTSTAMP:20260420T091903
CREATED:20200921T143918Z
LAST-MODIFIED:20200921T143918Z
UID:2469-1604601000-1604611800@centrumholi.pl
SUMMARY:Wieczorny kurs Compassion MBCL - OnLine
DESCRIPTION:Zapraszamy do pogłębiania swojej praktyki mindfulness.\n\nWewnętrzne krajobrazy. Ośrodek pożądania\, lęku i ukojenia. Eksploracja cierpienia i szczęścia. To tylko niektóre z zagadnień z nowej praktyki #compassion\n\nCo to za kurs i dla kogo?\n\nMBCL (Mindfulness-Based Compassionate Living) to ośmiotygodniowy program pogłębionej praktyki\, opracowany przez Fritza Kostera i Erika van den Brinka\, dla absolwentów kursów MBSR\, MBCT i ich odpowiedników. Przeznaczony jest dla osób\, które chcą kontynuować samopoznanie i praktykę medytacyjną przy wsparciu nauczyciela i grupy\, których doświadczyli podczas kursu uważności oraz pracować głębiej nad postawą życzliwości wobec siebie i innych.\nPodczas kursu uczymy się\, jak w zdrowy sposób radzić sobie z bólem\, stresem i trudnościami – niezależnie od tego\, czy przejawiają się one w sferze fizycznej\, psychicznej czy relacyjnej. Trening współczucia okazuje się szczególnie pomocny przy nasileniu samokrytycyzmu\, który prowadzi do wielu problemów psychologicznych (jak niepokój\, depresja czy paranoja). Nie da się prawdziwie rozwijać współczucia wobec innych\, nie rozwijając go wobec samego siebie. Ponadto uczy w jaki sposób przejść z ośrodka cierpienia generowanego poprzez nasze pożądania czy tez lęki\, do ośrodka ukojenia\, które generuje spełnienie i szczęście.\n\nTo przygoda\, jakiej się nie spodziewacie. Zupełnie nowe praktyki\, nowe podejście\, nowy wgląd w siebie. Mindfulnessowy przystanek\, którego nie sposób pominąć!\n\nCo warto wiedzieć o programie?\nJest to zaawansowany program opracowany przez Erik van den Brink i Frits Koster.\nSkierowany do praktyków uważności\, którzy ukończyli program MBSR/MBLC i podobne\,\nPowstał aby pogłębić i wzmocnić praktykę uważności\,\nProgram opiera się na technikach medytacji świeckich\,\nDostarcza narzędzi do obserwacji siebie i otoczenia\, z życzliwością i akceptacją\,\nZwiększa dobrostan psychologiczny i poczucie spełnienia\,\nWspiera naturalną ludzką umiejętność jaką jest współczucie\,\nOparty jest na badaniach w grupach pacjentów klinicznych i pozaklinicznych.\nDzięki MBCL:\nBardziej świadomie i życzliwie zadbasz o siebie w trudnych sytuacjach\,\nDowiesz się\, w jakich systemach funkcjonujesz najczęściej każdego dnia\,\nOdzyskasz większy spokój i radość z życia\,\nSkuteczniej będziesz radzić sobie z emocjonalnym bólem\,\nNauczysz się praktykować współczucie na codzień\,\nPrzyjżysz się swoim wewnętrznym wzorcom\,\nZrozumiesz jak ogromny wpływ na reakcje stresowe ma samowspółczucie\,\nPoprawisz jakość relacji zarówno zawodowych jak i prywatnych\,\nOtrzymasz materiały i nagrania\, z których będziesz korzystać długo po zakończeniu programu.\nCo Otrzymasz?\n\nkomplet profesjonalnych materiałów on-line\nkomplet nagrań on-line praktyk medytacyjnych\nwsparcie nauczyciela doświadczonego w prowadzeniu grupowych i indywidualnych procesów MBCL\nzaświadczenie o ukończeniu kursu zgodne z międzynarodowymi standardami.\n\nSzczegóły Organizacyjne\nKiedy?\nCzwartki godz. 18:30 – 21:30 zaczynając od 5.11.\n5.11.\, 12.11.\, 19.11.\, 26.11.\,\n10.12\, 17.12\,\n7.01\, 14.01\nGdzie?\nSesje będą spotykać się na platformie ZOOM. Otrzymasz link z zaproszeniem na spotkanie.\nJak się zapisać?\nZapisy przyjmujemy:\nSylwia\nsylwia@centrumholi.pl\n508098116\nMonika\nwarszawa.mindfulness@gmail.com\n690 654 988\nOtrzymasz formularz zgłoszenia i szczegółowe informacje.\nIle to kosztuje?\nKoszt całości to 1070 zł. W wyjątkowych sytuacjach istnieje możliwość rozłożenia płatności na 2 raty.\n\nNAUCZYCIELKI\nSylwia Rogala-Marciniak i Monika Witkowska\nCertyfikowane nauczycielki mindfulness MBSR/MBCL (certyfikat Maindfulness Based Stress Reduction wydany przez Institute for Mindfulness-Based Approaches/Polski Instytut Mindfulness; certyfikat Mindfulness-Based Compassionate Living wydany przez Polski Instytut Mindfulness).\n\nZapraszamy serdecznie!
URL:https://centrumholi.pl/event/wieczorny-kurs-compassion-mbcl-online/
CATEGORIES:Mindfulness,Rozwój Osobisty
ATTACH;FMTTYPE=image/png:https://centrumholi.pl/wp-content/uploads/2020/09/MBSR-7.png
END:VEVENT
BEGIN:VEVENT
DTSTART;TZID=Europe/Warsaw:20201014T090000
DTEND;TZID=Europe/Warsaw:20201014T120000
DTSTAMP:20260420T091903
CREATED:20200921T141839Z
LAST-MODIFIED:20200921T141839Z
UID:2463-1602666000-1602676800@centrumholi.pl
SUMMARY:Poranny kurs Compassion MBCL - OnLine
DESCRIPTION:Zapraszamy do pogłębiania swojej praktyki mindfulness.\n\nWewnętrzne krajobrazy. Ośrodek pożądania\, lęku i ukojenia. Eksploracja cierpienia i szczęścia. To tylko niektóre z zagadnień z nowej praktyki #compassion\n\nCo to za kurs i dla kogo?\n\nMBCL (Mindfulness-Based Compassionate Living) to ośmiotygodniowy program pogłębionej praktyki\, opracowany przez Fritza Kostera i Erika van den Brinka\, dla absolwentów kursów MBSR\, MBCT i ich odpowiedników. Przeznaczony jest dla osób\, które chcą kontynuować samopoznanie i praktykę medytacyjną przy wsparciu nauczyciela i grupy\, których doświadczyli podczas kursu uważności oraz pracować głębiej nad postawą życzliwości wobec siebie i innych.\nPodczas kursu uczymy się\, jak w zdrowy sposób radzić sobie z bólem\, stresem i trudnościami – niezależnie od tego\, czy przejawiają się one w sferze fizycznej\, psychicznej czy relacyjnej. Trening współczucia okazuje się szczególnie pomocny przy nasileniu samokrytycyzmu\, który prowadzi do wielu problemów psychologicznych (jak niepokój\, depresja czy paranoja). Nie da się prawdziwie rozwijać współczucia wobec innych\, nie rozwijając go wobec samego siebie. Ponadto uczy w jaki sposób przejść z ośrodka cierpienia generowanego poprzez nasze pożądania czy tez lęki\, do ośrodka ukojenia\, które generuje spełnienie i szczęście.\n\nTo przygoda\, jakiej się nie spodziewacie. Zupełnie nowe praktyki\, nowe podejście\, nowy wgląd w siebie. Mindfulnessowy przystanek\, którego nie sposób pominąć!\n\nCo warto wiedzieć o programie?\nJest to zaawansowany program opracowany przez Erik van den Brink i Frits Koster.\nSkierowany do praktyków uważności\, którzy ukończyli program MBSR/MBLC i podobne\,\nPowstał aby pogłębić i wzmocnić praktykę uważności\,\nProgram opiera się na technikach medytacji świeckich\,\nDostarcza narzędzi do obserwacji siebie i otoczenia\, z życzliwością i akceptacją\,\nZwiększa dobrostan psychologiczny i poczucie spełnienia\,\nWspiera naturalną ludzką umiejętność jaką jest współczucie\,\nOparty jest na badaniach w grupach pacjentów klinicznych i pozaklinicznych.\nDzięki MBCL:\nBardziej świadomie i życzliwie zadbasz o siebie w trudnych sytuacjach\,\nDowiesz się\, w jakich systemach funkcjonujesz najczęściej każdego dnia\,\nOdzyskasz większy spokój i radość z życia\,\nSkuteczniej będziesz radzić sobie z emocjonalnym bólem\,\nNauczysz się praktykować współczucie na codzień\,\nPrzyjżysz się swoim wewnętrznym wzorcom\,\nZrozumiesz jak ogromny wpływ na reakcje stresowe ma samowspółczucie\,\nPoprawisz jakość relacji zarówno zawodowych jak i prywatnych\,\nOtrzymasz materiały i nagrania\, z których będziesz korzystać długo po zakończeniu programu.\nCo Otrzymasz?\n\nkomplet profesjonalnych materiałów on-line\nkomplet nagrań on-line praktyk medytacyjnych\nwsparcie nauczyciela doświadczonego w prowadzeniu grupowych i indywidualnych procesów MBCL\nzaświadczenie o ukończeniu kursu zgodne z międzynarodowymi standardami.\n\nSzczegóły Organizacyjne\nKiedy?\nŚrody godz. 9:00 – 12:00 zaczynając od 14.10.\nGdzie?\nSesje będą spotykać się na platformie ZOOM. Otrzymasz link z zaproszeniem na spotkanie.\nJak się zapisać?\nZapisy przyjmujemy:\nSylwia\nsylwia@centrumholi.pl\n508098116\nMonika\nwarszawa.mindfulness@gmail.com\n690 654 988\nOtrzymasz formularz zgłoszenia i szczegółowe informacje.\nIle to kosztuje?\nKoszt całości to 1070 zł. W wyjątkowych sytuacjach istnieje możliwość rozłożenia płatności na 2 raty.\n\nNAUCZYCIELKI\nSylwia Rogala-Marciniak i Monika Witkowska\nCertyfikowane nauczycielki mindfulness MBSR/MBCL (certyfikat Maindfulness Based Stress Reduction wydany przez Institute for Mindfulness-Based Approaches/Polski Instytut Mindfulness; certyfikat Mindfulness-Based Compassionate Living wydany przez Polski Instytut Mindfulness).\n\nZapraszamy serdecznie!
URL:https://centrumholi.pl/event/poranny-kurs-compassion-mbcl-online/
CATEGORIES:Mindfulness,Rozwój Osobisty
ATTACH;FMTTYPE=image/png:https://centrumholi.pl/wp-content/uploads/2020/09/MBSR-7.png
END:VEVENT
END:VCALENDAR