BEGIN:VCALENDAR
VERSION:2.0
PRODID:-//Mindfulness LAB — Sylwia RoMa — HOLI Body&amp;Mind - ECPv6.15.14//NONSGML v1.0//EN
CALSCALE:GREGORIAN
METHOD:PUBLISH
X-WR-CALNAME:Mindfulness LAB — Sylwia RoMa — HOLI Body&amp;Mind
X-ORIGINAL-URL:https://centrumholi.pl
X-WR-CALDESC:Wydarzenia dla Mindfulness LAB — Sylwia RoMa — HOLI Body&amp;Mind
REFRESH-INTERVAL;VALUE=DURATION:PT1H
X-Robots-Tag:noindex
X-PUBLISHED-TTL:PT1H
BEGIN:VTIMEZONE
TZID:Europe/Warsaw
BEGIN:DAYLIGHT
TZOFFSETFROM:+0100
TZOFFSETTO:+0200
TZNAME:CEST
DTSTART:20160327T010000
END:DAYLIGHT
BEGIN:STANDARD
TZOFFSETFROM:+0200
TZOFFSETTO:+0100
TZNAME:CET
DTSTART:20161030T010000
END:STANDARD
BEGIN:DAYLIGHT
TZOFFSETFROM:+0100
TZOFFSETTO:+0200
TZNAME:CEST
DTSTART:20170326T010000
END:DAYLIGHT
BEGIN:STANDARD
TZOFFSETFROM:+0200
TZOFFSETTO:+0100
TZNAME:CET
DTSTART:20171029T010000
END:STANDARD
BEGIN:DAYLIGHT
TZOFFSETFROM:+0100
TZOFFSETTO:+0200
TZNAME:CEST
DTSTART:20180325T010000
END:DAYLIGHT
BEGIN:STANDARD
TZOFFSETFROM:+0200
TZOFFSETTO:+0100
TZNAME:CET
DTSTART:20181028T010000
END:STANDARD
BEGIN:DAYLIGHT
TZOFFSETFROM:+0100
TZOFFSETTO:+0200
TZNAME:CEST
DTSTART:20190331T010000
END:DAYLIGHT
BEGIN:STANDARD
TZOFFSETFROM:+0200
TZOFFSETTO:+0100
TZNAME:CET
DTSTART:20191027T010000
END:STANDARD
END:VTIMEZONE
BEGIN:VEVENT
DTSTART;TZID=Europe/Warsaw:20180414T153000
DTEND;TZID=Europe/Warsaw:20180414T200000
DTSTAMP:20260419T194707
CREATED:20180126T134823Z
LAST-MODIFIED:20180126T134823Z
UID:4783-1523719800-1523736000@centrumholi.pl
SUMMARY:KURS REDUKCJI STRESU METODĄ UWAŻNOŚCI MBSR™ /Łódź/weekendy
DESCRIPTION:Kurs MBSR (Mindfulness Based Stress Reduction) jest to kurs uważności\, uczący świadomości siebie w obszarze zarządzania swoim stresem i wzrostu satysfakcji z własnego życia. \nWersja weekendowa kursu odbywa się na zasadzie 4 podwójnych sesji\, podczas których uczestnicy uczą się i doświadczają obszarów uważności w życiu: treningu uwagi i skupienia umysłu\, uświadamiania sobie własnych emocji\, radzenia sobie ze stresem i myślami\, świadomego oddziaływania na komunikację z ludźmi\, budowania jasnych i korzystnych relacji. \nKORZYŚCI:\n\nspokój i opanowanie\, możliwość wyboru swoich reakcji emocjonalnych\nzwiększenie koncentracji i możliwości intelektualnych\nzredukowanie  wewnętrznego napięcia emocjonalnego\nzwiększenie świadomości i pewności siebie\nstworzenie wewnętrznej gotowości do zmian\nstworzenie umiejętności akceptacji ludzi i świata bez konieczności kontrolowania ich\nzwiększenie umiejętności regeneracji\numiejętność cieszenia się życiem i odnajdywania radości w swojej codzienności\numiejętność radzenia sobie z trudnymi emocjami\npozytywny stosunek do siebie\, ludzi\, świata.\n\nPodczas treningu uważności nauczysz się w jaki sposób pracować ze swoim umysłem w obszarze myśli i nawyków działania. Nauczysz się uważności w codziennych czynnościach\, co zwiększy możliwość skoncentrowanego działania. Poczujesz\, że Twoje życie należy do Ciebie\, stoisz za sterem i umiejętnie reagujesz na powiewy wiatru. \nZwolnisz. Odnajdziesz nową jakość w komunikacji z innymi\, a także w zwykłych codziennych czynnościach. \nPoznasz swoje ciało\, odkryjesz jego potrzeby\, dowiesz się czym jest regeneracja i odnowa. \n\nDLA KOGO?\nDla wszystkich biegnących\, żyjących w pośpiechu\, żartujących na temat swojego „zapominalstwa”. Dla tych\, którzy czują zmęczenie\, wypalenie zawodowe albo energetyczne i rozładowane baterie. Dla tych\, którzy żyją w impasie i chcieliby się przyjrzeć trudnością w pójściu dalej w swoim życiu. \nDla właścicieli firm\, osób zarządzających w firmach\, którzy pragną obniżyć wewnętrzne ciśnienie. Dla pracowników\, którzy zmęczeni są pogonią za osiągnięciami czy terminami. \nDla psychologów\, coachów\, terapeutów i wszystkich tych\, którzy na co dzień zajmują się pracą z ludźmi i chcieliby wdrożyć uważność do swojej praktyki zawodowej. \nDla młodych rodziców\, którzy spotkali się z doświadczeniem nowego życia i chcieliby zrozumieć siebie w nowej roli. Dla pozostałych rodziców\, którzy mają wrażenie\, że „nie wiedzą kiedy dzieci tak urosły”. \nDla kobiet w ciąży\, dla których właśnie przyszedł czas na wyciszenie i poszukanie kontaktu ze sobą\, poszukanie odpowiedzi na pytania jakie powstają na tym etapie. \nDla studentów\, którzy czują\, że stres jest tematem już obecnym w ich życiu i chcieliby nauczyć się z nim radzić zanim przyjdą jego konsekwencje. \nDla tych\, którzy chcieliby w końcu przestać się frustrować\, płakać czy złościć\, nauczyć podejmować decyzje lub brać odpowiedzialność za swoje życie. By żyć jego pełnią. \nDla Par\, które chciałyby bardziej świadomie iść przez wspólne życie.❤️ \nDLACZEGO TEN KURS?\n\njest sprawdzoną metodą\, opracowaną naukowo ponad 30 lat temu przez prof. Jona Kabat-Zinna i rozwijaną cały czas w Center For Mindfulness przy klinice uniwersyteckiej w Worcester (USA)\nzostał wdrożony na większości Uniwersytetów w Stanach Zjednoczonych i Wielkiej Brytanii\njest wykorzystywany w biznesie\, jako element rozwoju pracowników w organizacjach świadomie inwestujących w kulturę wellnessu  jak Google czy eBay.\n\nJAK BĘDZIE WYGLĄDAŁ KURS?\nCzas trwania kursu to 8 tygodni\, w trakcie których odbędzie się: \n\n4 spotkania po 5 h dydaktycznych w weekendy\n1-dniowy warsztat dodatkowy – mini odosobnienie „Mindful Day”\nwłasna codzienna praktyka wykonywana w domu na podstawie otrzymanych nagrań oraz instrukcji przekazanych podczas warsztatów\nopcjonalne\, dla zainteresowanych: 1-sesja coachingowa po zakończonym kursie dotycząca wdrożenia mindfulness w codzienne życie.\n\nCO OTRZYMASZ?\n\nkomplet profesjonalnych materiałów z dodatkowymi ćwiczeniami  coachingowymi do pogłębiania praktyki osobistej\nkomplet płyt CD oraz płytę DVD do praktyki własnej\ndostęp on-line do ćwiczeń z zajęć\nwsparcie nauczyciela doświadczonego w prowadzeniu grupowych i indywidualnych procesów MBSR\nprzyłączenie do społeczności spotykającej się regularnie i rozwijającej uważność na co dzień\nzaświadczenie o ukończeniu kursu zgodne z międzynarodowymi standardami.\n\nSZCZEGÓŁY ORGANIZACYJNE\nHarmonogram spotkan:\n1\,2 sesja „Pierwszy smak uważności”\, „Autopilot i umysł początkującego” 14.04. 15:30 – 20:00\n3\,4 sesja „Uważna praca z ciałem” „Zrozumieć stres” 28.04. 15:30 – 20:00\n5\,6 sesja „Myśli są tylko myślami”\, „Spotkanie z tym\, co trudne” 20.05. 14:00 – 18:30\n7\,8 sesja „Uważna komunikacja i relacje”\, „A rzeka płynie” 9.06. 15:30 – 20:00 \nDzień Uważności: 26.05. 9:30 – 16:00 \nInwestycja w siebie: \n\n790 zł wpłata 200 zł zadatku do 15.03.18r.\, pozostała część na tydzień przed rozpoczęciem kursu\n850 zł wpłata 250 zł zadatku do 30.03.18r.\, pozostała część na tydzień przed rozpoczęciem kursu\n890 zł wpłata 300 zł zadatku do 06.04.18r.\, pozostała część do dnia rozpoczęcia kursu\npary/przyprowadź drugą osobę: 1700 zł (możliwość wpłaty w 2 ratach)\nNumer konta: 86 1050 1445 1000 0022 5313 1763\n\nJest to opłata za całość kursu łącznie z materiałami oraz kompletem płyt CD/DVD. \nZapisy: Pierwszy krok to wypełnienie zgloszenia_MBSR. Ostatecznym potwierdzeniem jest wpłata. \nNauczyciel:\nSylwia Rogala-Marciniak – Certyfikowany nauczyciel mindfulness (certyfikat MBSR Maindfulness Based Stress Reduction wydany przez Institute for Mindfulness-Based Approaches/Polski Instytut Mindfulness\, http://www.polski-instytut-mindfulness.pl/nauczyciele/lista-nauczycieli/sylwia-rogala-marciniak)\, opiekun merytoryczny i wykładowca kształcenia podyplomowego na Uniwersytecie Łódzkim\, superwizor i mentor coach CoachingSteps™ przy Pracowni Rozwoju Kompetencji UŁ. Dyrektor Łódzkiego Oddziału Izby Coachingu oraz Festiwalu PROGRESSteron w Łodzi. Twórca HOLI Centrum Uważności. Erickson International Coach\, Certyfikowany trener biznesu szkoły Trenerów i Konsultantów Zarządzania MATRIK – metodologia oparta na międzynarodowych standardach NVQ International Trainers Certification in Training\, Learning and Development – MATRIK & Pearson Edexcel International. Współautorka bestsellera „Coaching. Zbiór narzędzi wspierania rozwoju” (Wolters Kluwer Polska – ABC\, 2012r. ). Od 15 lat praktykuje jogę i medytację\, aktualnie rozwija się na kursie nauczycielskim jogi metodą BKS. Iyengara u Konrada Kocota. Treningi redukcji stresu\, uważności i medytacji prowadzi od 2008 roku\, od dwóch lat w formie pełnych certyfikowanych kursów MBSR. Ma za sobą ponad 3 tyś godzin na sali szkoleniowej i 600 h coachingów. Przeprowadziła 10 pełnych treningów MBSR. \nZAPRASZAM SERDECZNIE! TO PODRÓŻ W GŁĄB SIEBIE\, KTÓRA NIESIE WIELKIE DOŚWIADCZENIE.\nPrzeczytaj Opinie Absolwentów Kursu
URL:https://centrumholi.pl/event/kurs-redukcji-stresu-metoda-uwaznosci-mbsr-lodzweekendy/
CATEGORIES:Mindfulness,Rozwój Osobisty
ATTACH;FMTTYPE=:
END:VEVENT
BEGIN:VEVENT
DTSTART;TZID=Europe/Warsaw:20170527T090000
DTEND;TZID=Europe/Warsaw:20170527T133000
DTSTAMP:20260419T194707
CREATED:20170309T135545Z
LAST-MODIFIED:20170309T135545Z
UID:881-1495875600-1495891800@centrumholi.pl
SUMMARY:KURS REDUKCJI STRESU METODĄ UWAŻNOŚCI MBSR™ /4 spotkania / weekendy
DESCRIPTION:Kurs MBSR (Mindfulness Based Stress Reduction) jest to kurs uważności\, uczący świadomości siebie w obszarze zarządzania swoim stresem i wzrostu satysfakcji z własnego życia. \nWersja weekendowa kursu odbywa się na zasadzie 4 podwójnych sesji\, podczas których uczestnicy uczą się i doświadczają obszarów uważności w życiu: treningu uwagi i skupienia umysłu\, uświadamiania sobie własnych emocji\, radzenia sobie ze stresem i myślami\, świadomego oddziaływania na komunikację z ludźmi\, budowania jasnych i korzystnych relacji. \nKORZYŚCI:\n\nspokój i opanowanie\, możliwość wyboru swoich reakcji emocjonalnych\nzwiększenie koncentracji i możliwości intelektualnych\nzredukowanie  wewnętrznego napięcia emocjonalnego\nzwiększenie świadomości i pewności siebie\nstworzenie wewnętrznej gotowości do zmian\nstworzenie umiejętności akceptacji ludzi i świata bez konieczności kontrolowania ich\nzwiększenie umiejętności regeneracji\numiejętność cieszenia się życiem i odnajdywania radości w swojej codzienności\numiejętność radzenia sobie z trudnymi emocjami\npozytywny stosunek do siebie\, ludzi\, świata.\n\nPodczas treningu uważności nauczysz się w jaki sposób pracować ze swoim umysłem w obszarze myśli i nawyków działania. Nauczysz się uważności w codziennych czynnościach\, co zwiększy możliwość skoncentrowanego działania. Poczujesz\, że Twoje życie należy do Ciebie\, stoisz za sterem i umiejętnie reagujesz na powiewy wiatru. \nZwolnisz. Odnajdziesz nową jakość w komunikacji z innymi\, a także w zwykłych codziennych czynnościach. \nPoznasz swoje ciało\, odkryjesz jego potrzeby\, dowiesz się czym jest regeneracja i odnowa. \n\nDLA KOGO?\nDla wszystkich biegnących\, żyjących w pośpiechu\, żartujących na temat swojego „zapominalstwa”. Dla tych\, którzy czują zmęczenie\, wypalenie zawodowe albo energetyczne i rozładowane baterie. Dla tych\, którzy żyją w impasie i chcieliby się przyjrzeć trudnością w pójściu dalej w swoim życiu. \nDla właścicieli firm\, osób zarządzających w firmach\, którzy pragną obniżyć wewnętrzne ciśnienie. Dla pracowników\, którzy zmęczeni są pogonią za osiągnięciami czy terminami. \nDla psychologów\, coachów\, terapeutów i wszystkich tych\, którzy na co dzień zajmują się pracą z ludźmi i chcieliby wdrożyć uważność do swojej praktyki zawodowej. \nDla młodych rodziców\, którzy spotkali się z doświadczeniem nowego życia i chcieliby zrozumieć siebie w nowej roli. Dla pozostałych rodziców\, którzy mają wrażenie\, że „nie wiedzą kiedy dzieci tak urosły”. \nDla kobiet w ciąży\, dla których właśnie przyszedł czas na wyciszenie i poszukanie kontaktu ze sobą\, poszukanie odpowiedzi na pytania jakie powstają na tym etapie. \nDla studentów\, którzy czują\, że stres jest tematem już obecnym w ich życiu i chcieliby nauczyć się z nim radzić zanim przyjdą jego konsekwencje. \nDla tych\, którzy chcieliby w końcu przestać się frustrować\, płakać czy złościć\, nauczyć podejmować decyzje lub brać odpowiedzialność za swoje życie. By żyć jego pełnią. \nDla Par\, które chciałyby bardziej świadomie iść przez wspólne życie.❤️ \nDLACZEGO TEN KURS?\n\njest sprawdzoną metodą\, opracowaną naukowo ponad 30 lat temu przez prof. Jona Kabat-Zinna i rozwijaną cały czas w Center For Mindfulness przy klinice uniwersyteckiej w Worcester (USA)\nzostał wdrożony na większości Uniwersytetów w Stanach Zjednoczonych i Wielkiej Brytanii\njest wykorzystywany w biznesie\, jako element rozwoju pracowników w organizacjach świadomie inwestujących w kulturę wellnessu  jak Google czy eBay.\n\nJAK BĘDZIE WYGLĄDAŁ KURS?\nCzas trwania kursu to 8 tygodni\, w trakcie których odbędzie się: \n\n4 spotkania po 5 h dydaktycznych w weekendy co dwa tygodnie\n1-dniowy warsztat dodatkowy – mini odosobnienie „Mindful Day”\nwłasna codzienna praktyka wykonywana w domu na podstawie otrzymanych nagrań oraz instrukcji przekazanych podczas warsztatów\nopcjonalne\, dla zainteresowanych: 1-sesja coachingowa po zakończonym kursie dotycząca wdrożenia mindfulness w codzienne życie.\n\nCO OTRZYMASZ?\n\nkomplet profesjonalnych materiałów z dodatkowymi ćwiczeniami  coachingowymi do pogłębiania praktyki osobistej\nkomplet płyt CD oraz płytę DVD do praktyki własnej\ndostęp on-line do ćwiczeń z zajęć\nwsparcie nauczyciela doświadczonego w prowadzeniu grupowych i indywidualnych procesów MBSR\nprzyłączenie do społeczności spotykającej się regularnie i rozwijającej uważność na co dzień\nzaświadczenie o ukończeniu kursu zgodne z międzynarodowymi standardami.\n\nSZCZEGÓŁY ORGANIZACYJNE\nTerminy spotkań:\n1\,2 sesja „Pierwszy smak uważności”\, „Autopilot i umysł początkującego” 27.05\n3\,4 sesja „Uważna praca z ciałem” „Zrozumieć stres” 10.06\n5\,6 sesja „Myśli są tylko myślami”\, „Spotkanie z tym\, co trudne” 24.06\n7\,8 sesja „Uważna komunikacja i relacje”\, „A rzeka płynie” 9.07\nw godzinach 9:00 – 13:30 \nDzień Uważności: 24.06 \nInwestycja w siebie: \n\n860 zł wpłata do 18.05\n935 zł wpłata po 18.05\npary: 1500 zł (możliwość wpłaty w 2 ratach)\n\nJest to opłata za całość kursu łącznie z materiałami oraz kompletem płyt CD/DVD. \nZapisy: Pierwszy krok to wypełnienie zgłoszenia MBSR. Ostatecznym potwierdzeniem jest wpłata. \nNauczyciel:\nSylwia Rogala-Marciniak – Certyfikowany nauczyciel mindfulness (certyfikat MBSR Maindfulness Based Stress Reduction wydany przez Institute for Mindfulness-Based Approaches/Polski Instytut Mindfulness\, http://www.polski-instytut-mindfulness.pl/nauczyciele/lista-nauczycieli/sylwia-rogala-marciniak)\, opiekun merytoryczny i wykładowca kształcenia podyplomowego na Uniwersytecie Łódzkim\, superwizor i mentor coach CoachingSteps™ przy Pracowni Rozwoju Kompetencji UŁ. Dyrektor Łódzkiego Oddziału Izby Coachingu oraz Festiwalu PROGRESSteron w Łodzi. Twórca HOLI Centrum Uważności. Erickson International Coach\, Certyfikowany trener biznesu szkoły Trenerów i Konsultantów Zarządzania MATRIK – metodologia oparta na międzynarodowych standardach NVQ International Trainers Certification in Training\, Learning and Development – MATRIK & Pearson Edexcel International. Współautorka bestsellera „Coaching. Zbiór narzędzi wspierania rozwoju” (Wolters Kluwer Polska – ABC\, 2012r. ). Od 15 lat praktykuje jogę i medytację\, aktualnie rozwija się na kursie nauczycielskim jogi metodą BKS. Iyengara u Konrada Kocota. Treningi redukcji stresu\, uważności i medytacji prowadzi od 2008 roku\, od dwóch lat w formie pełnych certyfikowanych kursów MBSR. Ma za sobą ponad 3 tyś godzin na sali szkoleniowej i 600 h coachingów. Przeprowadziła 10 pełnych treningów MBSR. \nZAPRASZAM SERDECZNIE! TO PODRÓŻ W GŁĄB SIEBIE\, KTÓRA NIESIE WIELKIE DOŚWIADCZENIE.\nPrzeczytaj Opinie Absolwentów Kursu
URL:https://centrumholi.pl/event/kurs-redukcji-stresu-metoda-uwaznosci-mbsr-4-spotkania-weekendy/
CATEGORIES:Mindfulness
ATTACH;FMTTYPE=:
END:VEVENT
BEGIN:VEVENT
DTSTART;TZID=Europe/Warsaw:20170517T174500
DTEND;TZID=Europe/Warsaw:20170517T190000
DTSTAMP:20260419T194707
CREATED:20170427T101712Z
LAST-MODIFIED:20170427T101712Z
UID:930-1495043100-1495047600@centrumholi.pl
SUMMARY:Wprowadzenie do treningu MBSR (spotkanie informacyjne)
DESCRIPTION:Zastanawiasz się czy kurs uważności jest czymś dla Ciebie?\nA możesz chcesz dowiedzieć się więcej o mindfulness zanim podejmiesz decyzję?\nZapraszamy serdecznie na darmowe spotkanie informacyjne na temat mindfulness oraz MBSR (Mindfulness Based Stress Reduction). \nPodczas spotkania: \n\ndowiesz się czym jest mindfulness oraz MBSR/MBCT i na czym polega efektywność tej metody\ndoświadczysz uważności na sobie\nbędzie to okazja do zapisania się na najbliższa edycję kursu\, który startuje 27.05.\n\nMindfulness pozwala zwolnić\, lecz to nie znaczy że w życiu robi się nudno. Wręcz przeciwnie. Dopiero wtedy jesteśmy w stanie dostrzec wielobarwność każdej chwili\, być w pełnym znaczeniu frazy „tu i teraz”. Co ciekawe\, kiedy przestajemy za czymś gonić\, kiedy „odpuszczamy” – to rozwiązanie samo przychodzi. \nUważność to możliwość bycia opanowanym\, spokojnym i stabilnym wewnętrznie – zarówno w pracy\, w roli zawodowej jak i w życiu prywatnym\, w roli partnera czy rodzica. \nStan uważności w umyśle można porównać do istnienia jeziora – nawet jeśli pogoda jest zmienna\, pada deszcz\, czy wieje wiatr – to jedynie dotyka tafli wody. Pod spodem panuje cisza i niczym nieporuszone życie toczy się swoim tempem\, w spokoju.. w naszym życiu też spotykają nas różne „warunki atmosferyczne” a bycie uważnym pozwala zachować ten stan wewnętrznego spokoju. Jezioro się nie napina\, nie krzyczy\, po prostu jest. \nProwadzi: Sylwia Rogala-Marciniak\nCertyfikowany nauczyciel mindfulness (certyfikat MBSR Maindfulness Based Stress Reduction wydany przez Institute for Mindfulness-Based Approaches/Polski Instytut Mindfulness\, http://www.polski-instytut-mindfulness.pl/nauczyciele/lista-nauczycieli/sylwia-rogala-marciniak)\, opiekun merytoryczny i wykładowca kształcenia podyplomowego na Uniwersytecie Łódzkim\, superwizor i mentor coach CoachingSteps™ przy Pracowni Rozwoju Kompetencji UŁ. Dyrektor Łódzkiego Oddziału Izby Coachingu oraz Festiwalu PROGRESSteron w Łodzi. Twórca HOLI Centrum Uważności. Erickson International Coach\, Certyfikowany trener biznesu szkoły Trenerów i Konsultantów Zarządzania MATRIK – metodologia oparta na międzynarodowych standardach NVQ International Trainers Certification in Training\, Learning and Development – MATRIK & Pearson Edexcel International. Współautorka bestsellera „Coaching. Zbiór narzędzi wspierania rozwoju” (Wolters Kluwer Polska – ABC\, 2012r. ). Od 15 lat praktykuje jogę i medytację\, aktualnie rozwija się na kursie nauczycielskim jogi metodą BKS. Iyengara u Konrada Kocota. Treningi redukcji stresu\, uważności i medytacji prowadzi od 2008 roku\, od dwóch lat w formie pełnych certyfikowanych kursów MBSR. Ma za sobą ponad 3 tyś godzin na sali szkoleniowej i 600 h coachingów. \nZapisy: zarejestruj się zgłaszając na maila klub@centrumholi.pl
URL:https://centrumholi.pl/event/wprowadzenie-do-treningu-mbsr-spotkanie-informacyjne-5/
CATEGORIES:Mindfulness,Rozwój Osobisty
ATTACH;FMTTYPE=:
END:VEVENT
BEGIN:VEVENT
DTSTART;TZID=Europe/Warsaw:20170418T173000
DTEND;TZID=Europe/Warsaw:20170418T200000
DTSTAMP:20260419T194707
CREATED:20170309T134303Z
LAST-MODIFIED:20170309T134303Z
UID:879-1492536600-1492545600@centrumholi.pl
SUMMARY:KURS REDUKCJI STRESU METODĄ UWAŻNOŚCI MBSR /8 tygodni/ wtorkowe popołudnia
DESCRIPTION:Kurs MBSR (Mindfulness Based Stress Reduction) jest to 8-tygodniowy kurs uważności\, uczący świadomości siebie w obszarze zarządzania swoim stresem i wzrostu satysfakcji z własnego życia. Kurs odbywa się na zasadzie cotygodniowych 2\,5h warsztatów\, podczas których uczestnicy uczą się i doświadczają obszarów uważności w życiu: treningu uwagi i skupienia umysłu\, uświadamiania sobie własnych emocji\, radzenia sobie ze stresem i myślami\, świadomego oddziaływania na komunikację z ludźmi\, budowania jasnych i korzystnych relacji. \nKORZYŚCI:\n\nspokój i opanowanie\, możliwość wyboru swoich reakcji emocjonalnych\nzwiększenie koncentracji i możliwości intelektualnych\nzredukowanie  wewnętrznego napięcia emocjonalnego\nzwiększenie świadomości i pewności siebie\nstworzenie wewnętrznej gotowości do zmian\nstworzenie umiejętności akceptacji ludzi i świata bez konieczności kontrolowania ich\nzwiększenie umiejętności regeneracji\numiejętność cieszenia się życiem i odnajdywania radości w swojej codzienności\numiejętność radzenia sobie z trudnymi emocjami\npozytywny stosunek do siebie\, ludzi\, świata.\n\nPodczas treningu uważności nauczysz się w jaki sposób pracować ze swoim umysłem w obszarze myśli i nawyków działania. Nauczysz się uważności w codziennych czynnościach\, co zwiększy możliwość skoncentrowanego działania. Poczujesz\, że Twoje życie należy do Ciebie\, stoisz za sterem i umiejętnie reagujesz na powiewy wiatru. \nZwolnisz. Odnajdziesz nową jakość w komunikacji z innymi\, a także w zwykłych codziennych czynnościach. \nPoznasz swoje ciało\, odkryjesz jego potrzeby\, dowiesz się czym jest regeneracja i odnowa. \n\nDLA KOGO?\nDla wszystkich biegnących\, żyjących w pośpiechu\, żartujących na temat swojego „zapominalstwa”. Dla tych\, którzy czują zmęczenie\, wypalenie zawodowe albo energetyczne i rozładowane baterie. Dla tych\, którzy żyją w impasie i chcieliby się przyjrzeć trudnością w pójściu dalej w swoim życiu. \nDla właścicieli firm\, osób zarządzających w firmach\, którzy pragną obniżyć wewnętrzne ciśnienie. Dla pracowników\, którzy zmęczeni są pogonią za osiągnięciami czy terminami. \nDla psychologów\, coachów\, terapeutów i wszystkich tych\, którzy na co dzień zajmują się pracą z ludźmi i chcieliby wdrożyć uważność do swojej praktyki zawodowej. \nDla młodych rodziców\, którzy spotkali się z doświadczeniem nowego życia i chcieliby zrozumieć siebie w nowej roli. Dla pozostałych rodziców\, którzy mają wrażenie\, że „nie wiedzą kiedy dzieci tak urosły”. \nDla kobiet w ciąży\, dla których właśnie przyszedł czas na wyciszenie i poszukanie kontaktu ze sobą\, poszukanie odpowiedzi na pytania jakie powstają na tym etapie. \nDla studentów\, którzy czują\, że stres jest tematem już obecnym w ich życiu i chcieliby nauczyć się z nim radzić zanim przyjdą jego konsekwencje. \nDla tych\, którzy chcieliby w końcu przestać się frustrować\, płakać czy złościć\, nauczyć podejmować decyzje lub brać odpowiedzialność za swoje życie. By żyć jego pełnią. \nDla Par\, które chciałyby bardziej świadomie iść przez wspólne życie.❤️ \nDLACZEGO TEN KURS?\n\njest sprawdzoną metodą\, opracowaną naukowo ponad 30 lat temu przez prof. Jona Kabat-Zinna i rozwijaną cały czas w Center For Mindfulness przy klinice uniwersyteckiej w Worcester (USA)\nzostał wdrożony na większości Uniwersytetów w Stanach Zjednoczonych i Wielkiej Brytanii\njest wykorzystywany w biznesie\, jako element rozwoju pracowników w organizacjach świadomie inwestujących w kulturę wellnessu  jak Google czy eBay.\n\nJAK BĘDZIE WYGLĄDAŁ KURS?\nCzas trwania kursu to 8 tygodni\, w trakcie których odbędzie się: \n\n8 spotkań po 3 h dydaktyczne raz w tygodniu (wtorki w godz. 17:30 – 20:00)\n1-dniowy warsztat dodatkowy – mini odosobnienie „Mindful Day”\nwłasna codzienna praktyka wykonywana w domu na podstawie otrzymanych nagrań oraz instrukcji przekazanych podczas warsztatów\nopcjonalne\, dla zainteresowanych: 1-sesja coachingowa po zakończonym kursie dotycząca wdrożenia mindfulness w codzienne życie.\n\nCO OTRZYMASZ?\n\nkomplet profesjonalnych materiałów z dodatkowymi ćwiczeniami  coachingowymi do pogłębiania praktyki osobistej\nkomplet płyt CD oraz płytę DVD do praktyki własnej\ndostęp on-line do ćwiczeń z zajęć\nwsparcie nauczyciela doświadczonego w prowadzeniu grupowych i indywidualnych procesów MBSR\nprzyłączenie do społeczności spotykającej się regularnie i rozwijającej uważność na co dzień\nzaświadczenie o ukończeniu kursu zgodne z międzynarodowymi standardami.\n\nSZCZEGÓŁY ORGANIZACYJNE\nTematy:\n1 sesja „Pierwszy smak uważności”\n2 sesja „Autopilot i umysł początkującego”\n3 sesja „Uważna praca z ciałem”\n4 sesja „Zrozumiec stres”\n5 sesja „Myśli są tylko myślami”\n6 sesja „Spotkanie z tym co trudne”\n7 sesja „Uważna komunikacja\, uważne relacje” \n8 sesja „A rzeka płynie” \nDaty spotkań: 18.04.\, 25.04.\, 9.05.\, 16.05.\, 23.05.\, 6.06.\, 13.06.\, 20.06  \nDzień Uważności: 25.06 \nInwestycja w siebie: \n\n935 zł\npary: 1500 zł (możliwość wpłaty w 2 ratach)\n\nJest to opłata za całość kursu łącznie z materiałami oraz kompletem płyt CD/DVD. \nZapisy: Pierwszy krok to wypełnienie zgłoszenia MBSR. Ostatecznym potwierdzeniem jest wpłata. \nNauczyciel:\nSylwia Rogala-Marciniak – Certyfikowany nauczyciel mindfulness (certyfikat MBSR Maindfulness Based Stress Reduction wydany przez Institute for Mindfulness-Based Approaches/Polski Instytut Mindfulness\, http://www.polski-instytut-mindfulness.pl/nauczyciele/lista-nauczycieli/sylwia-rogala-marciniak)\, opiekun merytoryczny i wykładowca kształcenia podyplomowego na Uniwersytecie Łódzkim\, superwizor i mentor coach CoachingSteps™ przy Pracowni Rozwoju Kompetencji UŁ. Dyrektor Łódzkiego Oddziału Izby Coachingu oraz Festiwalu PROGRESSteron w Łodzi. Twórca HOLI Centrum Uważności. Erickson International Coach\, Certyfikowany trener biznesu szkoły Trenerów i Konsultantów Zarządzania MATRIK – metodologia oparta na międzynarodowych standardach NVQ International Trainers Certification in Training\, Learning and Development – MATRIK & Pearson Edexcel International. Współautorka bestsellera „Coaching. Zbiór narzędzi wspierania rozwoju” (Wolters Kluwer Polska – ABC\, 2012r. ). Od 15 lat praktykuje jogę i medytację\, aktualnie rozwija się na kursie nauczycielskim jogi metodą BKS. Iyengara u Konrada Kocota. Treningi redukcji stresu\, uważności i medytacji prowadzi od 2008 roku\, od dwóch lat w formie pełnych certyfikowanych kursów MBSR. Ma za sobą ponad 3 tyś godzin na sali szkoleniowej i 600 h coachingów. Przeprowadziła 10 pełnych treningów MBSR. \nZAPRASZAM SERDECZNIE! TO PODRÓŻ W GŁĄB SIEBIE\, KTÓRA NIESIE WIELKIE DOŚWIADCZENIE.\nPrzeczytaj Opinie Absolwentów Kursu
URL:https://centrumholi.pl/event/kurs-redukcji-stresu-metoda-uwaznosci-mbsr-8-tygodni-wtorkowe-popoludnia/
CATEGORIES:Mindfulness
ATTACH;FMTTYPE=:
END:VEVENT
BEGIN:VEVENT
DTSTART;TZID=Europe/Warsaw:20170411T173000
DTEND;TZID=Europe/Warsaw:20170411T190000
DTSTAMP:20260419T194707
CREATED:20170309T132912Z
LAST-MODIFIED:20170309T132912Z
UID:878-1491931800-1491937200@centrumholi.pl
SUMMARY:Wprowadzenie do treningu MBSR (spotkanie informacyjne)
DESCRIPTION:Zastanawiasz się czy kurs uważności jest czymś dla Ciebie?\nA możesz chcesz dowiedzieć się więcej o mindfulness zanim podejmiesz decyzję?\nZapraszamy serdecznie na darmowe spotkanie informacyjne na temat mindfulness oraz MBSR (Mindfulness Based Stress Reduction). \nPodczas spotkania:\n– dowiesz się czym jest mindfulness oraz MBSR/MBCT i na czym polega efektywność tej metody\n– doświadczysz uwazności na sobie. \nMindfulness pozwala zwolnić\, lecz to nie znaczy że w życiu robi się nudno. Wręcz przeciwnie. Dopiero wtedy jesteśmy w stanie dostrzec wielobarwność każdej chwili\, być w pełnym znaczeniu frazy „tu i teraz”. Co ciekawe\, kiedy przestajemy za czymś gonić\, kiedy „odpuszczamy” – to rozwiązanie samo przychodzi.\nUważność to możliwość bycia opanowanym\, spokojnym i stabilnym wewnętrznie – zarówno w pracy\, w roli zawodowej jak i w życiu prywatnym\, w roli partnera czy rodzica. \nStan uważności w umyśle można porównać do istnienia jeziora – nawet jeśli pogoda jest zmienna\, pada deszcz\, czy wieje wiatr – to jedynie dotyka tafli wody. Pod spodem panuje cisza i niczym nieporuszone życie toczy się swoim tempem\, w spokoju.. w naszym życiu też spotykają nas różne „warunki atmosferyczne” a bycie uważnym pozwala zachować ten stan wewnętrznego spokoju. Jezioro się nie napina\, nie krzyczy\, po prostu jest. \nProwadzi:\nCertyfikowany nauczyciel mindfulness (certyfikat MBSR Maindfulness Based Stress Reduction wydany przez Institute for Mindfulness-Based Approaches/Polski Instytut Mindfulness\, http://www.polski-instytut-mindfulness.pl/nauczyciele/lista-nauczycieli/sylwia-rogala-marciniak)\, opiekun merytoryczny i wykładowca kształcenia podyplomowego na Uniwersytecie Łódzkim\, superwizor i mentor coach CoachingSteps™ przy Pracowni Rozwoju Kompetencji UŁ. Dyrektor Łódzkiego Oddziału Izby Coachingu oraz Festiwalu PROGRESSteron w Łodzi. Twórca HOLI Centrum Uważności. Erickson International Coach\, Certyfikowany trener biznesu szkoły Trenerów i Konsultantów Zarządzania MATRIK – metodologia oparta na międzynarodowych standardach NVQ International Trainers Certification in Training\, Learning and Development – MATRIK & Pearson Edexcel International. Współautorka bestsellera „Coaching. Zbiór narzędzi wspierania rozwoju” (Wolters Kluwer Polska – ABC\, 2012r. ). Od 15 lat praktykuje jogę i medytację\, aktualnie rozwija się na kursie nauczycielskim jogi metodą BKS. Iyengara u Konrada Kocota. Treningi redukcji stresu\, uważności i medytacji prowadzi od 2008 roku\, od dwóch lat w formie pełnych certyfikowanych kursów MBSR. Ma za sobą ponad 3 tyś godzin na sali szkoleniowej i 600 h coachingów. \nZapisy: zarejestruj się zgłaszając na maila klub@centrumholi.pl
URL:https://centrumholi.pl/event/wprowadzenie-do-treningu-mbsr-spotkanie-informacyjne-4/
CATEGORIES:Mindfulness
ATTACH;FMTTYPE=:
END:VEVENT
END:VCALENDAR