BEGIN:VCALENDAR
VERSION:2.0
PRODID:-//Mindfulness LAB — Sylwia RoMa — HOLI Body&amp;Mind - ECPv6.15.14//NONSGML v1.0//EN
CALSCALE:GREGORIAN
METHOD:PUBLISH
X-ORIGINAL-URL:https://centrumholi.pl
X-WR-CALDESC:Wydarzenia dla Mindfulness LAB — Sylwia RoMa — HOLI Body&amp;Mind
REFRESH-INTERVAL;VALUE=DURATION:PT1H
X-Robots-Tag:noindex
X-PUBLISHED-TTL:PT1H
BEGIN:VTIMEZONE
TZID:Europe/Warsaw
BEGIN:DAYLIGHT
TZOFFSETFROM:+0100
TZOFFSETTO:+0200
TZNAME:CEST
DTSTART:20190331T010000
END:DAYLIGHT
BEGIN:STANDARD
TZOFFSETFROM:+0200
TZOFFSETTO:+0100
TZNAME:CET
DTSTART:20191027T010000
END:STANDARD
BEGIN:DAYLIGHT
TZOFFSETFROM:+0100
TZOFFSETTO:+0200
TZNAME:CEST
DTSTART:20200329T010000
END:DAYLIGHT
BEGIN:STANDARD
TZOFFSETFROM:+0200
TZOFFSETTO:+0100
TZNAME:CET
DTSTART:20201025T010000
END:STANDARD
BEGIN:DAYLIGHT
TZOFFSETFROM:+0100
TZOFFSETTO:+0200
TZNAME:CEST
DTSTART:20210328T010000
END:DAYLIGHT
BEGIN:STANDARD
TZOFFSETFROM:+0200
TZOFFSETTO:+0100
TZNAME:CET
DTSTART:20211031T010000
END:STANDARD
END:VTIMEZONE
BEGIN:VEVENT
DTSTART;TZID=Europe/Warsaw:20200527T190000
DTEND;TZID=Europe/Warsaw:20200527T210000
DTSTAMP:20260419T204920
CREATED:20200415T100150Z
LAST-MODIFIED:20200415T100150Z
UID:2294-1590606000-1590613200@centrumholi.pl
SUMMARY:8-TYGODNIOWY KURS REDUKCJI STRESU MBSR // ONLINE //
DESCRIPTION:Kurs Mindfulness Based Stress Reduction jest to 8-tygodniowy kurs uważności\, opracowany przez amerykańskiego profesora Johna Kabat-Zinn’a na podstawie jego wieloletnich badań i obserwacji. MBSR bazuje na buddyjskiej medytacji i sięga do filozofii\, jednak pozostaje śwecki w swoim przekazie. Korzysta także z wiedzy dotyczącej inteligencji emocjonalnej\, neuroplastyczności mózgu i psychologii poznawczo-behawioralnej. \nPodczas treningu uważności nauczysz się w jaki sposób pracować ze swoim umysłem w obszarze myśli i nawyków działania. Nauczysz się uważności w codziennych czynnościach\, dzięki czemu zwiększysz możliwość skoncentrowanego działania. Rozwiniesz świadomość siebie w obszarze zarządzania swoim stresem i wzrostu satysfakcji z własnego życia. \nZwolnisz. Odnajdziesz nową jakość w komunikacji z innymi\, a także w zwykłych codziennych czynnościach. \nPoznasz swoje ciało\, odkryjesz jego potrzeby\, dowiesz się czym jest regeneracja i odnowa. \nKORZYŚCI:\n✅ spokój i opanowanie\, możliwość wyboru swoich reakcji emocjonalnych\n✅ zwiększenie koncentracji i możliwości intelektualnych\n✅ zredukowanie wewnętrznego napięcia emocjonalnego\n✅ zwiększenie świadomości i pewności siebie\n✅ stworzenie wewnętrznej gotowości do zmian\n✅ stworzenie umiejętności akceptacji ludzi i świata bez konieczności kontrolowania ich\n✅ zwiększenie umiejętności regeneracji\n✅ umiejętność cieszenia się życiem i odnajdywania radości w swojej codzienności\n✅ umiejętność radzenia sobie z trudnymi emocjami\n✅ pozytywny stosunek do siebie\, ludzi\, świata. \nDLACZEGO TEN KURS?\n✅ jest sprawdzoną metodą\, opracowaną naukowo ponad 30 lat temu przez prof. Jona Kabat-Zinna i rozwijaną cały czas w Center For Mindfulness przy klinice uniwersyteckiej w Worcester (USA)\n✅ został wdrożony na większości Uniwersytetów w Stanach Zjednoczonych i Wielkiej Brytanii\n✅ jest wykorzystywany w biznesie\, jako element rozwoju pracowników w organizacjach świadomie inwestujących w kulturę wellnessu jak Google czy eBay. \nTechniki oparte na uważności ściśle związane są z budowaniem nowych postaw i nawyków działania w oparciu o neuropatyczność mózgu. Dzięki pracy poznawczo-behawioralnej oraz technikom medytacyjnym zaadoptowanym do mentalnego treningu uwagi w procesie kilku tygodniowej regularnej pracy z mózgu tworzone są nowe połączenia mające na celu reorganizacje starych wzorców stresowych\, adaptację do zmiennego środowiska\, samo-naprawę oraz wzmacnianie procesów związanych z wytrwałością i koncentracją. \nJAK WYGLĄDA KURS MINDFULNESS ONLINE?\nMerytorycznie nie różni się od kursu stacjonarnego. Otrzymasz te same materiały\, nagrania. Będziemy widywać się raz w tygodniu na sesjach on-line\, podczas których będziemy uczyć się kolejnych technik medytacji oraz zagłębiać w tematykę związaną z rozwijaniem zdolności redukcji stresu poprzez uważność.\nTematy sesji:\n1 sesja „Pierwszy smak uważności”\n2 sesja „Autopilot i umysł początkującego”\n3 sesja „Uważna praca z ciałem”\n4 sesja „Zrozumiec stres”\n5 sesja „Myśli są tylko myślami”\n6 sesja „Spotkanie z tym co trudne”\n7 sesja „Uważna komunikacja\, uważne relacje”\n8 sesja „A rzeka płynie” \nCO OTRZYMASZ?\n📚 komplet profesjonalnych materiałów on-line z dodatkowymi ćwiczeniami coachingowymi do pogłębiania praktyki osobistej\n💿 komplet nagrań on-line praktyk medytacyjnych\n💻 dostęp on-line do dodatkowych ćwiczeń\n💆‍♂️ wsparcie nauczyciela doświadczonego w prowadzeniu grupowych i indywidualnych procesów MBSR\n💎 zaświadczenie o ukończeniu kursu zgodne z międzynarodowymi standardami. \nSZCZEGÓŁY ORGANIZACYJNE\n📆Kiedy?\nŚrody w godz 19:00 – 21:00\, rozpoczynając od 29.04.\n📍Gdzie?\nSesje będą spotykać się na platformie ZOOM. Otrzymasz link z zaproszeniem na spotkanie.\n📲Jak się zapisać?\nNapisz do mnie sylwia@centrumholi.pl\, otrzymasz formularz zgłoszenia i szczegółowe informacje\n/ wypełnij zgłoszenie: https://forms.gle/d49kTUr1ofhbaoP49\n💶 Ile to kosztuje?\nPodstawowa cena kursu to 850 zł.\nWpłacasz 300 zł zadatku\, resztę płatności między I a VI sesją\, możesz ustalić samodzielnie. \nNAUCZYCIEL\nSylwia Rogala-Marciniak\nCertyfikowany nauczyciel mindfulness MBSR/MBCL (certyfikat Maindfulness Based Stress Reduction wydany przez Institute for Mindfulness-Based Approaches/Polski Instytut Mindfulness; certyfikat Mindfulness-Based Compassionate Living wydany przez Polski Instytut Mindfulness). Erickson International Coach\, Opiekun merytoryczny i Wykładowca kształcenia podyplomowego na Uniwersytecie Łódzkim\, Superwizor i Mentor Coach CoachingSteps™ przy Pracowni Rozwoju Kompetencji UŁ. W latach 2015 – 2017 pełniła funkcję dyrektorki Łódzkiego Oddziału Izby Coachingu oraz Festiwalu PROGRESSteron w Łodzi. Twórca HOLI Body&Mind Center\, ośrodka zajmującego się medytacją mindfulness. Certyfikowany trener biznesu szkoły Trenerów i Konsultantów Zarządzania MATRIK – metodologia oparta na międzynarodowych standardach NVQ International Trainers Certification in Training\, Learning and Development – MATRIK & Pearson Edexcel International. Współautorka bestsellera „Coaching. Zbiór narzędzi wspierania rozwoju” (Wolters Kluwer Polska – ABC\, 2012r. ). Ma za sobą ponad 3 tyś godzin na sali szkoleniowej i 600 h sesji indywidualnych. Treningi redukcji stresu\, uważności i medytacji prowadzi od 2008 roku\, a od 2015 roku w formie pełnych certyfikowanych kursów MBSR.\nZafascynowana kulturą dalekiego wschodu\, często podróżuje w tamte kierunki świata. Jogę i medytację praktykuje od 16 lat\, odnajdując w niej wciąż coś nowego na kolejnych etapach swojego życia.\nDyplomowany nauczyciel jogi w systemie hatha-yogi metodą BKS Iyengara o stopniu Introductory II.\nSwoje umiejętności zawodowe doskonaliła uczestnicząc m.in. w programach CoachWise Coaching Essentials™\, Transforming Communication™\, Family Coaching -Erickson College International\, The Art & Science of Mindfulness. \nOpinie o kursie: https://centrumholi.pl/mindfulness/opinie-o-kursie-redukcji-stresu/
URL:https://centrumholi.pl/event/8-tygodniowy-kurs-redukcji-stresu-mbsr-online/
CATEGORIES:Mindfulness
ATTACH;FMTTYPE=image/jpeg:https://centrumholi.pl/wp-content/uploads/2020/04/MBSR.jpg
END:VEVENT
END:VCALENDAR