BEGIN:VCALENDAR
VERSION:2.0
PRODID:-//Mindfulness LAB — Sylwia RoMa — HOLI Body&amp;Mind - ECPv6.15.14//NONSGML v1.0//EN
CALSCALE:GREGORIAN
METHOD:PUBLISH
X-WR-CALNAME:Mindfulness LAB — Sylwia RoMa — HOLI Body&amp;Mind
X-ORIGINAL-URL:https://centrumholi.pl
X-WR-CALDESC:Wydarzenia dla Mindfulness LAB — Sylwia RoMa — HOLI Body&amp;Mind
REFRESH-INTERVAL;VALUE=DURATION:PT1H
X-Robots-Tag:noindex
X-PUBLISHED-TTL:PT1H
BEGIN:VTIMEZONE
TZID:Europe/Warsaw
BEGIN:DAYLIGHT
TZOFFSETFROM:+0100
TZOFFSETTO:+0200
TZNAME:CEST
DTSTART:20160327T010000
END:DAYLIGHT
BEGIN:STANDARD
TZOFFSETFROM:+0200
TZOFFSETTO:+0100
TZNAME:CET
DTSTART:20161030T010000
END:STANDARD
BEGIN:DAYLIGHT
TZOFFSETFROM:+0100
TZOFFSETTO:+0200
TZNAME:CEST
DTSTART:20170326T010000
END:DAYLIGHT
BEGIN:STANDARD
TZOFFSETFROM:+0200
TZOFFSETTO:+0100
TZNAME:CET
DTSTART:20171029T010000
END:STANDARD
BEGIN:DAYLIGHT
TZOFFSETFROM:+0100
TZOFFSETTO:+0200
TZNAME:CEST
DTSTART:20180325T010000
END:DAYLIGHT
BEGIN:STANDARD
TZOFFSETFROM:+0200
TZOFFSETTO:+0100
TZNAME:CET
DTSTART:20181028T010000
END:STANDARD
BEGIN:DAYLIGHT
TZOFFSETFROM:+0100
TZOFFSETTO:+0200
TZNAME:CEST
DTSTART:20190331T010000
END:DAYLIGHT
BEGIN:STANDARD
TZOFFSETFROM:+0200
TZOFFSETTO:+0100
TZNAME:CET
DTSTART:20191027T010000
END:STANDARD
BEGIN:DAYLIGHT
TZOFFSETFROM:+0100
TZOFFSETTO:+0200
TZNAME:CEST
DTSTART:20200329T010000
END:DAYLIGHT
BEGIN:STANDARD
TZOFFSETFROM:+0200
TZOFFSETTO:+0100
TZNAME:CET
DTSTART:20201025T010000
END:STANDARD
BEGIN:DAYLIGHT
TZOFFSETFROM:+0100
TZOFFSETTO:+0200
TZNAME:CEST
DTSTART:20210328T010000
END:DAYLIGHT
BEGIN:STANDARD
TZOFFSETFROM:+0200
TZOFFSETTO:+0100
TZNAME:CET
DTSTART:20211031T010000
END:STANDARD
BEGIN:DAYLIGHT
TZOFFSETFROM:+0100
TZOFFSETTO:+0200
TZNAME:CEST
DTSTART:20220327T010000
END:DAYLIGHT
BEGIN:STANDARD
TZOFFSETFROM:+0200
TZOFFSETTO:+0100
TZNAME:CET
DTSTART:20221030T010000
END:STANDARD
BEGIN:DAYLIGHT
TZOFFSETFROM:+0100
TZOFFSETTO:+0200
TZNAME:CEST
DTSTART:20230326T010000
END:DAYLIGHT
BEGIN:STANDARD
TZOFFSETFROM:+0200
TZOFFSETTO:+0100
TZNAME:CET
DTSTART:20231029T010000
END:STANDARD
END:VTIMEZONE
BEGIN:VTIMEZONE
TZID:UTC
BEGIN:STANDARD
TZOFFSETFROM:+0000
TZOFFSETTO:+0000
TZNAME:UTC
DTSTART:20210101T000000
END:STANDARD
END:VTIMEZONE
BEGIN:VEVENT
DTSTART;TZID=Europe/Warsaw:20220804T143000
DTEND;TZID=Europe/Warsaw:20220807T120000
DTSTAMP:20260419T160252
CREATED:20211202T224219Z
LAST-MODIFIED:20220714T185836Z
UID:4812-1659623400-1659873600@centrumholi.pl
SUMMARY:Women's Camp - letni obóz dla świadomych Kobiet
DESCRIPTION:JOGA // MEDYTACJA I PRACA Z ODDECHEM // WARSZTATY MINDFULNESS // CORE ENERGETICS // CORE ELEMENTS // POŁĄCZENIE Z NATURĄ // TANIEC INTUICYJNY // PRACA Z ŻYWIOŁAMI // ROZWIJANIE INTUICJI // CEREMONIA KAKAO\nZapraszamy wszystkie kobiety\, poszukujące i pragnące rozwijać się w głęboki i autentyczny sposób. \nKobiecość to coś więcej niż obowiązki dla codziennego. Każda z nas je ma i dlatego wiemy\, jak bardzo potrzebujemy odskoczni\, przerwy i resetu\, aby nabrać energii i wrócić do siły. \nTej właśnie naturalnej kobiecej mocy będziemy poszukiwać\, odkrywać i dawać sobie nawzajem. \nZ tego wyjazdu wyjedziesz naładowana\, odświeżona\, w poczuciu pełni\, a także z nowymi fantastycznymi przyjaźniami. Jesteś na tak? \nCo będziemy robić na tym wyjątkowym wyjeździe?\nW około nas lasy\, stawy\, łąki i dzika polska natura w pięknym letnim okresie… Do naszej dyspozycji klimatyczny dom\, weranda z kanapami\, dużo miejsca na relaks i piękna sala do medytacji i pracy z ciałem.  \nPo pierwsze postawimy na ciało. Będziemy je budzić i ożywiać. Nauczymy się gruntowania\, uważnego ruchu\, oswobodzimy w tańcu intuicyjnym\, spotkamy z żywiołami i wzmocnimy w różnych formach jogi…. Poczujesz\, co to jest zewnętrzna siła. \nPo drugie zajmiemy się naszą psyche. Codzienne zajęcia z uważności\, medytacje mindfulness\, warsztaty psycho-edukacyjne związane z emocjami\, aromaterapią… poczujesz co to jest wewnętrzny spokój. \nPo trzecie sięgniemy głębiej. Podzielimy się tym\, co bezpieczne i magiczne. Poznasz nasze karty\, będziemy pracować w obszarze intuicji i duchowości. \nMało…?\nPo czwarte poznasz wspaniałe kobiety\, jakie zawsze przyciągają nasze obozy. \nPo piąte zjesz niesamowite pyszności\, jakie zawsze gotują nasi gospodarze. \nPo szóste spędzisz czas w naturze\, która zawsze dzieli się harmonią. \nWyjedziesz odmieniona ! \n  \nJeśli więc czujesz\, że brakuje Ci pełni w życiu\, poszukaj tego elementu wewnątrz siebie. Spotkaj się z innymi kobietami i poczuj MOC jaka z tego płynie w codziennych kręgach\, przy porannej kawie na tarasie\, w długich leniwych popołudniach na werandzie  i wieczorach przy ogniu i wodzie… \nTo wyjazd\, który łączy relacje z warsztatami psychologicznymi i pracą z ciałem. \nNaszym celem jest zbudowanie siły… wewnętrznej szamanki. \n  \nW naszym planie:\n\nCodzienna praca z ciałem.\nBioenergetyka. Kontakt z Ziemią.\nRóżne formy jogi: czakralna\, terapeutyczna\, powięziowa\, regeneracyjna\, vinyasa\, flow.\nRedukcja stresu – warsztaty mindfulness w oparciu o programy MBSR/MBCL.\nCORE Energetics\, Core Elements\, TRE\nOdnowa biologiczna – aromaterapia\, automasaże.\nKręgi kobiet – dawanie i otrzymywanie mocy.\nInner Shamanic – praca z kartami\, praca z czakrami\, moc kamieni.\nTaniec intuicyjny\, taniec żywiołów\nBody&Mind Reset.\nTony codziennych inspiracji wśród pięknych dusz.\n\nRamowy plan dnia (ostateczny jego harmonogram ustalimy wspólnie podczas pierwszego kręgu). \n\nPoranna medytacja i praca z oddechem\nPraca z ciałem / różne formy jogi\nWarsztaty psycho-edukacyjne z mindfulness\, uwalniania napięć z ciała\, uwalniania emocji\, wyrażania siebie\, dotykania esencji kobiecości\, TRE\nCodzienne spotkania w Kręgu Kobiet\, rozmowy\, wymiana energii.\nWieczone Świątynie Shakti – celebracja kobiecości\, taniec żywiołów\, wprowadzenie do kobiecej Tantry.\n\n  \nWymiana\nCena całego obozu\, obejmująca noclegi\, pełne wyżywienie\, pakiet zajęć 1560 zł. \nJak się zapisać? \n\nNapisz do nas maila sylwia@centrumholi.pl\nWpłać zadatek potwierdzający rezerwację miejsca 200 zł \nCzekaj na najlepsze wakacje! 🙂\n\nProwadzące:\nDwie kobiety\, które połączyła niezwykła historia. I które pomiędzy sobą doświadczyły każdego aspektu kobiecej relacji\,od wojny do pokoju\, od nieufności po siostrzana miłość. \nSylwia Rogala-MarciniakJestem certyfikowanym nauczycielem mindfulness\, dyplomowanym nauczycielem jogi w systemie hatha-yogi metodą BKS Iyengara o stopniu Introductory II. Posiadam także certyfikat Erickson International Coach oraz trenera biznesu Matrik\, Jestem Członkiem Zarządu Fundacji Polski Instytut Mindfulness\, odpowiadam za kształcenie przyszłych nauczycieli MBSR.Prowadzę treningi dla firm\, koordynuję kształcenie podyplomowe i wykładam na Uniwersytecie Łódzkim. Jogę i medytację praktykuję od 19 lat\, odnajdując w niej wciąż coś nowego na kolejnych etapach swojego życia. W praktyce najważniejsza jest dla mnie uważność i akceptacja siebie. W moim nauczaniu pragnę przekazać holistyczne rozumienie połączenia ciała\, emocji\, duszy i umysłu.Prowadzenie Kręgów marzyło mi się od zawsze. Jednak dopiero niedawno poznałam moją Siostrę Duchową\, z którą dzielimy ten potencjał. Odnalazłam także swoje Plemię i poczułam moc płynącą z energii bycia blisko i prawdziwie wśród Kobiet. Teraz tymi zasobami pragnę dzielić się dalej. \nJoanna Rati SajkoJestem certyfikowaną psychoterapeutką\, ukończyłam 4 letnią szkołę terapii skoncentrowanej na ciele w nurcie Core Energetics. Swoją przygodę w tym zakresie zaczęłam ponad 10 lat temu od ustawień systemowych (certyfikat Taunus-Institut für Stilles Familienstellen) i technik pracy z ciałem TRE\, uzyskując certyfikat TRE Provider. Po drodze poznawałam coraz więcej metod pracy\, taniec ekstatyczny i intuicyjny\, różne formy medytacji w tym różnorodne medytacje Osho\, masaż żywiołów i masaż tantryczny\, techniki pracy z oddechem. Przez wiele lat specjalizowałam się w pracy nad relacjami męsko-damskimi jako psycholog i coach (Mars-Venus Coaching\, US)\, a od kilku lat intensywnie zgłębiam tantryczne metody pracy z drugim człowiekiem a przede wszystkim w relacji ze sobą. Budzę moc poprzez ruch\, taniec\, ekspresję i siły przyrody z nurcie Żywiołów Serca (CorElements). Spotkanie mojej Duchowej Siostry pokazało mi nowy wymiar kobiecej relacji\, którym teraz wraz z Nią chciałabym się dzielić. \nZapraszamy 🙂 \nMiejsce\n \nNieprześnia 1 to uroczy kompleks wypoczynkowy otoczony pięciohektarowym parkiem. Mieści się w nim m.in. zabytkowy dworek z 1934 roku\, jabłoniowy sad\, warzywnik i staw. \nNieprześnia zaprasza do pokoi z łazienkami\, przestronną restaurację typu slow food\, zabytkową kamienną piwnicę\, saunę\, gabinet masażu\, salę do ćwiczeń z podgrzewaną podłogą oraz\, od niedawna\, drewniany pomost na stawie do prowadzenia zajęć jogi. \nNieprześnia 1 to idealne miejsce dla osób poszukujących wyjątkowego miejsca do praktyki i wyciszenia.
URL:https://centrumholi.pl/event/womens-camp-letni-oboz-dla-swiadomych-kobiet-3/
LOCATION:Nieprześnia 1\, Nieprześnia 1\, Nieprześnia\, małopolskie\, 32-700
ATTACH;FMTTYPE=image/png:https://centrumholi.pl/wp-content/uploads/2021/12/grafiki-holi-4.png
END:VEVENT
BEGIN:VEVENT
DTSTART;TZID=UTC:20220422T193000
DTEND;TZID=UTC:20220422T213000
DTSTAMP:20260419T160252
CREATED:20220308T093313Z
LAST-MODIFIED:20220308T093937Z
UID:5743-1650655800-1650663000@centrumholi.pl
SUMMARY:Krąg Kobiet w HOLI / Kraków
DESCRIPTION:Kobiecy Krąg Babilonek zaprasza do wspólnej celebracji kobiecości\, piękna i seksualności w Tobie. Chcemy spotykać się\, by tworzyć i wzmacniać nasz kobiecy potencjał.\nKręgi Kobiet znane są od setek lat. W kręgach kobiety spotykały się\, by przekazywać sobie swą mądrość\, dawać wsparcie\, tworzyć MOC. Będziemy dawać sobie przestrzeń siostrzanego wsparcia\, odkrywania\, dzielenia się i obdarowywania swoimi talentami\, mądrością i pięknem. Poprzez taniec\, śpiew\, historie\, medytacje\, bycie w ciszy\, pracę z żywiołami… tworzyć piękno w sobie i wokół siebie. Będziemy rozmawiać o wszystkim. Nasze emocje\, nasze potrzeby (te zaspokojone i te nie)\, nasze role i maski\, nasze pragnienia\, kobiecość i seksualność.. aż pozwolimy sobie na obudzenie się tej\, która pragnie biegać z Wilkami w poczuciu mocy. \nWierzymy\, że tworząc taką przestrzeń i taką społecznośc możemy o wiele więcej – razem\, w połączeniu ze sobą. Tematy\, jak też przebieg spotykań zależą więc od nas wszystkich. Chcemy dać przestrzeń temu\, co się będzie pojawiać. Dzięki wzajemnemu wsparciu poczujemy się akceptowane\, wysłuchane\, zadbane i dokarmione na różnych poziomach. W Kręgu pomagamy sobie zobaczyć nasze wewnętrzne światło\, ale także spotkać z tym co trudne i poza codzienną „maską”. Krąg\, to przestrzeń\, w której budzi się Twoja wewnętrzna Mądrość. To także miejsce\, w którym otwiera się wyższa świadomość kobiecej wspólnoty\, bycia w połączeniu z innymi kobietami oraz tą\, która jest źródłem naszej naturalnej mocy – Matki Ziemi. \nFormuła i zasady\nNasz krąg nazywamy kręgiem półotwartym\, czyli takim\, do którego mogą dołączać nowe kobiety w dowolnym momencie. Zasadą jest także pełna dobrowolność i podążanie za czuciem potrzeby z serca\, bez przymusu\, tam i wtedy\, gdy czujesz\, że to Twoje miejsce i czas lub gdy właśnie chcesz coś dać. Wszystkie jesteśmy równe\, widzimy się\, słyszymy\, przyjmujemy takimi jakie jesteśmy\, bez oceniania\, z akceptacją różnorodności. Naszym zadaniem jako zwołujących krąg nie jest bycie liderką\, otwieramy krąg\, trzymamy przestrzeń\, zapraszamy intencje\, a w trakcie przypominamy o obowiązujących zasadach. \nPodstawową zasadą\, której uczymy się i jednocześnie przestrzegamy w całym cyklu jest bycie w kręgu bez maski. Zdejmując zbroję i wyzbywając się chęci zrobienia na drugiej kobiecie dobrego wrażenia otwieramy się na dzielenie się sobą\, zamiast udawać uczymy się wyrażać swoje potrzeby i prosić inne kobiety o wsparcie. Nasze spotkania pozostają przestrzenią\, w której możemy być ze swoim bólem\, niepewnością\, czy radością zawsze licząc na pełną dyskrecję innych kobiet. Wszystko co w kręgu się dzieje\, w kręgu zostaje. \nJak się zapisać?\n\nZapisz się przez formularz: ZAREJESTRUJ SIĘ \nNastępnie potwierdź swoją rezerwację wpłatą.\n\n…a jeśli coś nie działa napisz na mail: sylwia@centrumholi.pl \nWymiana energetyczna:45 zł / spotkanieZe względu na dużą ilość rezygnacji i utrudnioną logistykę organizacyjną od nowego roku prosimy o wpłaty w celu potwierdzenia swojej rezerwacji:25 1140 2017 0000 4102 1282 4910CoreElementstytuł: krąg kobietAnulowanie rezerwacji możliwe jest do środy przed spotkaniem / 72 h przed spotkaniem. \nRaz w miesiącu\, w piątkowe wieczory\, będziemy spotykać się\, by tworzyć i wzmacniać nasz kobiecy potencjał. Jeśli okaże się\, że jest taka potrzeba i potencjał w naszej kobiecej grupie\, dołożymy drugie spotkanie. \nCo zabrać?\n\nkobiecy wygodny strój – najlepiej by była to sukienka\, długa spódnica; nie jest to konieczne\, ale chcemy inicjować kobiecość na różne sposoby; możesz też zabrać chustę\, czy ubrać kolczyki na specjalne okazje 😉\njeśli masz ochotę\, możesz przynieść jakąś przekąskę\, jak owoce\, orzechy\, kawałek ciasta itp.  \njeśli masz możesz zabrać jakiś instrument \njeśli masz możesz zabrać białą świecę 😉  \n\nProwadzące:\nDwie kobiety\, które połączyła niezwykła historia. I które pomiędzy sobą doświadczyły każdego aspektu kobiecej relacji\,od wojny do pokoju\, od nieufności po siostrzana miłość. \nSylwia RoMa Jestem certyfikowanym nauczycielem mindfulness\, dyplomowanym nauczycielem jogi w systemie hatha-yogi metodą BKS Iyengara o stopniu Introductory II. Posiadam także certyfikat Erickson International Coach oraz trenera biznesu Matrik\, Jestem Członkiem Zarządu Fundacji Polski Instytut Mindfulness\, odpowiadam za kształcenie przyszłych nauczycieli MBSR. Prowadzę treningi dla firm\, koordynuję kształcenie podyplomowe i wykładam na Uniwersytecie Łódzkim. Jogę i medytację praktykuję od 19 lat\, odnajdując w niej wciąż coś nowego na kolejnych etapach swojego życia. W praktyce najważniejsza jest dla mnie uważność i akceptacja siebie. W moim nauczaniu pragnę przekazać holistyczne rozumienie połączenia ciała\, emocji\, duszy i umysłu. Prowadzenie Kręgów marzyło mi się od zawsze. Jednak dopiero niedawno poznałam moją Siostrę Duchową\, z którą dzielimy ten potencjał. Odnalazłam także swoje Plemię i poczułam moc płynącą z energii bycia blisko i prawdziwie wśród Kobiet. Teraz tymi zasobami pragnę dzielić się dalej. \nJoanna Rati Sajko Jestem certyfikowaną psychoterapeutką\, ukończyłam 4 letnią szkołę terapii skoncentrowanej na ciele w nurcie Core Energetics. Swoją przygodę w tym zakresie zaczęłam ponad 10 lat temu od ustawień systemowych (certyfikat Taunus-Institut für Stilles Familienstellen) i technik pracy z ciałem TRE\, uzyskując certyfikat T RE Provider. Po drodze poznawałam coraz więcej metod pracy\, taniec ekstatyczny i intuicyjny\, różne formy medytacji w tym różnorodne medytacje Osho\, masaż żywiołów i masaż tantryczny\, techniki pracy z oddechem. Przez wiele lat specjalizowałam się w pracy nad relacjami męsko-damskimi jako psycholog i coach (Mars-Venus Coaching\, US)\, a od kilku lat intensywnie zgłębiam tantryczne metody pracy z drugim człowiekiem a przede wszystkim w relacji ze sobą. Budzę moc poprzez ruch\, taniec\, ekspresję i siły przyrody z nurcie Żywiołów Serca (CorElements). Spotkanie mojej Duchowej Siostry pokazało mi nowy wymiar kobiecej relacji\, którym teraz wraz z Nią chciałabym się dzielić.
URL:https://centrumholi.pl/event/krag-kobiet-w-holi-krakow-2/
LOCATION:HOLI Body&Mind Center\, Siewna 30b\, Kraków\, małopolskie\, 31-326\, Poland
CATEGORIES:Event,Rozwój Osobisty
ATTACH;FMTTYPE=image/png:https://centrumholi.pl/wp-content/uploads/2021/12/3-e1638897406422.png
END:VEVENT
BEGIN:VEVENT
DTSTART;TZID=Europe/Warsaw:20170308T174500
DTEND;TZID=Europe/Warsaw:20170308T190000
DTSTAMP:20260419T160252
CREATED:20170227T233602Z
LAST-MODIFIED:20170227T233602Z
UID:850-1488995100-1488999600@centrumholi.pl
SUMMARY:Dzień Kobiet w HOLI
DESCRIPTION:Drogie Panie\, zapraszamy 8 marca\, z okazji Dnia Kobiet?tego dnia:\n?wszystkie Panie nie posiadające karnetów mogą wejść na zajęcia za symboliczne 5 zł!\n?na zajęciach „Joga na stres” w godz. 17:45 – 19:00 odbędzie się dedykowana dla kobiet sesja jogi \nCzekamy na Was! \nZabierz ze sobą Przyjaciółkę\, Siostrę\, Mamę\, Znajomą z pracy i zacznijcie razem praktykę – w naszym centrum specjalna oferta dla kupujących karnety w parach! 🙂 \nZacznijmy Razem! JOGA W PARZE  \n 
URL:https://centrumholi.pl/event/dzien-kobiet-w-holi/
LOCATION:małopolskie
CATEGORIES:Event,Joga
ATTACH;FMTTYPE=:
END:VEVENT
END:VCALENDAR