BEGIN:VCALENDAR
VERSION:2.0
PRODID:-//Mindfulness LAB — Sylwia RoMa — HOLI Body&amp;Mind - ECPv6.15.14//NONSGML v1.0//EN
CALSCALE:GREGORIAN
METHOD:PUBLISH
X-WR-CALNAME:Mindfulness LAB — Sylwia RoMa — HOLI Body&amp;Mind
X-ORIGINAL-URL:https://centrumholi.pl
X-WR-CALDESC:Wydarzenia dla Mindfulness LAB — Sylwia RoMa — HOLI Body&amp;Mind
REFRESH-INTERVAL;VALUE=DURATION:PT1H
X-Robots-Tag:noindex
X-PUBLISHED-TTL:PT1H
BEGIN:VTIMEZONE
TZID:Europe/Warsaw
BEGIN:DAYLIGHT
TZOFFSETFROM:+0100
TZOFFSETTO:+0200
TZNAME:CEST
DTSTART:20160327T010000
END:DAYLIGHT
BEGIN:STANDARD
TZOFFSETFROM:+0200
TZOFFSETTO:+0100
TZNAME:CET
DTSTART:20161030T010000
END:STANDARD
BEGIN:DAYLIGHT
TZOFFSETFROM:+0100
TZOFFSETTO:+0200
TZNAME:CEST
DTSTART:20170326T010000
END:DAYLIGHT
BEGIN:STANDARD
TZOFFSETFROM:+0200
TZOFFSETTO:+0100
TZNAME:CET
DTSTART:20171029T010000
END:STANDARD
BEGIN:DAYLIGHT
TZOFFSETFROM:+0100
TZOFFSETTO:+0200
TZNAME:CEST
DTSTART:20180325T010000
END:DAYLIGHT
BEGIN:STANDARD
TZOFFSETFROM:+0200
TZOFFSETTO:+0100
TZNAME:CET
DTSTART:20181028T010000
END:STANDARD
END:VTIMEZONE
BEGIN:VEVENT
DTSTART;TZID=Europe/Warsaw:20170825T173000
DTEND;TZID=Europe/Warsaw:20170825T193000
DTSTAMP:20260419T224501
CREATED:20170707T232534Z
LAST-MODIFIED:20170707T232534Z
UID:1005-1503682200-1503689400@centrumholi.pl
SUMMARY:BeMindful Club™ :: Wypalenie zawodowe ::
DESCRIPTION:Wypalenie zawodowe\, wypalenie energetyczne – czym są? czy mają coś wspólnego?\nNa ile nasza odporność psychiczna na wpływ na ryzyko wypalenia?\n\n\nTym razem podejmiemy się tematu\, który dotyka wielu z nas. Podczas spotkania będziemy rozmawiać o różnych aspektach wypalenia i możliwości przeciwdziałania.\nPoszukamy źródeł regeneracji emocjonalnej i wykorzystania w tym zakresie mindfulness.\n\n \n\n\nZapraszamy do wspólnych eksperymentów.\n\n\n————————————————–\n\n\n\nNaszym celem jest propagowanie idei mindfulness – nie w formie tymczasowej mody\, trendu na runku\, ale jako styl życia i świadomy wybór przytomnej obecności każdego dnia.\n\n\n \n\n\nJako pierwsza w Łodzi organizacja zajmująca się profesjonalnie tematyką mindfulness pragniemy propagować tą metodę \, podkreślając jej naukowe korzenie i wskazując wachlarz możliwości praktycznego zastosowania.\n\n\n \n\n\nMindfulness to nie tylko redukcja stresu. Uważność może mieć zastosowanie w każdym aspekcie życia: pracy\, komunikacji\, relacjach\, rodzicielstwie\, edukacji\, jedzeniu\, zdrowieniu.\n\n\n \n\n\nPodczas klubowych spotkań w naszym centrum będziemy pokazywać różne zastosowania uwazności i jednocześnie doświadczać praktyki na sobie.\n\n\n \n\n\nTworząc nasze programy edukacyjne na stałe współpracujemy z Uniwersytetem Łódzkim i Pracownią Rozwoju Kompetencji UŁ.\n\n\n \n\n\nJesteśmy także na liście certyfikowanych nauczycieli mindfulness w Polsce\, co się z tym wiąże gwarantujemy standardy i jakość tej metody (http://www.polski-instytut-mindfulness.pl/nauczyciele/lista-nauczycieli/sylwia-rogala-marciniak)\n\n\n \n\n\nZapraszamy serdecznie!\n\n\n\nORGANIZACJA\n\n\n• Zapisz się: klub@centrumholi.pl\n\n\n• Potwierdź swoją rezerwację uiszczając opłatę organizacyjną w wysokości 10 zł przelewem na konto:\n\n\n31 1050 1461 1000 0091 1144 8958 \n\n\n• Zdecyduj się w ostatniej chwili i zapłać na miejscu 20 zł.\n\n\n \n\n\nZapraszamy!
URL:https://centrumholi.pl/event/bemindful-club-wypalenie-zawodowe/
CATEGORIES:Mindfulness,Rozwój Osobisty
ATTACH;FMTTYPE=:
END:VEVENT
BEGIN:VEVENT
DTSTART;TZID=Europe/Warsaw:20170407T170000
DTEND;TZID=Europe/Warsaw:20170407T190000
DTSTAMP:20260419T224501
CREATED:20170309T131214Z
LAST-MODIFIED:20170309T131214Z
UID:874-1491584400-1491591600@centrumholi.pl
SUMMARY:BeMindful Club :: WEWNĘTRZNY KRYTYK ::
DESCRIPTION:Gniew\, złość\, potrzeba kontroli\, brak poczucia własnej wartości\, obsesje czy przesadne troski i „przejmowanie się” – bardzo często są manifestacją własnego lęku. Ten lęk ujawnia się w postaci głosów naszych Gremlinów\, które często tworzą wewnętrzne bariery i utrudniają życie. \nKim są owe gremliny? Są wytworami naszego umysłu\, ale tak realistycznymi\, że wierzymy w nie i pielęgnujemy je każdego dnia. W efekcie scalają się z nasza tożsamością\, a wtedy zaczynamy mówić „ja nie potrafię”\, „ja nie mogę”\,  „ja nigdy bym…” \nPodczas spotkania klubu poruszymy temat Wewnętrznego Krytyka. W atmosferze życzliwości będziemy się przyglądać naszym Gremlinom\,  a być może zrozumiemy i uczynimy swoimi Sprzymierzeńcami. \n\nZapraszamy do wspólnych eksperymentów.\n————————————————–\n\nNaszym celem jest propagowanie idei mindfulness – nie w formie tymczasowej mody\, trendu na runku\, ale jako styl życia i świadomy wybór przytomnej obecności każdego dnia. \nJako pierwsza w Łodzi organizacja zajmująca się profesjonalnie tematyką mindfulness pragniemy propagować tą metodę \, podkreślając jej naukowe korzenie i wskazując wachlarz możliwości praktycznego zastosowania. \nMindfulness to nie tylko redukcja stresu. Uważność może mieć zastosowanie w każdym aspekcie życia: pracy\, komunikacji\, relacjach\, rodzicielstwie\, edukacji\, jedzeniu\, zdrowieniu. \nPodczas klubowych spotkań w naszym centrum będziemy pokazywać różne zastosowania uwazności i jednocześnie doświadczać praktyki na sobie. \nTworząc nasze programy edukacyjne na stałe współpracujemy z Uniwersytetem Łódzkim i Pracownią Rozwoju Kompetencji UŁ. \nJesteśmy także na liście certyfikowanych nauczycieli mindfulness w Polsce\, co się z tym wiąże gwarantujemy standardy i jakość tej metody (http://www.polski-instytut-mindfulness.pl/nauczyciele/lista-nauczycieli/sylwia-rogala-marciniak) \nZapraszamy serdecznie! \nW celu zapewnienia właściwej organizacji od kwietnia spotkania będą składkowe. Przyjdź\, zabierz wygodne ubranie\, zrelaksuj się we wspólnej praktyce i dzieleniu się w grupie\, zapłać tyle\, ile to możliwe da Ciebie.\nWarunkiem rejestracji jest potwierdzenie swojej obecności na dzień przed wydarzeniem. \nZapisy: klub@centrumholi.pl
URL:https://centrumholi.pl/event/bemindful-club-wewnetrzny-krytyk/
CATEGORIES:Mindfulness,Rozwój Osobisty
ATTACH;FMTTYPE=:
END:VEVENT
BEGIN:VEVENT
DTSTART;TZID=Europe/Warsaw:20170303T173000
DTEND;TZID=Europe/Warsaw:20170303T193000
DTSTAMP:20260419T224501
CREATED:20170214T105849Z
LAST-MODIFIED:20170214T105849Z
UID:822-1488562200-1488569400@centrumholi.pl
SUMMARY:BeMindful Club :: UMYSŁ WOLNY OD STRESU ::
DESCRIPTION:Stres jest zjawiskiem  wszechobecnym w dzisiejszych czasach. Stresujemy się w pracy\, a w szkole stresują się dzieci. Stresują nas relacje z ludźmi\, niespodziewane sytuacje\, korki\, kredyty\, rachunki\, wymagania\, oczekiwania\, czas\, polityka\, bieda\, bogactwo\, zdrowie. Stresują też nasze własne myśli.\nMożliwość rozładowywania stresu jest więc niezbędną umiejeenścią\, której często nam brakuje. Podczas tego spotkania klubu BeMindful będziemy szukać łatwych i prostych sposobów na rozładowywania napięcia w ciele i odpuszczanie myśli.\nZapraszamy do wspólnych eksperymentów.\n\nNaszym celem jest propagowanie idei mindfulness – nie w formie tymczasowej mody\, trendu na runku\, ale jako styl życia i świadomy wybór przytomnej obecności każdego dnia. \nJako pierwsza w Łodzi organizacja zajmująca się profesjonalnie tematyką mindfulness pragniemy propagować tą metodę \, podkreślając jej naukowe korzenie i wskazując wachlarz możliwości praktycznego zastosowania. \nMindfulness to nie tylko redukcja stresu. Uważność może mieć zastosowanie w każdym aspekcie życia: pracy\, komunikacji\, relacjach\, rodzicielstwie\, edukacji\, jedzeniu\, zdrowieniu. \nPodczas klubowych spotkań w naszym centrum będziemy pokazywać różne zastosowania uwazności i jednocześnie doświadczać praktyki na sobie. \nTworząc nasze programy edukacyjne na stałe współpracujemy z Uniwersytetem Łódzkim i Pracownią Rozwoju Kompetencji UŁ. \nJesteśmy także na liście certyfikowanych nauczycieli mindfulness w Polsce\, co się z tym wiąże gwarantujemy standardy i jakość tej metody. \nZapraszamy serdecznie! \nSpotkania są darmowe. Warunkiem rejestracji jest potwierdzenie swojej obecności na dzień przed wydarzeniem. \nZapisy: klub@centrumholi.pl
URL:https://centrumholi.pl/event/bemindful-club-umysl-wolny-od-stresu/
CATEGORIES:Mindfulness
ATTACH;FMTTYPE=:
END:VEVENT
END:VCALENDAR