BEGIN:VCALENDAR
VERSION:2.0
PRODID:-//Mindfulness LAB — Sylwia RoMa — HOLI Body&amp;Mind - ECPv6.15.14//NONSGML v1.0//EN
CALSCALE:GREGORIAN
METHOD:PUBLISH
X-ORIGINAL-URL:https://centrumholi.pl
X-WR-CALDESC:Wydarzenia dla Mindfulness LAB — Sylwia RoMa — HOLI Body&amp;Mind
REFRESH-INTERVAL;VALUE=DURATION:PT1H
X-Robots-Tag:noindex
X-PUBLISHED-TTL:PT1H
BEGIN:VTIMEZONE
TZID:UTC
BEGIN:STANDARD
TZOFFSETFROM:+0000
TZOFFSETTO:+0000
TZNAME:UTC
DTSTART:20210101T000000
END:STANDARD
END:VTIMEZONE
BEGIN:VTIMEZONE
TZID:Europe/Warsaw
BEGIN:DAYLIGHT
TZOFFSETFROM:+0100
TZOFFSETTO:+0200
TZNAME:CEST
DTSTART:20160327T010000
END:DAYLIGHT
BEGIN:STANDARD
TZOFFSETFROM:+0200
TZOFFSETTO:+0100
TZNAME:CET
DTSTART:20161030T010000
END:STANDARD
BEGIN:DAYLIGHT
TZOFFSETFROM:+0100
TZOFFSETTO:+0200
TZNAME:CEST
DTSTART:20170326T010000
END:DAYLIGHT
BEGIN:STANDARD
TZOFFSETFROM:+0200
TZOFFSETTO:+0100
TZNAME:CET
DTSTART:20171029T010000
END:STANDARD
BEGIN:DAYLIGHT
TZOFFSETFROM:+0100
TZOFFSETTO:+0200
TZNAME:CEST
DTSTART:20180325T010000
END:DAYLIGHT
BEGIN:STANDARD
TZOFFSETFROM:+0200
TZOFFSETTO:+0100
TZNAME:CET
DTSTART:20181028T010000
END:STANDARD
END:VTIMEZONE
BEGIN:VEVENT
DTSTART;TZID=UTC:20221002T173000
DTEND;TZID=UTC:20221002T193000
DTSTAMP:20260419T223324
CREATED:20220918T125837Z
LAST-MODIFIED:20220918T130711Z
UID:5849-1664731800-1664739000@centrumholi.pl
SUMMARY:Mindful Tea - niedzielne popołudnie z uważnością
DESCRIPTION:Medytacji się nie próbuje\, tak jak nie próbuje się oddychania.\nMedytacja nie jest pomysłem na chwilę – tak stosowaną możemy nazwać relaksacją\, technika wyciszania\, sposobem na relaks. \nMedytacja jest o czymś innym. To spotkanie ze sobą w prawdzie\, procesem odkrywania siebie samego\, nawiązywania komunikacji z własną duszą i ciałem. \n \nTak oto zaczynam nowy sezon edukacyjny\, przychodząc z nową jakością. Każde trudne doświadczenie\, każdy kiepski etap życia jest lekcją\, którą daje nam los\, abyśmy mogli wejść na wyższy poziom. \n \nCzy my chcemy tam iść? Nie\, niekoniecznie. Przecież było wygodnie\, a każda zmiana będzie wymagająca. Jednak\, kiedy już wejdziemy na szczy i rozglądniemy się dookoła\, mówimy: „warto było”.\n \nZastanawiasz się czy kurs uważności jest czymś dla Ciebie?\nA może chcesz dowiedzieć się więcej o mindfulness zanim podejmiesz decyzję?\nZapraszam Cię na herbatę\, przy której porozmawiamy o stresie\, uważności\, emocjach\, ciele\, myślach\, gonitwie i zatrzymaniu… o Tobie i o mnie i oczym chcesz.\n \nBędzie też okazja do wspólnej praktyki\, oczywiście.\nMindfulness pozwala zwolnić\, lecz to nie znaczy że w życiu robi się nudno. Wręcz przeciwnie. Dopiero wtedy jesteśmy w stanie dostrzec wielobarwność każdej chwili\, być w pełnym znaczeniu frazy „tu i teraz”. Co ciekawe\, kiedy przestajemy za czymś gonić\, kiedy „odpuszczamy” – to rozwiązanie samo przychodzi. Uważność to możliwość bycia opanowanym\, spokojnym i stabilnym wewnętrznie – zarówno w pracy\, w roli zawodowej jak i w życiu prywatnym\, w roli partnera czy rodzica. Stan uważności w umyśle można porównać do istnienia jeziora – nawet jeśli pogoda jest zmienna\, pada deszcz\, czy wieje wiatr – to jedynie dotyka tafli wody. Pod spodem panuje cisza i niczym nieporuszone życie toczy się swoim tempem\, w spokoju… W naszym życiu też spotykają nas różne „warunki atmosferyczne” \,a bycie uważnym pozwala zachować ten stan wewnętrznego spokoju. Jezioro się nie napina\, nie krzyczy\, po prostu jest. \nOrganizacyjnie\nSpotkanie jest całkowicie darmowe\, będzie okazją do poznania uważności i poznania siebie. \nJeśli chcesz\, możesz przynieść kawałek ciasta\, czy owoc. \nNa spotkanie obowiązuje REJESTRACJA. \nBędę wdzięczna jeśli dasz znać\, jeśli coś się zmieni i nie będziesz mogł/mogła być obecny/a.  
URL:https://centrumholi.pl/event/mindful-tea-niedzielne-popoludnie-z-uwaznoscia/
LOCATION:HOLI Body&Mind Center\, Siewna 30b\, Kraków\, małopolskie\, 31-326\, Poland
CATEGORIES:Compassion,Event,Mindfulness
ATTACH;FMTTYPE=image/png:https://centrumholi.pl/wp-content/uploads/2022/09/4.png
END:VEVENT
BEGIN:VEVENT
DTSTART;TZID=Europe/Warsaw:20170704T180000
DTEND;TZID=Europe/Warsaw:20170704T200000
DTSTAMP:20260419T223324
CREATED:20170427T100952Z
LAST-MODIFIED:20170427T100952Z
UID:927-1499191200-1499198400@centrumholi.pl
SUMMARY:BeMindful Club™ :: Emocje w ciele ::
DESCRIPTION:W naszych ciałach zapisane są doświadczena całego życia i emocje z tym związane. Niektóre z nich akceptujemy\, inne wypieramy. Czasami też lekceważymy\, nie zwracając uwagi na sygnały płynące z ciała i informujące nas o potrzebach.\n\n\n \n\n\nPodczas spotkania klubu spotkamy się ze swoimi emocjami\, poznając ich skalę i energię. Będzie też przestrzeń do wspólnej praktyki mindfulness w temacie pracy z emocjami.\n\n\n \n\n\nZapraszamy do wspólnych eksperymentów.\n\n\n————————————————–\n\n\n\nNaszym celem jest propagowanie idei mindfulness – nie w formie tymczasowej mody\, trendu na runku\, ale jako styl życia i świadomy wybór przytomnej obecności każdego dnia.\n\n\n \n\n\nJako pierwsza w Łodzi organizacja zajmująca się profesjonalnie tematyką mindfulness pragniemy propagować tą metodę \, podkreślając jej naukowe korzenie i wskazując wachlarz możliwości praktycznego zastosowania.\n\n\n \n\n\nMindfulness to nie tylko redukcja stresu. Uważność może mieć zastosowanie w każdym aspekcie życia: pracy\, komunikacji\, relacjach\, rodzicielstwie\, edukacji\, jedzeniu\, zdrowieniu.\n\n\n \n\n\nPodczas klubowych spotkań w naszym centrum będziemy pokazywać różne zastosowania uwazności i jednocześnie doświadczać praktyki na sobie.\n\n\n \n\n\nTworząc nasze programy edukacyjne na stałe współpracujemy z Uniwersytetem Łódzkim i Pracownią Rozwoju Kompetencji UŁ.\n\n\n \n\n\nJesteśmy także na liście certyfikowanych nauczycieli mindfulness w Polsce\, co się z tym wiąże gwarantujemy standardy i jakość tej metody (http://www.polski-instytut-mindfulness.pl/nauczyciele/lista-nauczycieli/sylwia-rogala-marciniak)\n\n\n \n\n\nZapraszamy serdecznie!\n\n\n\nORGANIZACJA\n\n\n• Zapisz się: klub@centrumholi.pl\n\n\n• Potwierdź swoją rezerwację uiszczając opłatę organizacyjną w wysokości 10 zł przelewem na konto:\n\n\n31 1050 1461 1000 0091 1144 8958 \n\n\n• Zdecyduj się w ostatniej chwili i zapłać na miejscu 20 zł.\n\n\n \n\n\nZapraszamy!
URL:https://centrumholi.pl/event/bemindful-club-emocje-w-ciele/
LOCATION:małopolskie
CATEGORIES:Mindfulness,Rozwój Osobisty
ATTACH;FMTTYPE=:
END:VEVENT
END:VCALENDAR