BEGIN:VCALENDAR
VERSION:2.0
PRODID:-//Mindfulness LAB — Sylwia RoMa — HOLI Body&amp;Mind - ECPv6.15.14//NONSGML v1.0//EN
CALSCALE:GREGORIAN
METHOD:PUBLISH
X-WR-CALNAME:Mindfulness LAB — Sylwia RoMa — HOLI Body&amp;Mind
X-ORIGINAL-URL:https://centrumholi.pl
X-WR-CALDESC:Wydarzenia dla Mindfulness LAB — Sylwia RoMa — HOLI Body&amp;Mind
REFRESH-INTERVAL;VALUE=DURATION:PT1H
X-Robots-Tag:noindex
X-PUBLISHED-TTL:PT1H
BEGIN:VTIMEZONE
TZID:Europe/Warsaw
BEGIN:DAYLIGHT
TZOFFSETFROM:+0100
TZOFFSETTO:+0200
TZNAME:CEST
DTSTART:20190331T010000
END:DAYLIGHT
BEGIN:STANDARD
TZOFFSETFROM:+0200
TZOFFSETTO:+0100
TZNAME:CET
DTSTART:20191027T010000
END:STANDARD
BEGIN:DAYLIGHT
TZOFFSETFROM:+0100
TZOFFSETTO:+0200
TZNAME:CEST
DTSTART:20200329T010000
END:DAYLIGHT
BEGIN:STANDARD
TZOFFSETFROM:+0200
TZOFFSETTO:+0100
TZNAME:CET
DTSTART:20201025T010000
END:STANDARD
BEGIN:DAYLIGHT
TZOFFSETFROM:+0100
TZOFFSETTO:+0200
TZNAME:CEST
DTSTART:20210328T010000
END:DAYLIGHT
BEGIN:STANDARD
TZOFFSETFROM:+0200
TZOFFSETTO:+0100
TZNAME:CET
DTSTART:20211031T010000
END:STANDARD
END:VTIMEZONE
BEGIN:VEVENT
DTSTART;TZID=Europe/Warsaw:20201031T190000
DTEND;TZID=Europe/Warsaw:20201031T210000
DTSTAMP:20260419T142556
CREATED:20201012T222407Z
LAST-MODIFIED:20201012T222407Z
UID:2539-1604170800-1604178000@centrumholi.pl
SUMMARY:Cacao Dance Ceremony
DESCRIPTION:31.10.2020 zapraszamy Was na specjalne wydarzenie. \nKakao spożywane było w formie ceremonialnej już tysiące lat temu w Ameryce Środkowej\, a przez rdzenną ludność uważane jest za „nauczyciela z lasu deszczowego”. W tradycji Majów i Azteków\, kakao uważane było za „pokarmem bogów”. \nCeremonia to podróż\, w której odżywiamy nasze zmysły aromatem kakao\, budzi nasze emocje ciepłem tego napoju i uzdrawiamy naszego ducha poprzez moc świętej rośliny. Każdy przeżywa doświadczenie z ceremonialnym kakao na swój sposób. Może to być okazja do odprężenia\, odstresowania i zwolnienia w pędzie życia\, albo do przyśpieszenia i wyjścia z marazmu codzienności. Doznania na ceremonii mogą odbudowywać nasze relacje z innymi i otwierać na kontakt albo być indywidualną podróżą w głąb siebie\, inicjując wewnętrze wglądy i transformację. Niezależnie od rodzaju i intensywności emocji\, od euforii\, poprzez błogość aż po ekspresję gniewu\, ta podróż odbywa się w swobodzie\, z szacunkiem dla siebie i innych\, i zawsze prowadzi do przyjemności. \nW przestrzeni ceremonii: \n🌕 oczyszczamy energię kadzidłami \n🌕  dzielimy się intencjami \n🌕  medytujemy \n🌕  tańczymy ekspresyjnie i intuicyjnie w rytmie Żywiołów Serca. Prowadzeni przez energię czterech podstawowych żywiołów nabieramy lekkości i obecności Powietrza\, uczymy się wyrażania siebie w Ogniu\, gruntujemy się i znajdujemy równowagę w Ziemi i odnajdujemy w sobie i w życiu przepływ Wody\, odkrywając mistyczną drogę do piątego żywiołu\, Eteru\, integrując w sobie miłość do siebie\, do innych i do świata. \n  \nZapraszamy do tego doświadczenia\, jeśli: \n🌕  poszukujesz resetu\, relaksu lub doenergetyzowania \n🌕  potrzebujesz czasu tylko dla siebie wśród innych lub chcesz budować relacje międzyludzkie bezpiecznie i w otwartości serca \n🌕  potrzebujesz nabrać klarowności\, sprawdzić swoje życiowe priorytety i przypomnieć sobie kim jesteś \n🌕  chcesz poruszyć ciałem\, w rytmie\, wibracji\, z energią i świadomością\, tańcząc\, bawiąc się i przemieszczając w przestrzeni serca \n🌕  chcesz zaprosić do swojego życia moc Żywiołów i dzięki nim pożegnać to co Ci nie służy i zaprosić do życia to czego pragniesz \n  \nZapisy: klub@centrumholi.pl \nNapisz do nas a dowiesz się szczegółowych informacji.
URL:https://centrumholi.pl/event/cacao-dance-ceremony/
CATEGORIES:Event,Rozwój Osobisty
ATTACH;FMTTYPE=image/png:https://centrumholi.pl/wp-content/uploads/2020/10/jesien-grafiki.png
END:VEVENT
END:VCALENDAR