BEGIN:VCALENDAR
VERSION:2.0
PRODID:-//Mindfulness LAB — Sylwia RoMa — HOLI Body&amp;Mind - ECPv6.15.14//NONSGML v1.0//EN
CALSCALE:GREGORIAN
METHOD:PUBLISH
X-WR-CALNAME:Mindfulness LAB — Sylwia RoMa — HOLI Body&amp;Mind
X-ORIGINAL-URL:https://centrumholi.pl
X-WR-CALDESC:Wydarzenia dla Mindfulness LAB — Sylwia RoMa — HOLI Body&amp;Mind
REFRESH-INTERVAL;VALUE=DURATION:PT1H
X-Robots-Tag:noindex
X-PUBLISHED-TTL:PT1H
BEGIN:VTIMEZONE
TZID:Europe/Warsaw
BEGIN:DAYLIGHT
TZOFFSETFROM:+0100
TZOFFSETTO:+0200
TZNAME:CEST
DTSTART:20150329T010000
END:DAYLIGHT
BEGIN:STANDARD
TZOFFSETFROM:+0200
TZOFFSETTO:+0100
TZNAME:CET
DTSTART:20151025T010000
END:STANDARD
BEGIN:DAYLIGHT
TZOFFSETFROM:+0100
TZOFFSETTO:+0200
TZNAME:CEST
DTSTART:20160327T010000
END:DAYLIGHT
BEGIN:STANDARD
TZOFFSETFROM:+0200
TZOFFSETTO:+0100
TZNAME:CET
DTSTART:20161030T010000
END:STANDARD
BEGIN:DAYLIGHT
TZOFFSETFROM:+0100
TZOFFSETTO:+0200
TZNAME:CEST
DTSTART:20170326T010000
END:DAYLIGHT
BEGIN:STANDARD
TZOFFSETFROM:+0200
TZOFFSETTO:+0100
TZNAME:CET
DTSTART:20171029T010000
END:STANDARD
BEGIN:DAYLIGHT
TZOFFSETFROM:+0100
TZOFFSETTO:+0200
TZNAME:CEST
DTSTART:20180325T010000
END:DAYLIGHT
BEGIN:STANDARD
TZOFFSETFROM:+0200
TZOFFSETTO:+0100
TZNAME:CET
DTSTART:20181028T010000
END:STANDARD
END:VTIMEZONE
BEGIN:VEVENT
DTSTART;TZID=Europe/Warsaw:20170430T000000
DTEND;TZID=Europe/Warsaw:20170430T235959
DTSTAMP:20260420T013856
CREATED:20170118T112611Z
LAST-MODIFIED:20170118T112611Z
UID:792-1493510400-1493596799@centrumholi.pl
SUMMARY:Zacznijmy Razem! JOGA W PARZE
DESCRIPTION:Zdajemy sobie sprawę\, że najtrudniejsze jest wejście na matę. Jednocześnie\, gdy to już zrobimy\, odkrywamy wieloaspektowość tego doświadczenia. Czasami jednak ograniczają nas przekonania – że to za trudne\, że nie będziemy się dobrze czuć w praktykującej już grupie\, że z kimś znajomym byłoby prościej…\nDlatego przygotowaliśmy dla Was specjalną ofertę cenową – a w niej specjalne ceny wejść w parach. Zabierz przyjaciółkę\, chłopaka\, mamę\, wujka…. Zacznijcie razem i skorzystajcie z naszej propozycji! \nJOGA jest najstarszym na świecie systemem samodzielnego rozwijania jednostki\, który pozwala na osiągniecie stanu równowagi umysłu dzięki ćwiczeniom fizycznym\, umysłowym i duchowym. Joga daje zdrowie i długowieczność poprzez ćwiczenie asan (pozycji jogi)\, które wyrabiają giętkość rdzenia kręgowego (fundament życia)\, uspokajają nadmiernie podrażnione nerwy\, rozluźniają mięśnie\, odżywiają narządy i ich ośrodki nerwowe. \nCiało\, umysł\, emocje stanowią nierozerwalną całość\, wzajemnie na siebie wpływają. Odkrywając zakodowane w ciele nieświadome wzorce w postaci sztywności mięśni i stawów lub ich nadmiernej słabości\, nieprawidłowej postawy\, zablokowanego oddechu\, docieramy do źródeł naszych życiowych postaw. Dzięki ćwiczeniom mamy szansę ich przekształcenia. \nC E N N I K W E J Ś Ć W P A R Z E\n– cena za wejście pojedyncze:\njoga\, body balance\, inne formy pracy z ciałem 40 zł / para\nstudenci\, seniorzy 30 zł / para \nK A R N E T Y R E G U L A R N E\n– karnet w parze (cena za dwa karnety):\n4 wejścia 160 zł\n5 wejść 190 zł\n6 wejść 216 zł\n7 wejść 238 zł\n8 wejść 256 zł \n–  jeden karnet dla dwóch osób:\n12 wejść 220 zł \nZapraszamy! Promocja trwa do końca lutego! \nZapisy i informacje: klub@centrumholi.pl
URL:https://centrumholi.pl/event/zacznijmy-razem-joga-w-parze/
CATEGORIES:Joga
ATTACH;FMTTYPE=:
END:VEVENT
BEGIN:VEVENT
DTSTART;TZID=Europe/Warsaw:20170321T110000
DTEND;TZID=Europe/Warsaw:20170321T120000
DTSTAMP:20260420T013856
CREATED:20161128T132710Z
LAST-MODIFIED:20161128T132710Z
UID:728-1490094000-1490097600@centrumholi.pl
SUMMARY:JOGA DLA MAM
DESCRIPTION:Masz małe dziecko? Chciałabyś chodzić na zajęcia\, ale nie masz jak? Zapraszamy serdecznie – nasza sala jest otwarta na maluchy w każdym wieku. Zajęcia przeznaczone są dla mam\, ale dzieci mogą swobodnie przebywać na sali\, ćwiczyć z mamą\, albo patrzeć\, a czasem poprzeszkadzać by trenować cierpliwość mamusi. Bez stresu\, bez uspokajania – ćwiczymy\, bawimy się\, włączamy dzieci w praktykę\, albo po prostu pozwalamy im być. \nNa tych zajęciach:\n– regularna praktyka ukierunkowana na zrównoważony rozwój i uelastycznianie ciała\n– elementy treningu mięśni dna miednicy\n– otwarta przestrzeń dla praktyki z dziećmi. \nDla kogo:\n– dla wszystkich mam zainteresowanych wzmocnieniem swojego ciała; grupa początkująca/ogólna – zawsze możesz dołączyć do zajęć\, mile widziane dzieci w każdym wieku. \nEfekty regularnej praktyki:\n– ogólne wzmocnienie mięśni i całego ciała\, zmiana postawy\n– uelastycznienie skóry\n– wzmocnienie mięśni brzucha\n– lepsze samopoczucie psychiczne\, wewnętrzna równowaga i spokój\n– odnajdywanie balansu. \nORGANIZACJA:\n\nPojedyncze wejście: 30 zł/zajęcia (mama z dzieckiem/2 dzieci)\nZaczynamy 21.03\, zapisy przyjmujemy do 20.03\ngodz. 11:00 – 12:00\nPrzyprowadź koleżankę: w parze zajęcia 50 zł\nZapisy: klub@centrumholi.pl\nWięcej informacji pod nr: 575 44 23 26\n\nZapraszamy!
URL:https://centrumholi.pl/event/joga-dla-mam/
CATEGORIES:Joga,Rozwój Osobisty
ATTACH;FMTTYPE=:
END:VEVENT
BEGIN:VEVENT
DTSTART;TZID=Europe/Warsaw:20170313T183000
DTEND;TZID=Europe/Warsaw:20170314T170000
DTSTAMP:20260420T013856
CREATED:20170228T000706Z
LAST-MODIFIED:20170228T000706Z
UID:858-1489429800-1489510800@centrumholi.pl
SUMMARY:HOLI Days! Święto HOLI w Centrum HOLI. Drzwi Otwarte
DESCRIPTION:Holi (dewanagari होली trl. holī\, bengali হোলি ) – hinduistyczne święto radości i wiosny\, obchodzone przeważnie w dniu pełni księżyca w miesiącu phalguna (luty–marzec). Nazywane jest również Festiwalem Kolorów i kojarzone z kolorowymi proszkami do obrzucania przyjaciół. To święto obchodzi się przede wszystkim w Indiach\, Nepalu i innych regionach świata z populacji Hindusów lub osób pochodzenia indyjskiego. Festiwal\, w ostatnich czasach\, rozprzestrzenił się w częściach Europy i Ameryki Północnej jako święto miłości i kolorów wiosny. \nŚwięto rozpoczyna się przy ognisku Holika\, gdzie ludzie zbierają się żeby śpiewać i tańczyć. Następnego dnia rano odbywa się karnawał kolorów\, uczestnicy odgrywają pościg polegający na wzajemnym obrzucaniu się i wylewaniu na siebie kolorowych farb z wodą\, podobnie jak podczas polskiego śmigusa-dyngusa. Ludzie odwiedzają przyjaciół\, rodzinę i wrogów\, żeby podzielić się radością oraz przysmakami tego święta. Festiwal jest uroczystym dniem\, podczas którego ludzie wybaczają sobie błędy z przeszłości i zapominają innym wyrządzone krzywdy. \nźródło: Wikipedia\nW tym roku święto HOLI przypada na 13/14 marca\, a ponieważ to właśnie wydarzenie było inspiracją nazwy naszego centrum – również świętujemy w te dni! \nOgłaszamy je dniami otwartym\, drzwiami otwartymi – zapraszamy serdecznie wszystkich będących z nami i tych\, którzy chcieliby nas poznać 🙂 \nW te dni praktykujemy zupełnie bezpłatnie ❤️???? \nZapraszamy na zajęcia w ramach HOLI Days: \n\nponiedziałek 18:30 – 19:45 HATHA-YOGA\nponiedziałek 20:00 – 21:00 BODY BALANCE\nwtorek 9:00 – 10:15 KURS WSTĘPNY JOGI (wejście otwarte z okazji HOLI Days!)\nwtorek 16:00 – 16:55 MEDYTACJA SERCA METTA\n\nNa wszystkie zajęcia obowiązują zapisy: klub@centrumholi.pl
URL:https://centrumholi.pl/event/holi-days-swieto-holi-w-centrum-holi-drzwi-otwarte/
CATEGORIES:Event,Joga,Mindfulness
ATTACH;FMTTYPE=:
END:VEVENT
BEGIN:VEVENT
DTSTART;TZID=Europe/Warsaw:20170228T090000
DTEND;TZID=Europe/Warsaw:20170228T101500
DTSTAMP:20260420T013856
CREATED:20161128T134838Z
LAST-MODIFIED:20161128T134838Z
UID:734-1488272400-1488276900@centrumholi.pl
SUMMARY:8-tyg KURS WSTĘPNY JOGI (poranny)
DESCRIPTION:Jeśli chcesz rozpocząć swoją przygodę z jogą w sposób świadomy kurs da Ci praktyczne i merytoryczne podłoże do pracy z własnym ciałem.\nPodczas 8 spotkań dowiesz się: \n\njak prawidłowo wykonywać podstawowe asany\, na co zwracać uwagę by nie zrobić sobie krzywdy podczas praktyki\njakie są wskazania i przeciwwskazania do praktyki poszczególnych asan (pozycji)\nna co zwracać uwagę przy budowaniu właściwej postawy ciała\njak łączyć ruch w ciele z oddechem\nw jaki sposób joga przekłada się na równowagę emocjonalną i stabilność wewnętrzną.\n\nDzięki temu zrozumiesz lepiej swoje ciało i uświadomisz sobie wzorce w nim zapisane. Rozpoczniesz łagodną i świadomą pracę ze swoimi blokadami fizycznymi i psychicznymi. Będziesz rozumieć na czym polega ścieżka jogi i co znaczy być jej adeptem. \nPonad to kurs będzie zawierał podstawowe elementy filozofii jogi\, wstęp do medytacji i pranayamy (pracy z oddechem).\nZapisy i informacje: klub@centrumhol.pl\n575 44 23 26 \nZapraszamy serdecznie! \nNauczyciel:\nSylwia Rogala-Marciniak – certyfikowany nauczyciel MBSR (Maindfulness Based Stress Reduction – certyfikat wydany przez Institute for Mindfulness-Based Approaches/Polski Instytut Mindfulness)\, nauczyciel mindful yogi zgodnie z metodologią Center of Mindfulness oraz hatha-yogi. Obecnie rozwija się na Kursie Nauczycielskim metodą BKS Iyengara na stopień Introductory II organizowanego przez Konrada Kocota. Rozwija się i doskonali swoje kompetencje nauczcycielskie uczestnicząc w warsztatach prowadzonych przez światowej sławy nauczycieli stopnia Senior\, m.in. Konrada Kocota\, Faeqa Birię\, Oica Joe Pereire.\nJogę i medytację praktykuję do 14 lat\, wciąż odnajdując w niej coś nowego na kolejnych etapach życia. W praktyce jogi najważniejsza jest dla mnie uważność i akceptacja siebie.\nW moim nauczaniu pragnę przekazać holistyczne rozumienie połączenia ciała\, emocji\, duszy i umysłu.\nJak możemy przeczytać w sutrach: „Asana to doskonała stabilność ciała\, zrównoważenie umysłu i życzliwość ducha” (Sthira sukham asanam). Dla mnie jest to definicją praktyki.
URL:https://centrumholi.pl/event/8-tyg-kurs-wstepny-jogi-poranny/
CATEGORIES:Joga
ATTACH;FMTTYPE=:
END:VEVENT
BEGIN:VEVENT
DTSTART;TZID=Europe/Warsaw:20170221T090000
DTEND;TZID=Europe/Warsaw:20170221T100000
DTSTAMP:20260420T013856
CREATED:20170131T223315Z
LAST-MODIFIED:20170131T223315Z
UID:805-1487667600-1487671200@centrumholi.pl
SUMMARY:Good Morning Yoga! Zajęcia otwarte
DESCRIPTION:Zapraszamy serdecznie na DRZWI OTWARTE\, które są wprowadzeniem do kursu WSTĘPNEGO JOGI. \n21.02. (wtorek) w godz. 9:00-10:00 odbędą się pokazowe zajęcia – darmowe\, zapraszamy do zapisów (klub@centrumholi.pl\, decyduje kolejność zgłoszeń).\nTego dnia będzie także można wykupić miejsce na kursie (160 zł/ 2 miesiące/8 zajęć\, wraz z materiałami edukacyjnymi) \nZapraszamy do wspólnej praktyki! Rozpocznij z nami swoją przygodę z joga!;) \nJeśli chcesz rozpocząć swoją przygodę z jogą w sposób świadomy kurs da Ci praktyczne i merytoryczne podłoże do pracy z własnym ciałem. Kurs przeznaczony jest dla osób z trudnościami w ciele\, dla których normalna praktyka jest za trudna. Podczas zajęć będziemy wykonywać łagodne sesje asan\, łączyć je z oddechem i uczyć się pozycji które wzmacniają ciało w sposób uważny.\nK\nurs Wstępny Jogi rozpocznie się 28.02. i będzie trwał 8 kolejnych wtorków w godz. 9:00 – 10:15. \nZapraszamy! \nInformacje: klub@centrumholi.pl\n575 44 23 26
URL:https://centrumholi.pl/event/good-morning-yoga-zajecia-otwarte/
CATEGORIES:Joga
ATTACH;FMTTYPE=:
END:VEVENT
BEGIN:VEVENT
DTSTART;TZID=Europe/Warsaw:20170128T103000
DTEND;TZID=Europe/Warsaw:20170128T180000
DTSTAMP:20260420T013856
CREATED:20170118T100437Z
LAST-MODIFIED:20170118T100437Z
UID:788-1485599400-1485626400@centrumholi.pl
SUMMARY:HOLI B-Day. Dzień Otwarty. Klub BeMindful. Urodziny HOLI
DESCRIPTION:Zapraszamy serdecznie na nasze pierwsze urodziny! \n28.01.(sobota) będziemy świętować na różne sposoby:)) \nZapraszamy Was na:\n10:30-12:00 poranna praktyka joga&mindfulness\n12:30-14:30 spotkanie klubu BeMindful o tematyce „Rozwijanie uważności u dzieci”\n15:00-16:30 wykład naszego Jogina – Profesora Uniwersytetu Łódzkiego Krzysztofa Koneckiego na temat jogi i medytacji\n16:30-18:00 zapraszamy na tort i ciepłe rozmowy\, a także losowanie nagród od HOLI! \nZapisz się na cały dzień lub wybrane zajęcia: klub@centrumholi.pl\n(zapisy dotyczą zajęć jogi\, klubu oraz wykładu\, ilość miejsc ograniczona – spiesz się z zapisem!) \nZapraszamy! \nProwadzący: \nSylwia Rogala-Marciniak \nCertyfikowany nauczyciel mindfulness (certyfikat MBSR Maindfulness Based Stress Reduction wydany przez Institute for Mindfulness-Based Approaches/Polski Instytut Mindfulness)\, opiekun merytoryczny i wykładowca kształcenia podyplomowego na Uniwersytecie Łódzkim\, superwizor i mentor coach CoachingSteps™ przy Pracowni Rozwoju Kompetencji UŁ. Dyrektor Łódzkiego Oddziału Izby Coachingu oraz Festiwalu PROGRESSteron w Łodzi. Twórca HOLI Centrum Uważności. Erickson International Coach\, Certyfikowany trener biznesu szkoły Trenerów i Konsultantów Zarządzania MATRIK   – metodologia oparta na międzynarodowych standardach NVQ International Trainers Certification in Training\, Learning and Development – MATRIK & Pearson Edexcel International. Współautorka bestsellera „Coaching. Zbiór narzędzi wspierania rozwoju” (Wolters Kluwer Polska – ABC\, 2012r. ). Aktualnie rozwija się na kursie nauczycielskim jogi metodą BKS. Iyengara i Konrada Kocota. Ma za sobą ponad 3 tyś godzin na sali szkoleniowej i 600 h coachingów. \n  \nProf. zw. dr hab. Krzysztof T. Konecki \nProfesor socjologii nauczający medytacji dla menedżerów\, zarządzania talentami\, socjologii emocji\, komunikacji międzykulturowej. Kierownik Katedry Socjologii Organizacji i Zarządzania Uniwersytetu Łódzkiego\, redaktor czasopism naukowych\, członek Rady Programowej kwartalnika ‘Problemy Zarządzania’\, członek Prezydium Komitetu Socjologii PAN\, członek zarządu European Sociological Association RN Qualitative Methods oraz członek Zarządu Polskiego Towarzystwa Socjologicznego. Prowadził badania w Japonii oraz USA (stypendium Fulbrighta)\, wykładał na kilku renomowanych uniwersytetach w Stanach Zjednoczonych. Jego zainteresowania w zakresie socjologii organizacji i zarządzania dotyczą m.in. problematyki zarządzania emocjami\, radzenia sobie ze stresem i rozwojem fizyczno –duchowym menedżmentu we współczesnych organizacjach Realizował projekty szkoleniowe dla Mercedes-Benz\, Chrysler – Daimler\, Renault\, PZU S.A. Wielokrotnie nagradzany i odznaczany za swój dorobek naukowy zarówno w kraju jak i za granicą\, jest autorem kilkunastu książek i licznych artykułów. Jest instruktorem rekreacji ruchowej w specjalności hatha – joga. W pracy naukowej i w życiu inspiruje się dorobkiem filozofii buddyjskiej i hatha-jogi.
URL:https://centrumholi.pl/event/holi-b-day-dzien-otwarty-klub-bemindful-urodziny-holi/
CATEGORIES:Event
ATTACH;FMTTYPE=:
END:VEVENT
BEGIN:VEVENT
DTSTART;TZID=Europe/Warsaw:20161114T180000
DTEND;TZID=Europe/Warsaw:20161114T193000
DTSTAMP:20260420T013856
CREATED:20161019T073821Z
LAST-MODIFIED:20161019T073821Z
UID:1168-1479146400-1479151800@centrumholi.pl
SUMMARY:8-tyg KURS WSTĘPNY JOGI
DESCRIPTION:Jeśli chcesz rozpocząć swoją przygodę z jogą w sposób świadomy kurs da Ci praktyczne i merytoryczne podłoże do pracy z własnym ciałem.\nPodczas 8 spotkań dowiesz się: \n\njak prawidłowo wykonywać podstawowe asany\, na co zwracać uwagę by nie zrobić sobie krzywdy podczas praktyki\njakie są wskazania i przeciwwskazania do praktyki poszczególnych asan (pozycji)\nna co zwracać uwagę przy budowaniu właściwej postawy ciała\njak łączyć ruch w ciele z oddechem\nw jaki sposób joga przekłada się na równowagę emocjonalną i stabilność wewnętrzną.\n\nDzięki temu zrozumiesz lepiej swoje ciało i uświadomisz sobie wzorce w nim zapisane. Rozpoczniesz łagodną i świadomą pracę ze swoimi blokadami fizycznymi i psychicznymi. Będziesz rozumieć na czym polega ścieżka jogi i co znaczy być jej adeptem. \nPonad to kurs będzie zawierał podstawowe elementy filozofii jogi\, wstęp do medytacji i pranayamy (pracy z oddechem). \nTerminy spotkań: 14\,21\,28 listopada.\, 5\,12\,19 grudnia\, 9\,16 stycznia\nZapisy i informacje: klub@centrumhol.pl\n575 44 23 26 \nZapraszamy serdecznie! \n  \nNauczyciel:\nSylwia Rogala-Marciniak – certyfikowany nauczyciel MBSR (Maindfulness Based Stress Reduction – certyfikat wydany przez Institute for Mindfulness-Based Approaches/Polski Instytut Mindfulness)\, nauczyciel mindful yogi zgodnie z metodologią Center of Mindfulness oraz hatha-yogi. Obecnie rozwija się na Kursie Nauczycielskim metodą BKS Iyengara na stopień Introductory II organizowanego przez Konrada Kocota. Rozwija się i doskonali swoje kompetencje nauczcycielskie uczestnicząc w warsztatach prowadzonych przez światowej sławy nauczycieli stopnia Senior\, m.in. Konrada Kocota\, Faeqa Birię\, Oica Joe Pereire.\nJogę i medytację praktykuję do 14 lat\, wciąż odnajdując w niej coś nowego na kolejnych etapach życia. W praktyce jogi najważniejsza jest dla mnie uważność i akceptacja siebie.\nW moim nauczaniu pragnę przekazać holistyczne rozumienie połączenia ciała\, emocji\, duszy i umysłu.\nJak możemy przeczytać w sutrach: „Asana to doskonała stabilność ciała\, zrównoważenie umysłu i życzliwość ducha” (Sthira sukham asanam). Dla mnie jest to definicją praktyki.
URL:https://centrumholi.pl/event/8-tyg-kurs-wstepny-jogi-3/
CATEGORIES:Joga
ATTACH;FMTTYPE=:
END:VEVENT
BEGIN:VEVENT
DTSTART;TZID=Europe/Warsaw:20161029T100000
DTEND;TZID=Europe/Warsaw:20161029T183000
DTSTAMP:20260420T013856
CREATED:20161015T203620Z
LAST-MODIFIED:20161015T203620Z
UID:674-1477735200-1477765800@centrumholi.pl
SUMMARY:HOLIDay - Dzień Otwarty Joga\, Mindfulness & Body Balance
DESCRIPTION:Zapraszamy na Dzień Otwarty podczas którego:\n– darmowe zajęcia Jogi i Body Balance\n– pokaz filmu o jodze\n– warsztaty „Redukcja stresu i napięć za pomocą uważności”\n– karnety w specjalnej cenie i losowanie nagród\n– wspólna medytacja.Podczas HoliDay wszystkie osoby\, które wezmą udział w zajęciach i zostawią nam swoje dane wezmą udział w losowaniu nagród\, wśród których książki na temat uważności\, karnety na jogę raz bony na warsztaty.\nTego dnia będzie można także zakupić karnety na 8 i więcej wejść wejść z specjalnym rabatem (informacje na recepcji).Plan dnia:\n11:30-12:30 Joga – lekkość w praktyce\n12:30-13:30 przerwa\, rozmowy\, słodki i aromatyczny poczęstunek\n13:30-15:30 Warsztaty „Redukcja stresu i napięć za pomocą uważności”\n16:00 – 17:00 Body Balance – poznaj inną formę pracy z ciałem\n17:30-18:30 pokaz filmu o jodze\n18:30 losowanie nagród\, zakończenie dnia \nZapraszamy do zapisów na poszczególne zajęcia. Prosimy o przemyślane zgłoszenia z refleksją o innych. Rezerwuj miejsce tylko jeśli jesteś pewny/a\, że skorzystasz. Poinformuj nas jeśli zmieniasz zdanie. \nNa wszystkie zajęcia obowiązują zapisy: klub@centrumholi.pl\nZapraszamy serdecznie! \n\n\nNamaste ???
URL:https://centrumholi.pl/event/holiday-dzien-otwarty-joga-mindfulness-body-balance/
CATEGORIES:Joga,Mindfulness,Rozwój Osobisty
ATTACH;FMTTYPE=:
END:VEVENT
BEGIN:VEVENT
DTSTART;TZID=Europe/Warsaw:20161013T193000
DTEND;TZID=Europe/Warsaw:20161013T210000
DTSTAMP:20260420T013856
CREATED:20160922T153847Z
LAST-MODIFIED:20160922T153847Z
UID:653-1476387000-1476392400@centrumholi.pl
SUMMARY:8-tyg KURS WSTĘPNY JOGI
DESCRIPTION:Jeśli chcesz rozpocząć swoją przygodę z jogą w sposób świadomy kurs da Ci praktyczne i merytoryczne podłoże do pracy z własnym ciałem.\nPodczas 8 spotkań dowiesz się: \n\njak prawidłowo wykonywać podstawowe asany\, na co zwracać uwagę by nie zrobić sobie krzywdy podczas praktyki\njakie są wskazania i przeciwwskazania do praktyki poszczególnych asan (pozycji)\nna co zwracać uwagę przy budowaniu właściwej postawy ciała\njak łączyć ruch w ciele z oddechem\nw jaki sposób joga przekłada się na równowagę emocjonalną i stabilność wewnętrzną.\n\nDzięki temu zrozumiesz lepiej swoje ciało i uświadomisz sobie wzorce w nim zapisane. Rozpoczniesz łagodną i świadomą pracę ze swoimi blokadami fizycznymi i psychicznymi. Będziesz rozumieć na czym polega ścieżka jogi i co znaczy być jej adeptem. \nPonad to kurs będzie zawierał podstawowe elementy filozofii jogi\, wstęp do medytacji i pranayamy (pracy z oddechem). \nKurs ruszy po uzbieraniu grupy min. 8 osób.\nZapisy i informacje: klub@centrumhol.pl\n575 44 23 26 \nZapraszamy serdecznie!
URL:https://centrumholi.pl/event/8-tyg-kurs-wstepny-jogi-2/
CATEGORIES:Joga
ATTACH;FMTTYPE=:
END:VEVENT
BEGIN:VEVENT
DTSTART;TZID=Europe/Warsaw:20160912T180000
DTEND;TZID=Europe/Warsaw:20160912T191500
DTSTAMP:20260420T013856
CREATED:20160825T171608Z
LAST-MODIFIED:20211207T161320Z
UID:621-1473703200-1473707700@centrumholi.pl
SUMMARY:8-tyg KURS WSTĘPNY JOGI
DESCRIPTION:Jeśli chcesz rozpocząć swoją przygodę z jogą w sposób świadomy kurs da Ci praktyczne i merytoryczne podłoże do pracy z własnym ciałem.\nPodczas 8 spotkań dowiesz się: \n\njak prawidłowo wykonywać podstawowe asany\, na co zwracać uwagę by nie zrobić sobie krzywdy podczas praktyki\njakie są wskazania i przeciwwskazania do praktyki poszczególnych asan (pozycji)\nna co zwracać uwagę przy budowaniu właściwej postawy ciała\njak łączyć ruch w ciele z oddechem\nw jaki sposób joga przekłada się na równowagę emocjonalną i stabilność wewnętrzną.\n\nDzięki temu zrozumiesz lepiej swoje ciało i uświadomisz sobie wzorce w nim zapisane. Rozpoczniesz łagodną i świadomą pracę ze swoimi blokadami fizycznymi i psychicznymi. Będziesz rozumieć na czym polega ścieżka jogi i co znaczy być jej adeptem. \nPonad to kurs będzie zawierał podstawowe elementy filozofii jogi\, wstęp do medytacji i pranayamy (pracy z oddechem). \nKurs ruszy po uzbieraniu grupy min. 8 osób.\nZapisy i informacje: klub@centrumhol.pl\n575 44 23 26 \nZapraszamy serdecznie!
URL:https://centrumholi.pl/event/8-tyg-kurs-wstepny-jogi/
CATEGORIES:Joga,Rozwój Osobisty
ATTACH;FMTTYPE=:
END:VEVENT
END:VCALENDAR