BEGIN:VCALENDAR
VERSION:2.0
PRODID:-//Mindfulness LAB — Sylwia RoMa — HOLI Body&amp;Mind - ECPv6.15.14//NONSGML v1.0//EN
CALSCALE:GREGORIAN
METHOD:PUBLISH
X-WR-CALNAME:Mindfulness LAB — Sylwia RoMa — HOLI Body&amp;Mind
X-ORIGINAL-URL:https://centrumholi.pl
X-WR-CALDESC:Wydarzenia dla Mindfulness LAB — Sylwia RoMa — HOLI Body&amp;Mind
REFRESH-INTERVAL;VALUE=DURATION:PT1H
X-Robots-Tag:noindex
X-PUBLISHED-TTL:PT1H
BEGIN:VTIMEZONE
TZID:Europe/Warsaw
BEGIN:DAYLIGHT
TZOFFSETFROM:+0100
TZOFFSETTO:+0200
TZNAME:CEST
DTSTART:20180325T010000
END:DAYLIGHT
BEGIN:STANDARD
TZOFFSETFROM:+0200
TZOFFSETTO:+0100
TZNAME:CET
DTSTART:20181028T010000
END:STANDARD
BEGIN:DAYLIGHT
TZOFFSETFROM:+0100
TZOFFSETTO:+0200
TZNAME:CEST
DTSTART:20190331T010000
END:DAYLIGHT
BEGIN:STANDARD
TZOFFSETFROM:+0200
TZOFFSETTO:+0100
TZNAME:CET
DTSTART:20191027T010000
END:STANDARD
BEGIN:DAYLIGHT
TZOFFSETFROM:+0100
TZOFFSETTO:+0200
TZNAME:CEST
DTSTART:20200329T010000
END:DAYLIGHT
BEGIN:STANDARD
TZOFFSETFROM:+0200
TZOFFSETTO:+0100
TZNAME:CET
DTSTART:20201025T010000
END:STANDARD
END:VTIMEZONE
BEGIN:VEVENT
DTSTART;TZID=Europe/Warsaw:20191015T070000
DTEND;TZID=Europe/Warsaw:20191015T080000
DTSTAMP:20260419T194728
CREATED:20190811T105628Z
LAST-MODIFIED:20211207T161328Z
UID:4788-1571122800-1571126400@centrumholi.pl
SUMMARY:Kurs Wstępny Jogi - Fundamenty Świadomej Praktyki
DESCRIPTION:Jeśli chcesz rozpocząć swoją przygodę z jogą w sposób świadomy\, ten kurs da Ci praktyczne i merytoryczne podłoże do pracy z własnym ciałem. \n\nKurs nie wygląda jak normalne zajęcia jogi. Podczas jego trwania dowiesz się skąd pochodzą poszczególne ruchy ciała w pozycjach. Zrozumiesz fundamenty ruchu\, które pomagają budować asany\, a także o co zadbać i na co zwracać uwagę\, aby nie zrobić sobie krzywdy zarówno przy prostych\, jak i bardziej zaawansowanych pozycjach. Nauczysz się pracować z oddechem oraz poznasz podstawowe praktyki oddechowe\, niezbędne do prawidłowego i płynnego wykonywania pozycji. Zgłębisz także podstawy filozofii jogi\, dzięki czemu w sposób bardziej świadomy będziesz siadać do wspólnych medytacji\, wiedząc co i dlaczego się dzieje.\n\nOd pierwszego tygodnia października planujemy 1\,2 zajęcia tygodniowo dla kursu wstępnego jogi. Będą to: \n\ngrupa poranna:  wtorki i czwartki o godz. 7:00\n\nMożesz wybrać jeden dzień (8 zajęć) lub dwa dni (16 zajęć) w grupie porannej. Wszystkie grupy będą trwały 2 miesiące. Możesz odrobić zajęcia na których nie możesz uczestniczyć w innej grupie. \nStartujemy: \n\n15.10  godz. 7:00  i/lub czwartek godz. 7:00.\n\nDla optymalnego rozwoju i ugruntowania praktyki zachęcamy do skorzystania z obydwu terminów w wybranej grupie! \nPodczas  spotkań dowiesz się: \n\njak prawidłowo wykonywać podstawowe asany\, na co zwracać uwagę by nie zrobić sobie krzywdy podczas praktyki\njakie są wskazania i przeciwwskazania do praktyki poszczególnych asan (pozycji)\nna co zwracać uwagę przy budowaniu właściwej postawy ciała\njak łączyć ruch w ciele z oddechem\nw jaki sposób joga przekłada się na równowagę emocjonalną i stabilność wewnętrzną.\n\nDzięki temu zrozumiesz lepiej swoje ciało i uświadomisz sobie wzorce w nim zapisane. Rozpoczniesz łagodną i świadomą pracę ze swoimi blokadami fizycznymi i psychicznymi. Będziesz rozumieć na czym polega ścieżka jogi i co znaczy być jej adeptem. \nOrganizacyjnie:\n\nObowiązują zapisy do grup – jeśli chcesz uczestniczyć zapisz się mailowo klub@centrumholi.pl wskazując wybrany wariant\nInwestycja: 8 lekcji  180 zł / 16 lekcji  350 zł\nMulti-Karnety – wejście na nasza Kartę z Kaucją (40 zł)\, pobieraną w przypadku nieobecności na zarezerwowanych zajęciach\nW ramach wolnych miejsc w grupach mogą uczestniczyć także nasi klubowicze zapisując się on-line poprzez swoje karty klubowe\nWpłata – potwierdzenie rezerwacji:\n\n57 1050 1445 1000 0092 5342 8867 \nHoli Life&Business Mindful Solutions \nnazwa: Kurs Wstępny Jogi  + opisz swój wariant \n\nwtorki / czwartki\n\n  \nZapraszamy serdecznie! \nNauczyciel: Monika Wypych\nTrener personalny z akredytacją Reps\, dietetyk i instruktor z 16- letnim doświadczeniem w branży fitness. Pasjonatka różnych form z nurtu body & mind: pilates\, zdrowy kręgosłup\, stretching\, jogalates. Od 2008 roku instruktor bodyART\, regularnie pogłębiający swoje doświadczenie. Instruktor joga vinyasa\, a obecnie w trakcie kursu nauczycielskiego metodą BKS Iyengar. Absolwentka Akademii Fotografii. Od 2013 roku prowadzi także działalność fotograficzną. Specjalizuje się w portrecie\, fotografii sportowej i wizerunkowej. W swojej pracy fascynuje ją praca z człowiekiem i jego ciałem.​
URL:https://centrumholi.pl/event/kurs-wstepny-jogi-fundamenty-swiadomej-praktyki/
CATEGORIES:Joga
ATTACH;FMTTYPE=:
END:VEVENT
END:VCALENDAR