BEGIN:VCALENDAR
VERSION:2.0
PRODID:-//Mindfulness LAB — Sylwia RoMa — HOLI Body&amp;Mind - ECPv6.15.14//NONSGML v1.0//EN
CALSCALE:GREGORIAN
METHOD:PUBLISH
X-ORIGINAL-URL:https://centrumholi.pl
X-WR-CALDESC:Wydarzenia dla Mindfulness LAB — Sylwia RoMa — HOLI Body&amp;Mind
REFRESH-INTERVAL;VALUE=DURATION:PT1H
X-Robots-Tag:noindex
X-PUBLISHED-TTL:PT1H
BEGIN:VTIMEZONE
TZID:Europe/Warsaw
BEGIN:DAYLIGHT
TZOFFSETFROM:+0100
TZOFFSETTO:+0200
TZNAME:CEST
DTSTART:20180325T010000
END:DAYLIGHT
BEGIN:STANDARD
TZOFFSETFROM:+0200
TZOFFSETTO:+0100
TZNAME:CET
DTSTART:20181028T010000
END:STANDARD
BEGIN:DAYLIGHT
TZOFFSETFROM:+0100
TZOFFSETTO:+0200
TZNAME:CEST
DTSTART:20190331T010000
END:DAYLIGHT
BEGIN:STANDARD
TZOFFSETFROM:+0200
TZOFFSETTO:+0100
TZNAME:CET
DTSTART:20191027T010000
END:STANDARD
BEGIN:DAYLIGHT
TZOFFSETFROM:+0100
TZOFFSETTO:+0200
TZNAME:CEST
DTSTART:20200329T010000
END:DAYLIGHT
BEGIN:STANDARD
TZOFFSETFROM:+0200
TZOFFSETTO:+0100
TZNAME:CET
DTSTART:20201025T010000
END:STANDARD
END:VTIMEZONE
BEGIN:VEVENT
DTSTART;TZID=Europe/Warsaw:20190301T170000
DTEND;TZID=Europe/Warsaw:20190308T190000
DTSTAMP:20260420T082011
CREATED:20190218T230833Z
LAST-MODIFIED:20190218T230833Z
UID:1531-1551459600-1552071600@centrumholi.pl
SUMMARY:Tydzień Otwarcia - Drzwi Otwarte - Zapraszamy na zajęcia
DESCRIPTION:TYDZIEŃ OTWARCIA: 1-8.03.2019r. zapraszamy na prezentacyjne zajęcia\, spotkania\, warsztaty.\nWszystkie zajęcia są darmowe\, ale obowiązuje konieczność rejestracji i rezerwacji miejsc na poszczególne wydarzenia i zajęcia z grafika. \nW powietrzu czuć wiosnę\, a my wraz z jej energią otwieramy drzwi do wspólnej praktyki. \nHOLI Body&Mind Center w przyjaznej i komfortowej przestrzeni oferuje swoim gościom miejsce do wyciszenia natłoku myśli\, budowania uważności\, ukojenia emocji i inspirujących spotkań przy dobrej herbacie. \nPoprzez różnorodne formy pracy fizycznej i mentalnej dostarczamy metod do osiągania równowagi i wewnętrznego spokoju. Naszym celem jest\, aby każdy z zajęć wyszedł z zregenerowanym ciałem i odświeżonym umysłem. \nW naszych stałych propozycjach znajdziesz: \n\nróżne formy pracy z ciałem: JOGA\, YOGABOARD®\, bodyART®\, ZDROWY KRĘGOSŁUP\, PILATES PROZDROWOTNY TRENING FUNKCJONALNY i inne…\ntreningi uważności i kursy redukcji stresu MBSR\nwarsztaty psychologiczne\nregularne medytacje i praktyki mindfulness\nzajęcia dla dzieci\nmindfulness dla biznesu.\n\nW tym wyjątkowym dla nas\, pierwszym tygodniu w nowej lokalizacji zapraszamy na: \n1.03. w godz. 17:00 – 20:00 \n\n\n\n\n\nWydarzenie Otwierające Ecstatic Dance\n\n\n\n\n\n  \n6.03. w godz. 18:30 – 20:00 \nCzym jest mindfulness – spotkanie otwarte i wykład  \n  \nW tygodniu 4.03-8.03 \nRejestrując się on-line na zajęcia pracy z ciałem z naszego Grafika otrzymasz karnet powitalny\, który daje możliwość skorzystania w tym tygodniu z 5 dowolnych wybranych zajęć (1 zajęcia dziennie). \nRejestracja on-line \n  \nW tym tygodniu kupując dowolny karnet drugi taki sam otrzymasz gratis. \nCzekamy na Ciebie na macie 🙂 \nOd 11.03. zapraszamy na regularne zajęcia.\nInformacje telefoniczne: 881 303 121 \n  \n 
URL:https://centrumholi.pl/event/tydzien-otwarcia/
CATEGORIES:Event,Joga,Mindfulness
ATTACH;FMTTYPE=:
END:VEVENT
END:VCALENDAR