BEGIN:VCALENDAR
VERSION:2.0
PRODID:-//Mindfulness LAB — Sylwia RoMa — HOLI Body&amp;Mind - ECPv6.15.14//NONSGML v1.0//EN
CALSCALE:GREGORIAN
METHOD:PUBLISH
X-ORIGINAL-URL:https://centrumholi.pl
X-WR-CALDESC:Wydarzenia dla Mindfulness LAB — Sylwia RoMa — HOLI Body&amp;Mind
REFRESH-INTERVAL;VALUE=DURATION:PT1H
X-Robots-Tag:noindex
X-PUBLISHED-TTL:PT1H
BEGIN:VTIMEZONE
TZID:Europe/Warsaw
BEGIN:DAYLIGHT
TZOFFSETFROM:+0100
TZOFFSETTO:+0200
TZNAME:CEST
DTSTART:20150329T010000
END:DAYLIGHT
BEGIN:STANDARD
TZOFFSETFROM:+0200
TZOFFSETTO:+0100
TZNAME:CET
DTSTART:20151025T010000
END:STANDARD
BEGIN:DAYLIGHT
TZOFFSETFROM:+0100
TZOFFSETTO:+0200
TZNAME:CEST
DTSTART:20160327T010000
END:DAYLIGHT
BEGIN:STANDARD
TZOFFSETFROM:+0200
TZOFFSETTO:+0100
TZNAME:CET
DTSTART:20161030T010000
END:STANDARD
BEGIN:DAYLIGHT
TZOFFSETFROM:+0100
TZOFFSETTO:+0200
TZNAME:CEST
DTSTART:20170326T010000
END:DAYLIGHT
BEGIN:STANDARD
TZOFFSETFROM:+0200
TZOFFSETTO:+0100
TZNAME:CET
DTSTART:20171029T010000
END:STANDARD
BEGIN:DAYLIGHT
TZOFFSETFROM:+0100
TZOFFSETTO:+0200
TZNAME:CEST
DTSTART:20180325T010000
END:DAYLIGHT
BEGIN:STANDARD
TZOFFSETFROM:+0200
TZOFFSETTO:+0100
TZNAME:CET
DTSTART:20181028T010000
END:STANDARD
BEGIN:DAYLIGHT
TZOFFSETFROM:+0100
TZOFFSETTO:+0200
TZNAME:CEST
DTSTART:20190331T010000
END:DAYLIGHT
BEGIN:STANDARD
TZOFFSETFROM:+0200
TZOFFSETTO:+0100
TZNAME:CET
DTSTART:20191027T010000
END:STANDARD
BEGIN:DAYLIGHT
TZOFFSETFROM:+0100
TZOFFSETTO:+0200
TZNAME:CEST
DTSTART:20200329T010000
END:DAYLIGHT
BEGIN:STANDARD
TZOFFSETFROM:+0200
TZOFFSETTO:+0100
TZNAME:CET
DTSTART:20201025T010000
END:STANDARD
BEGIN:DAYLIGHT
TZOFFSETFROM:+0100
TZOFFSETTO:+0200
TZNAME:CEST
DTSTART:20210328T010000
END:DAYLIGHT
BEGIN:STANDARD
TZOFFSETFROM:+0200
TZOFFSETTO:+0100
TZNAME:CET
DTSTART:20211031T010000
END:STANDARD
END:VTIMEZONE
BEGIN:VEVENT
DTSTART;TZID=Europe/Warsaw:20201107T090000
DTEND;TZID=Europe/Warsaw:20201107T160000
DTSTAMP:20260419T183606
CREATED:20201008T221808Z
LAST-MODIFIED:20201008T221808Z
UID:2536-1604739600-1604764800@centrumholi.pl
SUMMARY:Mindfulness w przeciwdziałaniu depresji
DESCRIPTION:Zapraszam Cię na warsztaty\, których celem jest praca z obszarem emocjonalnym ukierunkowana na prewencje depresji oraz przeciwdziałanie spadkom nastroju. Będą one także wprowadzenie do pięcio-tygodniowego kursu służącego prewencji depresji. To okazja do poznania mindfulness od tej strony. \nMindfulness oznacza bycie „w pełni umysłu”\, definiując uważność jako pełną świadomość osiąganą w następstwie celowego i nieosądzającego skierowania uwagi na chwilę bieżącą. W efekcie możliwe staje się widzenie rzeczy dokładnie takimi\, jakie są i tylko takimi.  Taka na pozór niewielka zmiana sposobu percepcji niesie za sobą ogromny potencjał dając możliwość zatrzymania się i skierowania uwagi do wewnątrz i dostrzeżenia tego\, co  w nas prawdziwe.  A uważne dostrzeganie własnych myśli\, przekonań i emocji\, takimi jakimi są\, otwiera nową przestrzeń do zmiany. \nZdawanie sobie sprawy z tego\, co robimy\, w momencie w którym to robimy pozwala na dokonywanie w pełni świadomych wyborów naszego toku myślenia i  działania. Nasze umysły choć mogą pracować w kilku różnych trybach myślenia\, często pozostają niejako na automatycznym pilocie.  Rutynowe sposoby interpretowania i reagowania\,  uruchamiają nawykowe zachowania\, znane i typowe dla nas emocje\, a w konsekwencji rozpamiętywanie\, negatywne myślenie\, stres czy depresję\, które co należy podkreślić\, w mniejszym stopniu związane są z tym co aktualne\, a w większym z tym co przez nas negatywnie przewidywane lub negatywnie wspominane.  Innymi słowy\, działając\, myśląc i odczuwając w trybie automatycznego pilota nie dostrzegamy już rzeczy takimi jakimi są\, lecz takimi jakimi schematycznie zwykliśmy je postrzegać. \nKiedy natomiast jesteśmy uważnie świadomi tego\, co robimy i co odczuwamy\, wprowadzamy nowy sposób postrzegania i przestawiamy nasz umysł w inny tryb\, w którym znacznie mniej prawdopodobne jest utknięcie w schemacie negatywnego czy nawet obsesyjnego myślenia. \nTaki transformujący i zapobiegawczy wpływ świadomej uważności dostrzegł dr Jon Kabat-Zinn tworząc w oparciu o praktykę mindfulness program medyczny i psycho-edukacyjny dla osób cierpiących na chroniczny ból fizyczny i zaburzenia emocjonalne.  Ogromna skuteczność technik redukcji stresu opartych na uważności spowodowała wypracowanie terapii opartej na uważności i skoncentrowanej na zapobieganiu nawrotom depresji. \nUtrzymywanie się i pogłębianie depresji jest często zasilane strumieniami negatywnych myśli nieustająco przepływających w umyśle (takich jak „moje życie to dramat”\, „nie dam rady już dalej”\, „co jest ze mną nie tak?” itp.). Przekierowanie uwagi z tych nawracających strumieni myślowych\, na uważne uświadamianie i doświadczanie tego co robimy i co odczuwamy dokładnie w chwili kiedy to robimy i odczuwamy\, osłabia i ostatecznie odłącza to co w naszym umyśle utrzymuje nas w depresji. \nPodczas tego warsztatu będziemy rozwijać poszczególne aspekty pracy z emocjami\, natłokiem myśli\, smutkiem czy lękiem. \nKorzystając z narzędzi mindfulness oraz terapii poznawczo-behawioralnej:\n\nzrozumiesz źródła  i zależności różnych wewnętrznych stanów\npoznasz praktyczne metody\, techniki i wskazówki do pracy z trudnościami emocjonalnymi\nuświadomisz sobie w jaki sposób myśli u uczucia wpływają na zachowanie i życie\npoznasz narzędzia\, które pozwolą na pozytywną zmianę sposobu myślenia o sobie\, innych i otaczającym świecie\nuświadomisz sobie związek z własnym ciałem i dowiesz się w jaki sposób poprzez ciało możesz wpływać na swój stan emocjonalny\nnauczysz się wykorzystywać oddech w trudnych sytuacjach\nwykonując ćwiczenia poczujesz przypływ wewnętrznego spokoju i opanowania.\n\nForma zajęć:\n\nmini-wykłady z dyskusjami w grupie\npraca indywidualna\nćwiczenia medytacyjne\npraca z ciałem.\n\nTematyka warsztatu:\nMindfulness. Uzdrawiająca moc świadomej przytomności. \nOdzyskiwanie kontaktu z własnym ciałem. Rozpoznawanie wrażeń. \nŻyczliwość dla siebie. Czym jest „nieocenna uwaga”? \nCzystość myślenia. Rozwijanie umiejętności porządkowania myśli. \nPułapki myślenia – depresja a stan umysłu. \nNegatywne myślenie. \nRozwijanie umiejętności postrzegania. \nPaleta emocji.  Radzenie sobie ze smutkiem\, pokonywanie lęku\, ujarzmianie złości. \nZrozumienie emocji. \nCiało a emocje. Odzwierciedlenia emocji w ciele. \nPraca z ciałem. Ciało czułe. Zamrożenia i rozmrożenia. \nĆwiczenia poznawcze i trening mentalny. \nUważny ruch – łagodny kontakt z ciałem. \n  \nORGANIZACJA: \n\nwarsztaty odbędą się 7.11.2020r. w godz. 9:00 – 16:00\nmamy ograniczoną ilość miejsc: 10\ninwestycja w siebie: 290 zł\nzapisy: klub@centrumholi.pl\npotwierdzenie rezerwacji miejsca jest wpłata:\n\n57 1050 1445 1000 0092 5342 8867 \nHoli Life&Business Mindful Solutions\ntytuł: warsztaty mind retreat\n\nProwadzi: Sylwia Rogala-Marciniak\nCertyfikowany nauczyciel mindfulness MBSR/MBCL (certyfikat Maindfulness Based Stress Reduction wydany przez Institute for Mindfulness-Based Approaches/Polski Instytut Mindfulness; certyfikat Mindfulness-Based Compassionate Living wydany przez Polski Instytut Mindfulness). Erickson International Coach. Certyfikowany trener biznesu szkoły Trenerów i Konsultantów Zarządzania MATRIK – metodologia oparta na międzynarodowych standardach NVQ International Trainers Certification in Training\, Learning and Development – MATRIK & Pearson Edexcel International. Właścicielka HOLI Body&Mind Center\, ośrodka zajmującego się programami z nurtu mindfulness. Przewodnicząca Rady Fundacji Polski Instytut Mindfulness. Koordynatorka Studium Nauczycielskiego dla przyszłych nauczycieli MBSR. Opiekun merytoryczny i Wykładowca kształcenia podyplomowego na Uniwersytecie Łódzkim\, Superwizor i Mentor Coach CoachingSteps™ przy Pracowni Rozwoju Kompetencji UŁ. Wykładowca na Studium Nauczycielskim Mindfulness Based Stress Reduction. W latach 2015 – 2017 pełniła funkcję dyrektorki Łódzkiego Oddziału Izby Coachingu oraz Festiwalu PROGRESSteron w Łodzi. Współautorka bestsellera „Coaching. Zbiór narzędzi wspierania rozwoju” (Wolters Kluwer Polska – ABC\, 2012r. ). Ma za sobą ponad 3 tyś godzin na sali szkoleniowej i 600 h sesji indywidualnych. Treningi redukcji stresu\, uważności i medytacji prowadzi od 2008 roku\, a od 2015 roku w formie pełnych certyfikowanych kursów MBSR. Dyplomowany nauczyciel jogi w systemie hatha-yogi metodą BKS Iyengara o stopniu Introductory II. Swoje umiejętności zawodowe doskonaliła uczestnicząc m.in. w programach CoachWise Coaching Essentials™\, Transforming Communication™\, Family Coaching -Erickson College International\, The Art & Science of Mindfulness. \n 
URL:https://centrumholi.pl/event/mindfulness-w-przeciwdzialaniu-depresji/
CATEGORIES:Mindfulness,Rozwój Osobisty
ATTACH;FMTTYPE=image/png:https://centrumholi.pl/wp-content/uploads/2020/10/16.png
END:VEVENT
BEGIN:VEVENT
DTSTART;TZID=Europe/Warsaw:20170808T180000
DTEND;TZID=Europe/Warsaw:20170808T200000
DTSTAMP:20260419T183606
CREATED:20170707T103742Z
LAST-MODIFIED:20170707T103742Z
UID:994-1502215200-1502222400@centrumholi.pl
SUMMARY:Kurs Mindfulness Of Mind Retreat
DESCRIPTION:Zapraszam Cię na 5-tygodniowy kurs uważności\, którego celem jest pogłębiona praca z obszarem emocjonalnym ukierunkowana na prewencje depresji. \nMindfulness oznacza bycie „w pełni umysłu”\, definiując uważność jako pełną świadomość osiąganą w następstwie celowego i nieosądzającego skierowania uwagi na chwilę bieżącą. W efekcie możliwe staje się widzenie rzeczy dokładnie takimi\, jakie są i tylko takimi.  Taka na pozór niewielka zmiana sposobu percepcji niesie za sobą ogromny potencjał dając możliwość zatrzymania się i skierowania uwagi do wewnątrz i dostrzeżenia tego\, co  w nas prawdziwe.  A uważne dostrzeganie własnych myśli\, przekonań i emocji\, takimi jakimi są\, otwiera nową przestrzeń do zmiany. \nZdawanie sobie sprawy z tego\, co robimy\, w momencie w którym to robimy pozwala na dokonywanie w pełni świadomych wyborów naszego toku myślenia i  działania. Nasze umysły choć mogą pracować w kilku różnych trybach myślenia\, często pozostają niejako na automatycznym pilocie.  Rutynowe sposoby interpretowania i reagowania\,  uruchamiają nawykowe zachowania\, znane i typowe dla nas emocje\, a w konsekwencji rozpamiętywanie\, negatywne myślenie\, stres czy depresję\, które co należy podkreślić\, w mniejszym stopniu związane są z tym co aktualne\, a w większym z tym co przez nas negatywnie przewidywane lub negatywnie wspominane.  Innymi słowy\, działając\, myśląc i odczuwając w trybie automatycznego pilota nie dostrzegamy już rzeczy takimi jakimi są\, lecz takimi jakimi schematycznie zwykliśmy je postrzegać. \nKiedy natomiast jesteśmy uważnie świadomi tego\, co robimy i co odczuwamy\, wprowadzamy nowy sposób postrzegania i przestawiamy nasz umysł w inny tryb\, w którym znacznie mniej prawdopodobne jest utknięcie w schemacie negatywnego czy nawet obsesyjnego myślenia. \nTaki transformujący i zapobiegawczy wpływ świadomej uważności dostrzegł dr Jon Kabat-Zinn tworząc w oparciu o praktykę mindfulness program medyczny i psycho-edukacyjny dla osób cierpiących na chroniczny ból fizyczny i zaburzenia emocjonalne.  Ogromna skuteczność technik redukcji stresu opartych na uważności spowodowała wypracowanie terapii opartej na uważności i skoncentrowanej na zapobieganiu nawrotom depresji. \nUtrzymywanie się i pogłębianie depresji jest często zasilane strumieniami negatywnych myśli nieustająco przepływających w umyśle (takich jak „moje życie to dramat”\, „nie dam rady już dalej”\, „co jest ze mną nie tak?” itp.). Przekierowanie uwagi z tych nawracających strumieni myślowych\, na uważne uświadamianie i doświadczanie tego co robimy i co odczuwamy dokładnie w chwili kiedy to robimy i odczuwamy\, osłabia i ostatecznie odłącza to co w naszym umyśle utrzymuje nas w depresji. \nPodczas pięciu sesji tego kursu będziemy rozwijać poszczególne aspekty pracy z emocjami\, natłokiem myśli\, smutkiem czy lękiem. \nKorzystając z narzędzi mindfulness\, terapii poznawczo-behawioralnej oraz bioenergetyki Lowena:\n\nzrozumiesz źródła  i zależności różnych wewnętrznych stanów\npoznasz praktyczne metody\, techniki i wskazówki do pracy z trudnościami emocjonalnymi\nuświadomisz sobie w jaki sposób myśli u uczucia wpływają na zachowanie i życie\npoznasz narzędzia\, które pozwolą na pozytywną zmianę sposobu myślenia o sobie\, innych i otaczającym świecie\nuświadomisz sobie związek z własnym ciałem i dowiesz się w jaki sposób poprzez ciało możesz wpływać na swój stan emocjonalny\nnauczysz się wykorzystywać oddech w trudnych sytuacjach\nodzyskasz energię i siłę do działania\nwykonując ćwiczenia poczujesz przypływ wewnętrznego spokoju i opanowania.\n\nForma zajęć:\n\nmini-wykłady z dyskusjami w grupie\npraca indywidualna\nćwiczenia medytacyjne\npraca z ciałem.\n\nTematy sesji:\nSesja 1: 8.08. Pułapki myślenia – depresja a stan umysłu. Negatywne myślenie. Rozwijanie umiejętności postrzegania. \nSesja 2: 16.08. Paleta emocji. Radzenie sobie ze smutkiem\, pokonywanie lęku\, ujarzmianie złości. Zrozumienie emocji. (*ta sesja odbędzie się wyjątkowo w środę\, gdyż 15.08. to święto) \nSesja 3: 22.08. Ocenianie a rzeczywistość. Czystość myślenia. Rozwijanie umiejętności porządkowania myśli. \nSesja 4: 29.08. Poczucie własnej wartości. Powstawanie niskiej samooceny. Wzmacnianie pewności siebie. Docenianie. \nSesja 5: 5.09. Akceptacja. Postrzeganie siebie\, innych\, świata. Asertywna komunikacja. Rozwijanie postawy akceptacji.  \n  \nORGANIZACJA: \nCzas zajęć: wtorki\, 18:00 – 20:00 \nInwestycja: \n\n1 sesja: 70 zł\n2 sesje: 130 zł\n3 sesje: 180 zł\n4 sesje: 220 zł\n5 sesji: 250 zł\n\nZapisy: klub@centrumholi.pl\nPotwierdzeniem rezerwacji jest wpłata na konto: 31 1050 1461 1000 0091 1144 8958 \nZapisy do 31.08. \n\nPotwierdzeniem rezerwacji jest wpłata na wybrane sesje.\n\n\nW tytule przelewu proszę oznaczyć: Mind Retreat i nr sesji: (całość lub wybrane np. sesja 1\,3\,5).\n\n\nProwadzi: Sylwia Rogala-Marciniak\nCertyfikowany nauczyciel mindfulness (certyfikat MBSR Maindfulness Based Stress Reduction wydany przez Institute for Mindfulness-Based Approaches/Polski Instytut Mindfulness\, http://www.polski-instytut-mindfulness.pl/nauczyciele/lista-nauczycieli/sylwia-rogala-marciniak)\, opiekun merytoryczny i wykładowca kształcenia podyplomowego na Uniwersytecie Łódzkim\, superwizor i mentor coach CoachingSteps™ przy Pracowni Rozwoju Kompetencji UŁ. Dyrektor Łódzkiego Oddziału Izby Coachingu oraz Festiwalu PROGRESSteron w Łodzi. Twórca HOLI Centrum Uważności. Erickson International Coach\, Certyfikowany trener biznesu szkoły Trenerów i Konsultantów Zarządzania MATRIK – metodologia oparta na międzynarodowych standardach NVQ International Trainers Certification in Training\, Learning and Development – MATRIK & Pearson Edexcel International. Współautorka bestsellera „Coaching. Zbiór narzędzi wspierania rozwoju” (Wolters Kluwer Polska – ABC\, 2012r. ). Od 15 lat praktykuje jogę i medytację\, aktualnie rozwija się na kursie nauczycielskim jogi metodą BKS. Iyengara u Konrada Kocota. Treningi redukcji stresu\, uważności i medytacji prowadzi od 2008 roku\, od dwóch lat w formie pełnych certyfikowanych kursów MBSR. Ma za sobą ponad 3 tyś godzin na sali szkoleniowej i 600 h indywidualnej pracy na sesjach.
URL:https://centrumholi.pl/event/kurs-mindfulness-of-mind-retreat/
CATEGORIES:Mindfulness,Rozwój Osobisty
ATTACH;FMTTYPE=:
END:VEVENT
BEGIN:VEVENT
DTSTART;TZID=Europe/Warsaw:20170718T180000
DTEND;TZID=Europe/Warsaw:20170718T200000
DTSTAMP:20260419T183606
CREATED:20170707T100424Z
LAST-MODIFIED:20170707T100424Z
UID:993-1500400800-1500408000@centrumholi.pl
SUMMARY:JOGA w pracy z emocjami i przeciwdziałaniu depresji
DESCRIPTION:Zapraszamy na warsztaty podczas których praktyka ukierunkowana będzie na aspekty: \n\npracy z obszarami emocji w ciele\nrozluźniania napięć i „zbroi mięśniowej”\nwzmacniania odporności psychicznej\nodpuszczania\nuspakajania umysłu i myśli\n\nPodczas warsztatów dowiesz się w jaki sposób joga może wpływać na Twój stan emocjonalny i w jaki sposób wykonywać asany by przynosiły ukojenie i wzmocnienie wewnętrzne. \nBędziemy praktykować asany\, które: \n\nkoją emocje\nwyciszają umysł\ndodają radości i energii w ciele.\n\nZapraszamy! \nORGANIZACJA\nInwestycja: 40 zł\nZapisy: klub@centrumholi.pl\nPotwierdzeniem rezerwacji jest wpłata na konto: 31 1050 1461 1000 0091 1144 8958 \nPromocja: warsztaty „Mindfulness w przeciwdziałaniu depresji”(11.07) oraz „Joga w pracy z emocjami” (18.07) razem 80 zł \nWarsztaty będą także wprowadzeniem do kursu Mindfulness Of Mind Retreat ukierunkowanego na budowanie odporoności psychicznej i przeciwdziałaniu depresji. Kurs zaczyna się 8.08.17. \nProwadzi: Sylwia Rogala-Marciniak\nCertyfikowany nauczyciel mindfulness (certyfikat MBSR Maindfulness Based Stress Reduction wydany przez Institute for Mindfulness-Based Approaches/Polski Instytut Mindfulness\, http://www.polski-instytut-mindfulness.pl/nauczyciele/lista-nauczycieli/sylwia-rogala-marciniak)\, opiekun merytoryczny i wykładowca kształcenia podyplomowego na Uniwersytecie Łódzkim\, superwizor i mentor coach CoachingSteps™ przy Pracowni Rozwoju Kompetencji UŁ. Dyrektor Łódzkiego Oddziału Izby Coachingu oraz Festiwalu PROGRESSteron w Łodzi. Twórca HOLI Centrum Uważności. Erickson International Coach\, Certyfikowany trener biznesu szkoły Trenerów i Konsultantów Zarządzania MATRIK – metodologia oparta na międzynarodowych standardach NVQ International Trainers Certification in Training\, Learning and Development – MATRIK & Pearson Edexcel International. Współautorka bestsellera „Coaching. Zbiór narzędzi wspierania rozwoju” (Wolters Kluwer Polska – ABC\, 2012r. ). Od 15 lat praktykuje jogę i medytację\, aktualnie rozwija się na kursie nauczycielskim jogi metodą BKS. Iyengara u Konrada Kocota. Treningi redukcji stresu\, uważności i medytacji prowadzi od 2008 roku\, od dwóch lat w formie pełnych certyfikowanych kursów MBSR. Ma za sobą ponad 3 tyś godzin na sali szkoleniowej i 600 h indywidualnej pracy na sesjach. \n 
URL:https://centrumholi.pl/event/joga-w-pracy-z-emocjami-i-przeciwdzialaniu-depresji/
CATEGORIES:Joga,Rozwój Osobisty
ATTACH;FMTTYPE=:
END:VEVENT
BEGIN:VEVENT
DTSTART;TZID=Europe/Warsaw:20170711T180000
DTEND;TZID=Europe/Warsaw:20170711T203000
DTSTAMP:20260419T183606
CREATED:20170707T095042Z
LAST-MODIFIED:20170707T095042Z
UID:984-1499796000-1499805000@centrumholi.pl
SUMMARY:Warsztaty Mindfulness w przeciwdziałaniu depresji
DESCRIPTION:Mindfulness oznacza bycie „w pełni umysłu”\, definiując uważność jako pełną świadomość osiąganą w następstwie celowego i nieosądzającego skierowania uwagi na chwilę bieżącą. W efekcie możliwe staje się widzenie rzeczy dokładnie takimi\, jakie są i tylko takimi.  Taka na pozór niewielka zmiana sposobu percepcji niesie za sobą ogromny potencjał dając możliwość zatrzymania się i skierowania uwagi do wewnątrz i dostrzeżenia tego\, co  w nas prawdziwe.  A uważne dostrzeganie własnych myśli\, przekonań i emocji\, takimi jakimi są\, otwiera nową przestrzeń do zmiany. \nZdawanie sobie sprawy z tego\, co robimy\, w momencie w którym to robimy pozwala na dokonywanie w pełni świadomych wyborów naszego toku myślenia i  działania. Nasze umysły choć mogą pracować w kilku różnych trybach myślenia\, często pozostają niejako na automatycznym pilocie.  Rutynowe sposoby interpretowania i reagowania\,  uruchamiają nawykowe zachowania\, znane i typowe dla nas emocje\, a w konsekwencji rozpamiętywanie\, negatywne myślenie\, stres czy depresję\, które co należy podkreślić\, w mniejszym stopniu związane są z tym co aktualne\, a w większym z tym co przez nas negatywnie przewidywane lub negatywnie wspominane.  Innymi słowy\, działając\, myśląc i odczuwając w trybie automatycznego pilota nie dostrzegamy już rzeczy takimi jakimi są\, lecz takimi jakimi schematycznie zwykliśmy je postrzegać. \nKiedy natomiast jesteśmy uważnie świadomi tego\, co robimy i co odczuwamy\, wprowadzamy nowy sposób postrzegania i przestawiamy nasz umysł w inny tryb\, w którym znacznie mniej prawdopodobne jest utknięcie w schemacie negatywnego czy nawet obsesyjnego myślenia. \nTaki transformujący i zapobiegawczy wpływ świadomej uważności dostrzegł dr Jon Kabat-Zinn tworząc w oparciu o praktykę mindfulness program medyczny i psycho-edukacyjny dla osób cierpiących na chroniczny ból fizyczny i zaburzenia emocjonalne.  Ogromna skuteczność technik redukcji stresu opartych na uważności spowodowała wypracowanie terapii opartej na uważności i skoncentrowanej na zapobieganiu nawrotom depresji. \nUtrzymywanie się i pogłębianie depresji jest często zasilane strumieniami negatywnych myśli nieustająco przepływających w umyśle (takich jak „moje życie to dramat”\, „nie dam rady już dalej”\, „co jest ze mną nie tak?” itp.). Przekierowanie uwagi z tych nawracających strumieni myślowych\, na uważne uświadamianie i doświadczanie tego co robimy i co odczuwamy dokładnie w chwili kiedy to robimy i odczuwamy\, osłabia i ostatecznie odłącza to co w naszym umyśle utrzymuje nas w depresji. \nPodczas warsztatów: \n\nsprawdzisz na czym polega praktyka uważności i jaki ma związek z wewnętrznym światem emocji\npoznasz podstawowe praktyki uważności wspierające pracę z emocjami i myślami\ndowiesz się w jaki sposób budować odporność psychiczną każdego dnia\notrzymasz ćwiczenie do samodzielnej praktyki w domu\nodczujesz więcej wewnętrznego spokoju zamiast bałaganu myśli.\n\nZapraszamy! \nOrganizacja\nInwestycja: 50 zł \nZapisy: klub@centrumholi.pl \nPotwierdzeniem rezerwacji jest wpłata na konto: 31 1050 1461 1000 0091 1144 8958 \nPromocja: warsztaty „Mindfulness w przeciwdziałaniu depresji”(11.07) oraz „Joga w pracy z emocjami” (18.07) razem 80 zł \nWarsztaty będą także wprowadzeniem do kursu Mindfulness Of Mind Retreat ukierunkowanego na budowanie odporoności psychicznej i przeciwdziałaniu depresji. Kurs zaczyna się 8.08.17. \n  \nProwadzi: Sylwia Rogala-Marciniak\nCertyfikowany nauczyciel mindfulness (certyfikat MBSR Maindfulness Based Stress Reduction wydany przez Institute for Mindfulness-Based Approaches/Polski Instytut Mindfulness\, http://www.polski-instytut-mindfulness.pl/nauczyciele/lista-nauczycieli/sylwia-rogala-marciniak)\, opiekun merytoryczny i wykładowca kształcenia podyplomowego na Uniwersytecie Łódzkim\, superwizor i mentor coach CoachingSteps™ przy Pracowni Rozwoju Kompetencji UŁ. Dyrektor Łódzkiego Oddziału Izby Coachingu oraz Festiwalu PROGRESSteron w Łodzi. Twórca HOLI Centrum Uważności. Erickson International Coach\, Certyfikowany trener biznesu szkoły Trenerów i Konsultantów Zarządzania MATRIK – metodologia oparta na międzynarodowych standardach NVQ International Trainers Certification in Training\, Learning and Development – MATRIK & Pearson Edexcel International. Współautorka bestsellera „Coaching. Zbiór narzędzi wspierania rozwoju” (Wolters Kluwer Polska – ABC\, 2012r. ). Od 15 lat praktykuje jogę i medytację\, aktualnie rozwija się na kursie nauczycielskim jogi metodą BKS. Iyengara u Konrada Kocota. Treningi redukcji stresu\, uważności i medytacji prowadzi od 2008 roku\, od dwóch lat w formie pełnych certyfikowanych kursów MBSR. Ma za sobą ponad 3 tyś godzin na sali szkoleniowej i 600 h indywidualnej pracy na sesjach.
URL:https://centrumholi.pl/event/warsztaty-mindfulness-w-przeciwdzialaniu-depresji/
CATEGORIES:Mindfulness,Rozwój Osobisty
ATTACH;FMTTYPE=:
END:VEVENT
BEGIN:VEVENT
DTSTART;TZID=Europe/Warsaw:20160304T170000
DTEND;TZID=Europe/Warsaw:20160304T200000
DTSTAMP:20260419T183606
CREATED:20160215T231442Z
LAST-MODIFIED:20160215T231442Z
UID:1164-1457110800-1457121600@centrumholi.pl
SUMMARY:Mindfulness - uzdrawiająca moc uważności w przeciwdziałaniu depresji
DESCRIPTION:Warsztaty realizowane w ramach akcji psychoedukacyjnej RE:akcja w depresji  http://reakcjawdepresji.pl \nMindfulness pozwala zwolnić\, lecz to nie znaczy że w życiu robi się nudno. Wręcz przeciwnie. Dopiero wtedy jesteśmy w stanie dostrzec wielobarwność każdej chwili\, być w pełnym znaczeniu frazy „tu i teraz”. Co ciekawe\, kiedy przestajemy za czymś gonić\, kiedy „odpuszczamy” – to rozwiązanie samo przychodzi.Uważność to możliwość bycia opanowanym\, spokojnym i stabilnym wewnętrznie – zarówno w pracy\, w roli zawodowej jak i w życiu prywatnym\, w roli partnera czy rodzica.Stan uważności w umyśle można porównać do istnienia jeziora – nawet jeśli pogoda jest zmienna\, pada deszcz\, czy wieje wiatr – to jedynie dotyka tafli wody. Pod spodem panuje cisza i niczym nieporuszone życie toczy się swoim tempem\, w spokoju.. w naszym życiu też spotykają nas różne „warunki atmosferyczne” a bycie uważnym pozwala zachować ten stan wewnętrznego spokoju. Jezioro się nie napina\, nie krzyczy\, po prostu jest. \nPodczas warsztatów: \n\nzdefiniujemy się czym jest mindfulness\, na czym polega praktyka uważności i jaki ma związek z wewnętrznym światem emocji\npokażemy podstawowe praktyki zawierające się w MBSR (Mindfulness Based Stress Reduction)\nporozmawiamy o warunkach efektywności tej metody\nzastanowimy się w jaki sposób może ona być pomocna w przeciwdziałaniu depresji.
URL:https://centrumholi.pl/event/mindfulness-uzdrawiajaca-moc-uwaznosci-w-przeciwdzialaniu-depresji/
CATEGORIES:Mindfulness
END:VEVENT
END:VCALENDAR