BEGIN:VCALENDAR
VERSION:2.0
PRODID:-//Mindfulness LAB — Sylwia RoMa — HOLI Body&amp;Mind - ECPv6.15.14//NONSGML v1.0//EN
CALSCALE:GREGORIAN
METHOD:PUBLISH
X-WR-CALNAME:Mindfulness LAB — Sylwia RoMa — HOLI Body&amp;Mind
X-ORIGINAL-URL:https://centrumholi.pl
X-WR-CALDESC:Wydarzenia dla Mindfulness LAB — Sylwia RoMa — HOLI Body&amp;Mind
REFRESH-INTERVAL;VALUE=DURATION:PT1H
X-Robots-Tag:noindex
X-PUBLISHED-TTL:PT1H
BEGIN:VTIMEZONE
TZID:Europe/Warsaw
BEGIN:DAYLIGHT
TZOFFSETFROM:+0100
TZOFFSETTO:+0200
TZNAME:CEST
DTSTART:20140330T010000
END:DAYLIGHT
BEGIN:STANDARD
TZOFFSETFROM:+0200
TZOFFSETTO:+0100
TZNAME:CET
DTSTART:20141026T010000
END:STANDARD
BEGIN:DAYLIGHT
TZOFFSETFROM:+0100
TZOFFSETTO:+0200
TZNAME:CEST
DTSTART:20150329T010000
END:DAYLIGHT
BEGIN:STANDARD
TZOFFSETFROM:+0200
TZOFFSETTO:+0100
TZNAME:CET
DTSTART:20151025T010000
END:STANDARD
BEGIN:DAYLIGHT
TZOFFSETFROM:+0100
TZOFFSETTO:+0200
TZNAME:CEST
DTSTART:20160327T010000
END:DAYLIGHT
BEGIN:STANDARD
TZOFFSETFROM:+0200
TZOFFSETTO:+0100
TZNAME:CET
DTSTART:20161030T010000
END:STANDARD
BEGIN:DAYLIGHT
TZOFFSETFROM:+0100
TZOFFSETTO:+0200
TZNAME:CEST
DTSTART:20170326T010000
END:DAYLIGHT
BEGIN:STANDARD
TZOFFSETFROM:+0200
TZOFFSETTO:+0100
TZNAME:CET
DTSTART:20171029T010000
END:STANDARD
BEGIN:DAYLIGHT
TZOFFSETFROM:+0100
TZOFFSETTO:+0200
TZNAME:CEST
DTSTART:20180325T010000
END:DAYLIGHT
BEGIN:STANDARD
TZOFFSETFROM:+0200
TZOFFSETTO:+0100
TZNAME:CET
DTSTART:20181028T010000
END:STANDARD
BEGIN:DAYLIGHT
TZOFFSETFROM:+0100
TZOFFSETTO:+0200
TZNAME:CEST
DTSTART:20190331T010000
END:DAYLIGHT
BEGIN:STANDARD
TZOFFSETFROM:+0200
TZOFFSETTO:+0100
TZNAME:CET
DTSTART:20191027T010000
END:STANDARD
END:VTIMEZONE
BEGIN:VEVENT
DTSTART;TZID=Europe/Warsaw:20181201T100000
DTEND;TZID=Europe/Warsaw:20181201T173000
DTSTAMP:20260420T063148
CREATED:20180830T070753Z
LAST-MODIFIED:20180830T070753Z
UID:1086-1543658400-1543685400@centrumholi.pl
SUMMARY:Mindful Coach & Mindfulness Based Coaching - warsztaty dla praktyków
DESCRIPTION:Czy masz cierpliwość czekać \naż twój muł opadnie i woda stanie się klarowna? \nCzy potrafisz trwać nieporuszony \naż właściwe działanie zrodzi się samo z siebie? \nLAO-TZU: Jao-te-Ching \nDlaczego Mindfulness w coachingu?\nKażdy kto zetknął się z coachingiem  wie\, że bycie dobrym coachem związane jest z posiadaniem pewnych umiejętności – a jedną z kluczowych jest autentyczne\, głębokie słuchanie. To słuchanie jest punktem wyjścia do dalszych poczynań w rozmowie z klientem\, a mianowicie zadania wspaniałych\, mocnych i trafiających w sedno pytań. \nPoczątkujący coachowie doświadczają zazwyczaj stanu\, w którym klient mówi\, a coach wertuje w umyśle te 100 najlepszych pytań\, które ma zapisane w różnych miejscach swoich notatek. I nawet jeśli któreś z nich mogłoby pasować\, nie zdąży dojść do tego\, gdyż w momencie gdy jego uwaga spoczywa na wertowaniu kart pamięci klient jest już zupełnie gdzie indziej\, a owo super-pytanie przestało pasować. \nNo właśnie. Godziny szkoleń i jeszcze więcej pracy własnej trzeba poświęcić\, by zrozumieć (pojąć naprawdę) właściwy kierunek. A jest dość prosty: słuchasz – nie mówisz. Słuchasz – nie myślisz. Bo słuchasz. Patrzysz\, obserwujesz\, doświadczasz świata rozmówcy w całości i w każdej części. Nie myślisz. Po prostu jesteś. I wtedy\, gdzieś z głębi Twojej intuicji\, z poziomu serca\, brzucha\, z prawdy\, wypływa ono – niesamowicie trafne\, czyste w formie i trafiające w sedno pytanie. Warte górę złota\, czyniące prawdziwą różnicę… \nZnasz to? Tym lepiej. Wiesz zatem\, co jest potrzebne\, by być w tej czystej przestrzeni umysłu. \nMindfulness oznacza bycie „w pełni umysłu”\, czyli w pełnej świadomości swoich myśli\, doznań i przeżyć. To doświadczenie pozwala na głeboki wgląd w swój umysł i doświadczenie prawdy o sobie. Jon Kabat-Zinn (twórca metody) nazywa uważność jako świadomość wyłaniającą się w wyniku kierowania uwagi na bieżącą chwilę\, w sposób celowy i nieosądzający. \nW coaching jest to nie tylko przydatna umiejętność\, ale też \, wraz z obecnością\, tworzą duet kluczowych kompetencji profesjonalnego coacha. Jak podaje ICF: „Obecność coachingowa – zdolność bycia w pełni świadomym oraz tworzenia spontanicznej relacji z klientem\, stosowanie stylu\, który jest zarówno otwarty\, elastyczny\, jak również daje poczucie pewności.” \nUważność pozwala na zbudowanie autentycznej i partnerskiej relacji. Daje możliwość bycia obecnym podczas sesji coachingowej w sposób pełny i dający głęboki wgląd w proces klienta. Pozwala na słuchanie „wielkim uchem”\, a także na zadawanie pytań sięgających do sedna. Wreszcie\, dając możliwość wglądu również w siebie – rodzi samoświadomość i pozwala na wydobycie odwagi – do odzwierciedlania\, do dociekania\, do eksperymentowania  w kontakcie z klientem. \nUważność pozwala na wyjście poza szablon. Na bycie przy kliencie w dokładnie taki sposób\, jaki jest mu potrzebny w tej jedynej autentycznej chwili. Na porzucenie wszelkich swoich „muszę teraz…”\, „wypadałoby żeby…” na rzecz po prostu bycia obecnym\, po prostu zauważania. \nCelem warsztatu jest zapoznanie uczestników z możliwościami wykorzystana mindfulness w pracy z klientem coachingowym. \nPodczas warsztatu dowiesz się: \n\nkim jest uważny coach w rozumieniu mindfulness\nw jaki sposób rozwijać uważność – u siebie\, u klienta\nna czym polega praktyka mindfulness i w jaki sposób można ją wykorzystać w swojej pracy coachingowej\n\nPonad to spotkasz się również z własną uważnością podczas ćwiczeń medytacyjnych. Otrzymasz certyfikat potwierdzający udział w warsztacie wydany przez Pracownię Rozwoju Kompetencji przy UŁ. \n  \nW PROGRAMIE SZKOLENIA\nMODUŁ I :: MINDFULNESS ::\n\nCzym jest uważność?\nPodstawowe komponenty mindfulness: odłączenie automatycznego pilota\, nieocenne postrzeganie\, zarządzanie swoimi emocjami i porządkowanie myśli\, świadomość siebie\, empatia\nPostawa „umysłu początkującego”. Postrzeganie siebie i świata\nTrening uważności\n\nMODUŁ II :: MINDFUL COACH ::\n\nUważny Coach jako Wewnętrzna Postawa\nTechniki rozwijające uważność osobistą\nUmiejętność uważnego słuchania wg. mindfulness\nRozwijanie zaufania i akceptacji\nUważność na siebie.\n\nMODUŁ III :: MINDFULNESS BASED COACHING ::\n\nSłowa – energia tego\, co mówi klient.\nCiało – elementy pracy z ciałem w coachingu.\nEnergia –  słuchanie na trzecim poziomie i odzwierciedlanie odczuć.\nIntuicja – współodczuwanie klienta\, podążanie za swoją intuicją w coachingu.\n\n  \nDLA KOGO?\nNa warsztat zapraszamy wszystkich Coachów – zarówno rozpoczynających swoja działalność jak i praktykujących od jakiegoś czasu\, pragnących pogłębić obszar obecności w kontakcie z klientem. Z Warsztatu skorzystać mogą także psychologowie\, terapeuci\, doradcy\, pedagodzy i wszyscy pracujący w obszarze wspierania rozwoju. \n  \n„Praktyka uważności oznacza\, że w każdej chwili jesteśmy całkowicie obecni. Nie będzie żadnego „przedstawienia”. Jest tylko ta chwila. Nie próbujemy niczego polepszyć ani gdzieś dotrzeć. Nie dążymy nawet do szczególnych wglądów i wizji. Nie zmuszamy się również do porzucenia osądów\, do osiągnięcia spokoju albo relaksu. W żadnym razie nie pobudzamy  samoświadomości ani nie skupiamy się na własnych troskach. Zamiast tego jedynie zachęcamy siebie do w pełni świadomego spotkania z obecną chwilą\, by najlepiej\, jak potrafimy\, zrealizować stan ciszy\, uważności i spokoju\, właśnie tutaj i właśnie teraz.”  \nJ.Kabat-Zinn „Gdziekolwiek jesteś\, bądź” \nZapraszam 😉 \n  \nORGANIZACJA\nTermin: 1.12.2018r. (Łódź) \nInwestycja: 390 zł \nZniżki: \n\nwczesna wpłata: 290 zł do dnia 31.10.\, 350 zł do dnia 15.11.\nabsolwenci studiów coachingowych na Ek-Soc UŁ: 290 zł (wpłata do 15.11.)\ndwie osoby: 520 zł (wpłata do 15.11.).\n\nZapisy: klub@centrumholi.pl \nPotwierdzeniem rezerwacji jest wpłata. \nPROWADZI:\nSylwia Rogala-Marciniak – Erickson International Coach\, certyfikowany nauczyciel mindfulness (certyfikat MBSR Maindfulness Based Stress Reduction wydany przez Institute for Mindfulness-Based Approaches/Polski Instytut Mindfulness)\, opiekun merytoryczny i wykładowca kształcenia podyplomowego na Uniwersytecie Łódzkim\, superwizor i mentor coach CoachingSteps™ przy Pracowni Rozwoju Kompetencji UŁ. W latach 2015 – 2017 pełniła funkcję dyrektorki Łódzkiego Oddziału Izby Coachingu oraz Festiwalu PROGRESSteron w Łodzi. Twórca HOLI Centrum Uważności\, ośrodka zajmującego się medytacją mindfulness. Certyfikowany trener biznesu szkoły Trenerów i Konsultantów Zarządzania MATRIK   – metodologia oparta na międzynarodowych standardach NVQ International Trainers Certification in Training\, Learning and Development – MATRIK & Pearson Edexcel International. Współautorka bestsellera „Coaching. Zbiór narzędzi wspierania rozwoju” (Wolters Kluwer Polska – ABC\, 2012r. ). Ma za sobą ponad 3 tyś godzin na sali szkoleniowej i 600 h sesji indywidualnych. Treningi redukcji stresu\, uważności i medytacji prowadzi od 2008 roku\, a od 2015 roku w formie pełnych certyfikowanych kursów MBSR. Zafascynowana kulturą dalekiego wschodu\, często podróżuje w tamte kierunki świata. Jogę i medytację praktykuje od 16 lat\, odnajdując w niej wciąż coś nowego na  kolejnych etapach swojego życia.
URL:https://centrumholi.pl/event/mindful-coach-mindfulness-based-coaching-warsztaty-dla-praktykow-2/
CATEGORIES:Coaching,Mindfulness,Rozwój Osobisty
ATTACH;FMTTYPE=:
END:VEVENT
BEGIN:VEVENT
DTSTART;TZID=Europe/Warsaw:20170528T090000
DTEND;TZID=Europe/Warsaw:20170528T180000
DTSTAMP:20260420T063148
CREATED:20170427T094353Z
LAST-MODIFIED:20170427T094353Z
UID:921-1495962000-1495994400@centrumholi.pl
SUMMARY:Train The Trainer - Początek - warsztat Points of You®
DESCRIPTION:Zapraszamy na warsztat Points of You® -TrainTheTrainer – POCZĄTEK! \nTo wyjątkowa metoda do pracy dla Coachów oraz wszystkich\, którzy pracują z ludźmi indywidualnie bądź grupowo i poszukują nowych możliwości wyrażania myśli\, emocji. \nPodczas warsztatu doświadczysz własnego procesu\, ale również: \n\npoznasz jak należy używać narzędzia The Coaching Game i Punctum w procesach grupowych i indywidualnych;\nnauczysz się jak odkrywać wiele różnych punktów widzenia\,\npoznasz jak można ułatwić komunikację międzyludzką;\notrzymasz arkusze i szablony do różnych działań\, które będą pomocne w pracy z klientem coachingowym\, pracownikami oraz będą pomocne\, gdy chcesz mile spędzić czas w gronie przyjaciół;\nporozmawiamy o tym jak powstało Points of You® i dlaczego jest tak wyjątkowym narzędziem coachingowym\nbędzie czekać na Ciebie niespodzianka 🙂\n\nZa udział w warsztacie otrzymasz 6 punktów CCE ICF oraz międzynarodowy certyfikat Points of You®\, który daje uprawnienia do pracy z narzędziami The Coaching Game zgodnie z metodą i filozofią Points of You® \n  \nPROWADZĄCA\nBeata Gumińska-Wojtczak – Certyfikowany Coach CoachWise Equipped® \, Mentor CoachWise Essential® oraz Certyfikowany Trener Points of You®\nAbsolwentka studiów doktoranckich w obszarze strategii biznesowych i wieloletni wykładowca w Społecznej Akademi Nauk i na Uniwersytecie Łódzkim. Absolwentka Studiów Doktoranckich na Uniwersytecie Łódzkim. Jestem współautorem książki i specjalistycznych artykułów z zakresu strategii finansowych. Od kilkunastu lat pracuję jako Dyrektor Finansowy dla międzynarodowych korporacji i pełnię funkcje zarządcze.\nSpecjalizuje się w excutive i business coaching’u\, a także w temacie przywództwa przyszłości i budowaniu biznesowych strategii firm. Prowadzę treningi i coachingi w języku polskim i angielskim.\nJestem autorką warsztatu „Teal Leadership” – o przywództwie przyszłości w ramach Akademii Turkusowego Przywództwa akredytowanego przez ICF Global\, który otrzymał 26 CCEU’s ICF.\nMoje motto „Żyj tak jakbyś miał umrzeć jutro. Ucz się tak jakbyś miał żyć wiecznie” – Mahatma Gandhi. \nORGANIZACJA\n\nZapisy i informacje o płatnościach: beata.guminska@gmail.com \nMamy ogromną nadzieję\, że się spotkamy!
URL:https://centrumholi.pl/event/train-the-trainer-poczatek-warsztat-points-of-you/
CATEGORIES:Coaching,Rozwój Osobisty
ATTACH;FMTTYPE=:
END:VEVENT
BEGIN:VEVENT
DTSTART;TZID=Europe/Warsaw:20160212T080000
DTEND;TZID=Europe/Warsaw:20160212T170000
DTSTAMP:20260420T063148
CREATED:20160212T140515Z
LAST-MODIFIED:20160212T140515Z
UID:1161-1455264000-1455296400@centrumholi.pl
SUMMARY:DKC WROCŁAW: MIĘDZY MINDFULNESS A COACHINGIEM
DESCRIPTION:Celem warsztatu jest zapoznanie uczestników z możliwościami wykorzystana mindfulness w pracy z klientem coachingowym. \nW praktyce coachingowej uważność jest jedną z kluczowych kompetencji profesjonalnego coacha. Uważność pozwala na zbudowanie autentycznej i partnerskiej relacji. Daje możliwość bycia obecnym podczas sesji coachingowej w sposób pełny i dający głęboki wgląd w proces klienta. Pozwala na słuchanie „wielkim uchem”\, a także na zadawanie pytań sięgających do sedna. Wreszcie\, dając możliwość wglądu również w siebie – rodzi samoświadomość i pozwala na wydobycie odwagi – do odzwierciedlania\, do dociekania\, do eksperymentowania w kontakcie z klientem. \nUważność pozwala na wyjście poza szablon. Na bycie przy kliencie w dokładnie taki sposób\, jaki jest mu potrzebny w tej jedynej autentycznej chwili. Na porzucenie wszelkich swoich „muszę teraz…”\, „wypadałoby żeby…” na rzecz po prostu bycia obecnym\, po prostu zauważania. \nJeśli chcesz poznać koncepcję mindfulness\, albo ją znasz i chcesz dowiedzieć się w jaki sposób można ją przełożyć na swoją pracę z klientem – to właśnie będzie tematem tego spotkania. \nPodczas warsztatu dowiesz się kim jest uważny coach i w jaki sposób rozwijać uważność w swojej praktyce. Poznasz praktykę uważności\, którą będziesz mógł wykorzystać podczas sesji coachingowej. Spotkasz się też z własną uważnością podczas ćwiczeń medytacyjnych. \nWarsztaty inspirowane są koncepcją uważności (Mindfulness) J. Kabat-Zinna. \n  \nOrganizacja: \n1) WARSZTATY 3 H  REALIZOWANE SĄ W RAMACH SPOTKAŃ DYSKUSYJNYCH KLUBÓW COACHINGU IZBY COACHINGU  \nterminy spotkań: \n\n3.12.2015r. Kielce\n11.02.2016r. Katowice\n12.02.2016r. Wrocław\n\nProwadzi: Sylwia Rogala-Marciniak \nCertyfikowany trener biznesu\, Erickson International Coach. Absolwentka Akademii Ekonomicznej w Krakowie\, Szkoły Trenerów SKiTZ Matrik oraz akredytowanego przy ICF programu „Art and Science of Coaching” Erickson College International . Jako Opiekun Merytoryczny Podyplomowego Studium Coachingu i Mentoringu Organizacyjnego oraz Life-Coachingu na UŁ jest odpowiedzialna za zawartość merytoryczną i jakość programu oraz dobór kadry trenerskiej. Jako Superwizor i Mentor Coach CoachingSteps™ prowadzi również programy szkoleniowe\, sesje superwizowane i sesje mentor coachingu oraz pracuje nad nowymi produktami na potrzeby coachów\, liderów i organizacji. Jest Dyrektorem Łódzkiego Oddziału Izby Coachingu. Tworzy i rozwija pracownię uważności Centrum HOLI (www.centrumholi.pl) . Swoje umiejętności zawodowe doskonaliła uczestnicząc m.in. w programach CoachWise Coaching Essentials™\, Transforming Communication™\, Family Coaching  -Erickson College International. Aktualnie rozwija się na kursie trenerskim MBSR (Maindfulness Based Stress Reduction) organizowanym przez Institute for Mindfulness-Based Approaches. Publikuje w czasopismach specjalistycznych\, jest także współautorem publikacji „Coaching. Zbiór narzędzi wspierania rozwoju” (Wolters Kluwer 2012).
URL:https://centrumholi.pl/event/dkc-wroclaw-miedzy-mindfulness-a-coachingiem/
LOCATION:2_10
CATEGORIES:Coaching,Mindfulness
END:VEVENT
BEGIN:VEVENT
DTSTART;TZID=Europe/Warsaw:20160211T173000
DTEND;TZID=Europe/Warsaw:20160211T203000
DTSTAMP:20260420T063148
CREATED:20160212T140231Z
LAST-MODIFIED:20160212T140231Z
UID:1160-1455211800-1455222600@centrumholi.pl
SUMMARY:DKC KATOWICE: MIĘDZY MINDFULNESS A COACHINGIEM
DESCRIPTION:Celem warsztatu jest zapoznanie uczestników z możliwościami wykorzystana mindfulness w pracy z klientem coachingowym. \nW praktyce coachingowej uważność jest jedną z kluczowych kompetencji profesjonalnego coacha. Uważność pozwala na zbudowanie autentycznej i partnerskiej relacji. Daje możliwość bycia obecnym podczas sesji coachingowej w sposób pełny i dający głęboki wgląd w proces klienta. Pozwala na słuchanie „wielkim uchem”\, a także na zadawanie pytań sięgających do sedna. Wreszcie\, dając możliwość wglądu również w siebie – rodzi samoświadomość i pozwala na wydobycie odwagi – do odzwierciedlania\, do dociekania\, do eksperymentowania w kontakcie z klientem. \nUważność pozwala na wyjście poza szablon. Na bycie przy kliencie w dokładnie taki sposób\, jaki jest mu potrzebny w tej jedynej autentycznej chwili. Na porzucenie wszelkich swoich „muszę teraz…”\, „wypadałoby żeby…” na rzecz po prostu bycia obecnym\, po prostu zauważania. \nJeśli chcesz poznać koncepcję mindfulness\, albo ją znasz i chcesz dowiedzieć się w jaki sposób można ją przełożyć na swoją pracę z klientem – to właśnie będzie tematem tego spotkania. \nPodczas warsztatu dowiesz się kim jest uważny coach i w jaki sposób rozwijać uważność w swojej praktyce. Poznasz praktykę uważności\, którą będziesz mógł wykorzystać podczas sesji coachingowej. Spotkasz się też z własną uważnością podczas ćwiczeń medytacyjnych. \nWarsztaty inspirowane są koncepcją uważności (Mindfulness) J. Kabat-Zinna. \n \nOrganizacja: \n1) WARSZTATY 3 H  REALIZOWANE SĄ W RAMACH SPOTKAŃ DYSKUSYJNYCH KLUBÓW COACHINGU IZBY COACHINGU  \nterminy spotkań: \n\n3.12.2015r. Kielce\n11.02.2016r. Katowice\n12.02.2016r. Wrocław\n\nProwadzi: Sylwia Rogala-Marciniak \nCertyfikowany trener biznesu\, Erickson International Coach. Absolwentka Akademii Ekonomicznej w Krakowie\, Szkoły Trenerów SKiTZ Matrik oraz akredytowanego przy ICF programu „Art and Science of Coaching” Erickson College International . Jako Opiekun Merytoryczny Podyplomowego Studium Coachingu i Mentoringu Organizacyjnego oraz Life-Coachingu na UŁ jest odpowiedzialna za zawartość merytoryczną i jakość programu oraz dobór kadry trenerskiej. Jako Superwizor i Mentor Coach CoachingSteps™ prowadzi również programy szkoleniowe\, sesje superwizowane i sesje mentor coachingu oraz pracuje nad nowymi produktami na potrzeby coachów\, liderów i organizacji. Jest Dyrektorem Łódzkiego Oddziału Izby Coachingu. Tworzy i rozwija pracownię uważności Centrum HOLI (www.centrumholi.pl) . Swoje umiejętności zawodowe doskonaliła uczestnicząc m.in. w programach CoachWise Coaching Essentials™\, Transforming Communication™\, Family Coaching  -Erickson College International. Aktualnie rozwija się na kursie trenerskim MBSR (Maindfulness Based Stress Reduction) organizowanym przez Institute for Mindfulness-Based Approaches. Publikuje w czasopismach specjalistycznych\, jest także współautorem publikacji „Coaching. Zbiór narzędzi wspierania rozwoju” (Wolters Kluwer 2012).
URL:https://centrumholi.pl/event/dkc-katowice-miedzy-mindfulness-a-coachingiem/
CATEGORIES:Coaching,Mindfulness
END:VEVENT
BEGIN:VEVENT
DTSTART;TZID=Europe/Warsaw:20151203T180000
DTEND;TZID=Europe/Warsaw:20151203T210000
DTSTAMP:20260420T063148
CREATED:20160212T135754Z
LAST-MODIFIED:20160212T135754Z
UID:4764-1449165600-1449176400@centrumholi.pl
SUMMARY:DKC KIELCE: MIĘDZY MINDFULNESS A COACHINGIEM
DESCRIPTION:Celem warsztatu jest zapoznanie uczestników z możliwościami wykorzystana mindfulness w pracy z klientem coachingowym. \nW praktyce coachingowej uważność jest jedną z kluczowych kompetencji profesjonalnego coacha. Uważność pozwala na zbudowanie autentycznej i partnerskiej relacji. Daje możliwość bycia obecnym podczas sesji coachingowej w sposób pełny i dający głęboki wgląd w proces klienta. Pozwala na słuchanie „wielkim uchem”\, a także na zadawanie pytań sięgających do sedna. Wreszcie\, dając możliwość wglądu również w siebie – rodzi samoświadomość i pozwala na wydobycie odwagi – do odzwierciedlania\, do dociekania\, do eksperymentowania w kontakcie z klientem. \nUważność pozwala na wyjście poza szablon. Na bycie przy kliencie w dokładnie taki sposób\, jaki jest mu potrzebny w tej jedynej autentycznej chwili. Na porzucenie wszelkich swoich „muszę teraz…”\, „wypadałoby żeby…” na rzecz po prostu bycia obecnym\, po prostu zauważania. \nJeśli chcesz poznać koncepcję mindfulness\, albo ją znasz i chcesz dowiedzieć się w jaki sposób można ją przełożyć na swoją pracę z klientem – to właśnie będzie tematem tego spotkania. \nPodczas warsztatu dowiesz się kim jest uważny coach i w jaki sposób rozwijać uważność w swojej praktyce. Poznasz praktykę uważności\, którą będziesz mógł wykorzystać podczas sesji coachingowej. Spotkasz się też z własną uważnością podczas ćwiczeń medytacyjnych. \nWarsztaty inspirowane są koncepcją uważności (Mindfulness) J. Kabat-Zinna. \n  \nOrganizacja: \n1) WARSZTATY 3 H  REALIZOWANE SĄ W RAMACH SPOTKAŃ DYSKUSYJNYCH KLUBÓW COACHINGU IZBY COACHINGU  \nterminy spotkań: \n\n3.12.2015r. Kielce\n11.02.2016r. Katowice\n12.02.2016r. Wrocław\n\nProwadzi: Sylwia Rogala-Marciniak \nCertyfikowany trener biznesu\, Erickson International Coach. Absolwentka Akademii Ekonomicznej w Krakowie\, Szkoły Trenerów SKiTZ Matrik oraz akredytowanego przy ICF programu „Art and Science of Coaching” Erickson College International . Jako Opiekun Merytoryczny Podyplomowego Studium Coachingu i Mentoringu Organizacyjnego oraz Life-Coachingu na UŁ jest odpowiedzialna za zawartość merytoryczną i jakość programu oraz dobór kadry trenerskiej. Jako Superwizor i Mentor Coach CoachingSteps™ prowadzi również programy szkoleniowe\, sesje superwizowane i sesje mentor coachingu oraz pracuje nad nowymi produktami na potrzeby coachów\, liderów i organizacji. Jest Dyrektorem Łódzkiego Oddziału Izby Coachingu. Tworzy i rozwija pracownię uważności Centrum HOLI (www.centrumholi.pl) . Swoje umiejętności zawodowe doskonaliła uczestnicząc m.in. w programach CoachWise Coaching Essentials™\, Transforming Communication™\, Family Coaching  -Erickson College International. Aktualnie rozwija się na kursie trenerskim MBSR (Maindfulness Based Stress Reduction) organizowanym przez Institute for Mindfulness-Based Approaches. Publikuje w czasopismach specjalistycznych\, jest także współautorem publikacji „Coaching. Zbiór narzędzi wspierania rozwoju” (Wolters Kluwer 2012).
URL:https://centrumholi.pl/event/dkc-kielce-miedzy-mindfulness-a-coachingiem/
LOCATION:2_14
CATEGORIES:Coaching,Mindfulness
END:VEVENT
END:VCALENDAR