BEGIN:VCALENDAR
VERSION:2.0
PRODID:-//Mindfulness LAB — Sylwia RoMa — HOLI Body&amp;Mind - ECPv6.15.14//NONSGML v1.0//EN
CALSCALE:GREGORIAN
METHOD:PUBLISH
X-WR-CALNAME:Mindfulness LAB — Sylwia RoMa — HOLI Body&amp;Mind
X-ORIGINAL-URL:https://centrumholi.pl
X-WR-CALDESC:Wydarzenia dla Mindfulness LAB — Sylwia RoMa — HOLI Body&amp;Mind
REFRESH-INTERVAL;VALUE=DURATION:PT1H
X-Robots-Tag:noindex
X-PUBLISHED-TTL:PT1H
BEGIN:VTIMEZONE
TZID:Europe/Warsaw
BEGIN:DAYLIGHT
TZOFFSETFROM:+0100
TZOFFSETTO:+0200
TZNAME:CEST
DTSTART:20160327T010000
END:DAYLIGHT
BEGIN:STANDARD
TZOFFSETFROM:+0200
TZOFFSETTO:+0100
TZNAME:CET
DTSTART:20161030T010000
END:STANDARD
BEGIN:DAYLIGHT
TZOFFSETFROM:+0100
TZOFFSETTO:+0200
TZNAME:CEST
DTSTART:20170326T010000
END:DAYLIGHT
BEGIN:STANDARD
TZOFFSETFROM:+0200
TZOFFSETTO:+0100
TZNAME:CET
DTSTART:20171029T010000
END:STANDARD
BEGIN:DAYLIGHT
TZOFFSETFROM:+0100
TZOFFSETTO:+0200
TZNAME:CEST
DTSTART:20180325T010000
END:DAYLIGHT
BEGIN:STANDARD
TZOFFSETFROM:+0200
TZOFFSETTO:+0100
TZNAME:CET
DTSTART:20181028T010000
END:STANDARD
END:VTIMEZONE
BEGIN:VEVENT
DTSTART;TZID=Europe/Warsaw:20170622T194500
DTEND;TZID=Europe/Warsaw:20170622T210000
DTSTAMP:20260420T045226
CREATED:20170608T222944Z
LAST-MODIFIED:20170608T222944Z
UID:4781-1498160700-1498165200@centrumholi.pl
SUMMARY:Kurs JOGA DLA KRĘGOSŁUPA
DESCRIPTION:Zapraszamy na 5-tygodniowy kurs zapoznający z asanami ukierunkowanymi na pracę z kręgosłupem. \nPodczas 5 sesji jogi: \n\npoznasz asany uelastyczniające kręgosłup i wzmacniające plecy\nnauczysz się podstaw do samodzielnej praktyki\ndowiesz się w jaki sposób możesz sobie pomóc w sytuacjach bólu\nzrelaksujesz się i odprężysz ciało\nrozluźnisz napięcia z mięśni pleców\nwyjdziesz z gotowym zestawem ćwiczeń\npo pięciu tygodniach regularnej praktyki poczujesz różnicę!\n\n  \nORGANIZACJA\nTermin: 22.06. – 20.07\, czwartki 19:45-21:00 \nInwestycja: 150 zł za całość \n\nPotwierdzeniem rezerwacji jest przedpłata na konto:\n\n\n31 1050 1461 1000 0091 1144 8958\n\nMasz multi-kartę? Zapytaj o ofertę. \nInformacje i zapisy: klub@centrumholi.pl i 575 44 23 26 \n\n\nZapraszamy! Zgłoszenia przyjmujemy do 18.06.\n\n\n\n\n 
URL:https://centrumholi.pl/event/kurs-joga-dla-kregoslupa/
CATEGORIES:Joga
ATTACH;FMTTYPE=:
END:VEVENT
END:VCALENDAR