BEGIN:VCALENDAR
VERSION:2.0
PRODID:-//Mindfulness LAB — Sylwia RoMa — HOLI Body&amp;Mind - ECPv6.15.14//NONSGML v1.0//EN
CALSCALE:GREGORIAN
METHOD:PUBLISH
X-WR-CALNAME:Mindfulness LAB — Sylwia RoMa — HOLI Body&amp;Mind
X-ORIGINAL-URL:https://centrumholi.pl
X-WR-CALDESC:Wydarzenia dla Mindfulness LAB — Sylwia RoMa — HOLI Body&amp;Mind
REFRESH-INTERVAL;VALUE=DURATION:PT1H
X-Robots-Tag:noindex
X-PUBLISHED-TTL:PT1H
BEGIN:VTIMEZONE
TZID:Europe/Warsaw
BEGIN:DAYLIGHT
TZOFFSETFROM:+0100
TZOFFSETTO:+0200
TZNAME:CEST
DTSTART:20160327T010000
END:DAYLIGHT
BEGIN:STANDARD
TZOFFSETFROM:+0200
TZOFFSETTO:+0100
TZNAME:CET
DTSTART:20161030T010000
END:STANDARD
BEGIN:DAYLIGHT
TZOFFSETFROM:+0100
TZOFFSETTO:+0200
TZNAME:CEST
DTSTART:20170326T010000
END:DAYLIGHT
BEGIN:STANDARD
TZOFFSETFROM:+0200
TZOFFSETTO:+0100
TZNAME:CET
DTSTART:20171029T010000
END:STANDARD
BEGIN:DAYLIGHT
TZOFFSETFROM:+0100
TZOFFSETTO:+0200
TZNAME:CEST
DTSTART:20180325T010000
END:DAYLIGHT
BEGIN:STANDARD
TZOFFSETFROM:+0200
TZOFFSETTO:+0100
TZNAME:CET
DTSTART:20181028T010000
END:STANDARD
END:VTIMEZONE
BEGIN:VEVENT
DTSTART;TZID=Europe/Warsaw:20170616T160000
DTEND;TZID=Europe/Warsaw:20170617T180000
DTSTAMP:20260419T151242
CREATED:20170510T211033Z
LAST-MODIFIED:20170510T211033Z
UID:944-1497628800-1497722400@centrumholi.pl
SUMMARY:ODKRYCIE™.  Warsztat Nowych Ustawień Systemowych
DESCRIPTION:ODKRYCIE™. W poszukiwaniu porządków życia.\nCzwarta edycja!!\nZapraszamy na warsztaty Nowych Ustawień Systemowych. To czas\, w którym doświadczysz głębokiej transformacji i integralności. \nNasze życie jak kalejdoskop zdarzeń\, unikalnych i powtarzalnych zarazem\nBiografia – pełna wzlotów i upadków\nZdrowie – niczym zwierciadło dla kondycji międzyludzkich relacji\nKariera – pełna wyzwań przynoszących brak satysfakcji\nPraca – w ciągłym pędzie stojąc w miejscu\nRodzina i relacje – pełne emocji\, rozstań i powrotów\nMiłość – wytęskniona choć wszechobecna \nNasze życia\, tak przepełnione po brzegi\, a wciąż niepełne szczęścia. \nZapraszamy wszystkich zainteresowanych zrozumieniem i przepracowaniem ukrytych schematów swojego życia\, niepowodzeń i blokad\, poszukujących sposobu na poprawę swoich relacji międzyludzkich\, w rodzinie i w pracy. \nPodczas warsztatu będziemy pracować wykorzystując naukę o związkach i relacjach międzyludzkich leżących u podstaw każdej sfery życia. Metodą nowych ustawień systemowych będziemy odkrywać to co niewidziane\, ukryte i wykluczone w systemie rodzinnym. \nTen moment\, w którym przeszłość styka się z przyszłością\, tu i teraz\, jest najlepszym żeby coś zmienić lub pozostawić z akceptacją. To czas poszukiwania i odkrywania porządków swojego życia. \n\nProwadzenie: dr Łukasz Marciniak\n\nDoktor nauk społecznych\, certyfikowany coach\, terapeuta ustawień systemowych. Jest właścicielem grupy Atmagon\, dyrektorem Pracowni Rozwoju Kompetencji\, współzałożycielem Holi Centrum Mindfulness\, wykładowcą Uniwersytetu Łódzkiego i koordynatorem studiów podyplomowych Life-coachingu na UŁ\, Specjalizuje się w pogłębionej pracy z tożsamością\, wspieraniu transformacji osobistej i organizacyjnej\, rozwiązaniach systemowych w oparciu o Hellinger sciencia® i metody nowych cichych ustawień rodzin. Regularnie uczestniczy w seminariach Güntera Schrickera\, Gerharda Walpera\, Wolfganga Deussera oraz Szkoły Nowych Ustawień Rodzin metodą Berta Hellingera (Hellinger Polska oraz Taunus-Institut für Stilles Familienstellen). Jest aktywnym członkiem International Systemic Constellations Association. \nORGANIZACJA\n16-17.06.17r.: piątek 16.00 – 19.30\, sobota 9.00 – 18.00\nzapisy: klub@centrumholi.pl\nPromocje i rabaty:\n320 zł – wczesna rezerwacja\, wpłata do 31.05.\n370 zł – wpłata od 1.05.\nPary: 560 zl (wpłata do 31.05)\, 610 zł (wpłata od 1.06) \nKolejne warsztaty w cyklu:\nOCZYSZCZENIE. Przywracając harmonię życia\nSPEŁNIENIE. Droga ku porządkom miłości
URL:https://centrumholi.pl/event/odkrycie-warsztat-nowych-ustawien-systemowych-4/
CATEGORIES:Rozwój Osobisty,Ustawienia Systemowe
ATTACH;FMTTYPE=:
END:VEVENT
BEGIN:VEVENT
DTSTART;TZID=Europe/Warsaw:20170304T090000
DTEND;TZID=Europe/Warsaw:20170305T160000
DTSTAMP:20260419T151242
CREATED:20170130T235342Z
LAST-MODIFIED:20170130T235342Z
UID:798-1488618000-1488729600@centrumholi.pl
SUMMARY:Warsztat Nowych Ustawień Systemowych. Oczyszczenie
DESCRIPTION:OCZYSZCZENIE™ Przywracając harmonię życia\nZapraszamy na warsztaty Nowych Ustawień Systemowych. To czas\, w którym doświadczysz głębokiej transformacji i integralności. \nCo powstrzymuje przed zrobieniem kroku?\nCo nadaje ten szalony pęd aż do utraty tchu?\nNa co obawiasz się popatrzeć? Od czego nie możesz oderwać wzroku?\nO czym boisz się marzyć?\nCo stoi za wycofaniem? Co stoi za brawurą?\nSkąd w Tobie gniew? Skąd uległość?\nNieokiełznane albo stłamszone\, niewidziane lub odrzucone\, co skryte za uśmiechem albo łzami… Czego brakuje? Jak długo jeszcze? Za jaką cenę? \nZapraszamy do pracy nad wprowadzaniem harmonii w swoim życiu\, rodzinie\, relacjach\, pracy\, zdrowiu. Każde oczyszczenie zaczyna się od dostrzeżenia ukrytych schematów swojego życia\, systemowych blokad\, od spojrzenia w głąb siebie\, na to co schowane w cieniu\, odrzucone\, ale zarazem najmocniej oddziałujące na nasze życie. \nPodczas warsztatu będziemy pracować wykorzystując naukę o związkach i relacjach międzyludzkich leżących u podstaw każdej sfery życia. Metodą nowych ustawień systemowych będziemy oczyszczać to co nieuporządkowane\, mętne i wykluczone w sobie i w relacjach. \nTen moment\, w którym przeszłość styka się z przyszłością\, tu i teraz\, jest najlepszym\, żeby coś zmienić lub pozostawić z akceptacją. To czas oczyszczania i przywracania harmonii swojego życia. \nProwadzenie: dr Łukasz Marciniak\nDoktor nauk społecznych\, terapeuta ustawień systemowych\, certyfikowany coach. Jest właścicielem grupy Atmagon\, dyrektorem Pracowni Rozwoju Kompetencji\, współzałożycielem Holi Centrum Mindfulness\, wykładowcą Uniwersytetu Łódzkiego i koordynatorem studiów podyplomowych Life-coachingu na UŁ. Specjalizuje się w pogłębionej pracy z tożsamością\, wspieraniu transformacji osobistej i organizacyjnej\, rozwiązaniach systemowych w oparciu o praktykę Berta Hellingera i metody nowych cichych ustawień rodzin. Regularnie uczestniczy w seminariach Güntera Schrickera\, Gerharda Walpera\, Wolfganga Deussera oraz Szkoły Nowych Ustawień Rodzin (Hellinger Polska oraz Taunus-Institut für Stilles Familienstellen). Jest aktywnym członkiem International Systemic Constellations Association. \n  \nORGANIZACJA\n4-5.03.17r.: sobota 9.00 – 17.30\, niedziela 9.00 – 16.00\nzapisy: klub@centrumholi.pl \nPromocje i rabaty:\n290 zł – wczesna rezerwacja\, wpłata do 22 lutego\n320 zł – wpłata 22-28 lutego\n350 zł – wpłata po 28 lutego\nPary: 500 zl (wpłata do 22.02)\, 550 zł (wpłata po 22.02) \nUwaga: w warsztacie mogą uczestniczyć osoby\, które wcześniej brały udział w warsztacie Odkrycie™ lub doświadczały już wcześniej pracy ustawieniowej lub innych metod samoregulacji\, uzdrawiania relacji\, pracy z traumą (zainteresowanych prosimy o wcześniejszy kontakt) \nKolejne warsztaty w cyklu:\nSPEŁNIENIE. Droga ku porządkom miłości (czerwiec 2017)\nODKRYCIE. W poszukiwaniu porządków życia (luty\, kwiecień 2017)
URL:https://centrumholi.pl/event/warsztat-nowych-ustawien-systemowych-oczyszczenie/
CATEGORIES:Rozwój Osobisty,Ustawienia Systemowe
ATTACH;FMTTYPE=:
END:VEVENT
BEGIN:VEVENT
DTSTART;TZID=Europe/Warsaw:20170217T160000
DTEND;TZID=Europe/Warsaw:20170218T180000
DTSTAMP:20260419T151242
CREATED:20170118T104523Z
LAST-MODIFIED:20170118T104523Z
UID:790-1487347200-1487440800@centrumholi.pl
SUMMARY:ODKRYCIE.  Warsztat Nowych Ustawień Systemowych
DESCRIPTION:ODKRYCIE. W poszukiwaniu porządków życia.\nTrzecia edycja!!\nZapraszamy na warsztaty Nowych Ustawień Systemowych. To czas\, w którym doświadczysz głębokiej transformacji i integralności. \nNasze życie jak kalejdoskop zdarzeń\, unikalnych i powtarzalnych zarazem\nBiografia – pełna wzlotów i upadków\nZdrowie – niczym zwierciadło dla kondycji międzyludzkich relacji\nKariera – pełna wyzwań przynoszących brak satysfakcji\nPraca – w ciągłym pędzie stojąc w miejscu\nRodzina i relacje – pełne emocji\, rozstań i powrotów\nMiłość – wytęskniona choć wszechobecna \nNasze życia\, tak przepełnione po brzegi\, a wciąż niepełne szczęścia. \nZapraszamy wszystkich zainteresowanych zrozumieniem i przepracowaniem ukrytych schematów swojego życia\, niepowodzeń i blokad\, poszukujących sposobu na poprawę swoich relacji międzyludzkich\, w rodzinie i w pracy. \nPodczas warsztatu będziemy pracować wykorzystując naukę o związkach i relacjach międzyludzkich leżących u podstaw każdej sfery życia. Metodą nowych ustawień systemowych będziemy odkrywać to co niewidziane\, ukryte i wykluczone w systemie rodzinnym. \nTen moment\, w którym przeszłość styka się z przyszłością\, tu i teraz\, jest najlepszym żeby coś zmienić lub pozostawić z akceptacją. To czas poszukiwania i odkrywania porządków swojego życia.\n \n\nProwadzenie: dr Łukasz Marciniak\n\nDoktor nauk społecznych\, certyfikowany coach\, terapeuta ustawień systemowych. Jest właścicielem grupy Atmagon\, dyrektorem Pracowni Rozwoju Kompetencji\, współzałożycielem Holi Centrum Mindfulness\, wykładowcą Uniwersytetu Łódzkiego i koordynatorem studiów podyplomowych Life-coachingu na UŁ\, Specjalizuje się w pogłębionej pracy z tożsamością\, wspieraniu transformacji osobistej i organizacyjnej\, rozwiązaniach systemowych w oparciu o Hellinger sciencia® i metody nowych cichych ustawień rodzin. Regularnie uczestniczy w seminariach Güntera Schrickera\, Gerharda Walpera\, Wolfganga Deussera oraz Szkoły Nowych Ustawień Rodzin metodą Berta Hellingera (Hellinger Polska oraz Taunus-Institut für Stilles Familienstellen). Jest aktywnym członkiem International Systemic Constellations Association. \nORGANIZACJA\n17-18.02.17r.: piątek 16.00 – 19.30\, sobota 9.00 – 18.00\nzapisy: klub@centrumholi.pl\nPromocje i rabaty:\n290 zł – wczesna rezerwacja\, wpłata do 31.01.\n320 zł – wpłata 1-10 lutego\n350 zł – wpłata po 10 lutego\nPary: 500 zl (wpłata do 31.01)\, 550 zł (wpłata po 1.02) \nKolejne warsztaty w cyklu:\nOCZYSZCZENIE. Przywracając harmonię życia (marzec 2017)\nSPEŁNIENIE. Droga ku porządkom miłości (czerwiec 2017)
URL:https://centrumholi.pl/event/odkrycie-warsztat-nowych-ustawien-systemowych-3/
CATEGORIES:Rozwój Osobisty,Ustawienia Systemowe
ATTACH;FMTTYPE=:
END:VEVENT
BEGIN:VEVENT
DTSTART;TZID=Europe/Warsaw:20170113T160000
DTEND;TZID=Europe/Warsaw:20170114T173000
DTSTAMP:20260419T151242
CREATED:20161122T232957Z
LAST-MODIFIED:20161122T232957Z
UID:712-1484323200-1484415000@centrumholi.pl
SUMMARY:ODKRYCIE. Warsztat Nowych Ustawień Systemowych
DESCRIPTION:ODKRYCIE. W poszukiwaniu porządków życia. \nDruga edycja. \nZapraszamy na warsztaty Nowych Ustawień Systemowych. To czas\, w którym doświadczysz głębokiej transformacji i integralności. \nNasze życie jak kalejdoskop zdarzeń\, unikalnych i powtarzalnych zarazem \nBiografia – pełna wzlotów i upadków \nZdrowie – niczym zwierciadło dla kondycji międzyludzkich relacji \nKariera – pełna wyzwań przynoszących brak satysfakcji \nPraca – w ciągłym pędzie stojąc w miejscu \nRodzina i relacje – pełne emocji\, rozstań i powrotów \nMiłość – wytęskniona choć wszechobecna \nNasze życia\, tak przepełnione po brzegi\, a wciąż niepełne szczęścia. \nZapraszamy wszystkich zainteresowanych zrozumieniem i przepracowaniem ukrytych schematów swojego życia\, niepowodzeń i blokad\, poszukujących sposobu na poprawę swoich relacji międzyludzkich\, w rodzinie i w pracy. \nPodczas warsztatu będziemy pracować wykorzystując Hellinger sciencia® – naukę o związkach i relacjach międzyludzkich leżących u podstaw każdej sfery życia. Metodą nowych ustawień systemowych będziemy odkrywać to co niewidziane\, ukryte i wykluczone w systemie rodzinnym. \nTen moment\, w którym przeszłość styka się z przyszłością\, tu i teraz\, jest najlepszym żeby coś zmienić lub pozostawić z akceptacją. To czas poszukiwania i odkrywania porządków swojego życia. \nProwadzenie: dr Łukasz Marciniak \nDoktor nauk społecznych\, certyfikowany coach\, terapeuta ustawień systemowych. Jest właścicielem grupy Atmagon\, dyrektorem Pracowni Rozwoju Kompetencji\, współzałożycielem Holi Centrum Mindfulness\, wykładowcą Uniwersytetu Łódzkiego i koordynatorem studiów podyplomowych Life-coachingu na UŁ\, Specjalizuje się w pogłębionej pracy z tożsamością\, wspieraniu transformacji osobistej i organizacyjnej\, rozwiązaniach systemowych w oparciu o Hellinger sciencia® i metody nowych cichych ustawień rodzin. Regularnie uczestniczy w seminariach Güntera Schrickera\, Gerharda Walpera\, Wolfganga Deussera oraz Szkoły Nowych Ustawień Rodzin metodą Berta Hellingera (Hellinger Polska oraz Taunus-Institut für Stilles Familienstellen). Jest aktywnym członkiem International Systemic Constellation Association \nORGANIZACJA \n\n13-14.01.17r.: piątek 16.00 – 19.00\, sobota 9.30 – 17.30\nzapisy: klub@centrumholi.pl\ncena:\n\n\nprzy wpłacie do 7.01.17r. 290 zł.\, \n350 zł po 7.01.17\n\n\n\nKolejne warsztaty w cyklu: \nOCZYSZCZENIE. Przywracając harmonię życia (luty 2017) \nSPEŁNIENIE. Droga ku porządkom miłości (kwiecień 2017)
URL:https://centrumholi.pl/event/odkrycie-warsztat-nowych-ustawien-systemowych-2/
CATEGORIES:Rozwój Osobisty
ATTACH;FMTTYPE=:
END:VEVENT
END:VCALENDAR